BEGIN:VCALENDAR
VERSION:2.0
PRODID:-//Black River Area Chamber of Commerce - ECPv6.15.20//NONSGML v1.0//EN
CALSCALE:GREGORIAN
METHOD:PUBLISH
X-WR-CALNAME:Black River Area Chamber of Commerce
X-ORIGINAL-URL:https://www.blackrivercountry.net
X-WR-CALDESC:Events for Black River Area Chamber of Commerce
REFRESH-INTERVAL;VALUE=DURATION:PT1H
X-Robots-Tag:noindex
X-PUBLISHED-TTL:PT1H
BEGIN:VTIMEZONE
TZID:America/Chicago
BEGIN:DAYLIGHT
TZOFFSETFROM:-0600
TZOFFSETTO:-0500
TZNAME:CDT
DTSTART:20250309T080000
END:DAYLIGHT
BEGIN:STANDARD
TZOFFSETFROM:-0500
TZOFFSETTO:-0600
TZNAME:CST
DTSTART:20251102T070000
END:STANDARD
BEGIN:DAYLIGHT
TZOFFSETFROM:-0600
TZOFFSETTO:-0500
TZNAME:CDT
DTSTART:20260308T080000
END:DAYLIGHT
BEGIN:STANDARD
TZOFFSETFROM:-0500
TZOFFSETTO:-0600
TZNAME:CST
DTSTART:20261101T070000
END:STANDARD
BEGIN:DAYLIGHT
TZOFFSETFROM:-0600
TZOFFSETTO:-0500
TZNAME:CDT
DTSTART:20270314T080000
END:DAYLIGHT
BEGIN:STANDARD
TZOFFSETFROM:-0500
TZOFFSETTO:-0600
TZNAME:CST
DTSTART:20271107T070000
END:STANDARD
END:VTIMEZONE
BEGIN:VEVENT
DTSTART;VALUE=DATE:20260209
DTEND;VALUE=DATE:20260513
DTSTAMP:20260421T044143
CREATED:20260209T210646Z
LAST-MODIFIED:20260219T190601Z
UID:10009825-1770645600-1778598000@www.blackrivercountry.net
SUMMARY:Forget Me Nots Spring Choir
DESCRIPTION:
URL:https://www.blackrivercountry.net/event/forget-me-nots-spring-choir/2026-02-09/
ATTACH;FMTTYPE=image/jpeg:https://www.blackrivercountry.net/wp-content/uploads/Spring-Memory-Choir-2026.jpg
END:VEVENT
BEGIN:VEVENT
DTSTART;VALUE=DATE:20260402
DTEND;VALUE=DATE:20260502
DTSTAMP:20260421T044143
CREATED:20260402T164144Z
LAST-MODIFIED:20260402T164144Z
UID:10010409-1775098800-1777604399@www.blackrivercountry.net
SUMMARY:April Family Scavenger Hunt!
DESCRIPTION:
URL:https://www.blackrivercountry.net/event/april-family-scavenger-hunt/
ATTACH;FMTTYPE=image/jpeg:https://www.blackrivercountry.net/wp-content/uploads/661601261_1257926483139689_6142045128171794949_n.jpg
END:VEVENT
BEGIN:VEVENT
DTSTART;VALUE=DATE:20260413
DTEND;VALUE=DATE:20260616
DTSTAMP:20260421T044143
CREATED:20260413T202728Z
LAST-MODIFIED:20260413T202728Z
UID:10010581-1776049200-1781492399@www.blackrivercountry.net
SUMMARY:Sign up now - Boys & Girls Club Summer Camp
DESCRIPTION:
URL:https://www.blackrivercountry.net/event/sign-up-now-boys-girls-club-summer-camp/
LOCATION:Lunda Community Center\, 405 WI-54 Trunk\, Black River Falls\, WI\, 54615\, United States
ATTACH;FMTTYPE=image/jpeg:https://www.blackrivercountry.net/wp-content/uploads/672680373_122131567425046611_5845073317891966813_n.jpg
GEO:44.2909017;-90.8632686
X-APPLE-STRUCTURED-LOCATION;VALUE=URI;X-ADDRESS=Lunda Community Center 405 WI-54 Trunk Black River Falls WI 54615 United States;X-APPLE-RADIUS=500;X-TITLE=405 WI-54 Trunk:geo:-90.8632686,44.2909017
END:VEVENT
BEGIN:VEVENT
DTSTART;TZID=America/Chicago:20260419T080000
DTEND;TZID=America/Chicago:20260425T170000
DTSTAMP:20260421T044143
CREATED:20260225T180045Z
LAST-MODIFIED:20260225T180045Z
UID:10010066-1776585600-1777136400@www.blackrivercountry.net
SUMMARY:WWII artifacts and History of Corporal Mitchell Red Cloud Jr @ Jackson County Historical Society
DESCRIPTION:
URL:https://www.blackrivercountry.net/event/wwii-artifacts-and-history-of-corporal-mitchell-red-cloud-jr-jackson-county-historical-society/
ATTACH;FMTTYPE=image/jpeg:https://www.blackrivercountry.net/wp-content/uploads/Jackson-County-Reads-1.jpg
END:VEVENT
BEGIN:VEVENT
DTSTART;TZID=America/Chicago:20260421T090000
DTEND;TZID=America/Chicago:20260421T130000
DTSTAMP:20260421T044143
CREATED:20260414T154308Z
LAST-MODIFIED:20260418T131822Z
UID:10009419-1776762000-1776776400@www.blackrivercountry.net
SUMMARY:Career Navigator @Black River Falls Public Library
DESCRIPTION:Takes place at the Library on the third Tuesday of the month from 9 a.m. to 1 p.m. Please help us spread the word about this resource. It is a wonderful opportunity for anyone navigating the job market or needing assistance in any of the areas mentioned below.
URL:https://www.blackrivercountry.net/event/career-navigator-ho-chunk-gaming-black-river-falls-2/2026-04-21/
LOCATION:Black River Falls Public Library\, 222 Filmore St\, Black River Falls\, WI\, 54615\, United States
ATTACH;FMTTYPE=image/jpeg:https://www.blackrivercountry.net/wp-content/uploads/568758982_1218740330286939_1644973392158548565_n.jpg
GEO:44.2936601;-90.8504623
X-APPLE-STRUCTURED-LOCATION;VALUE=URI;X-ADDRESS=Black River Falls Public Library 222 Filmore St Black River Falls WI 54615 United States;X-APPLE-RADIUS=500;X-TITLE=222 Filmore St:geo:-90.8504623,44.2936601
END:VEVENT
BEGIN:VEVENT
DTSTART;TZID=America/Chicago:20260421T090000
DTEND;TZID=America/Chicago:20260421T170000
DTSTAMP:20260421T044143
CREATED:20260309T150109Z
LAST-MODIFIED:20260309T150109Z
UID:10010211-1776762000-1776790800@www.blackrivercountry.net
SUMMARY:Assistive Technology Learning Lab
DESCRIPTION:
URL:https://www.blackrivercountry.net/event/assistive-technology-learning-lab/
ATTACH;FMTTYPE=image/png:https://www.blackrivercountry.net/wp-content/uploads/Screenshot-2026-03-09-095937.png
END:VEVENT
BEGIN:VEVENT
DTSTART;TZID=America/Chicago:20260421T133000
DTEND;TZID=America/Chicago:20260421T150000
DTSTAMP:20260421T044143
CREATED:20260406T204607Z
LAST-MODIFIED:20260406T204607Z
UID:10008617-1776778200-1776783600@www.blackrivercountry.net
SUMMARY:Parkinson's Support Group
DESCRIPTION:The Parkinson’s Support Group will meet at Pine View Terrace on Tuesday\, April 21 at 1:30pm. \nWe’re excited to welcome Angelika\, Music Therapist with Life in Harmony (West Salem). She’ll lead the group in engaging activities that support communication\, motor skills\, and cognitive skills.
URL:https://www.blackrivercountry.net/event/parkinsons-support-group-2/
ATTACH;FMTTYPE=image/png:https://www.blackrivercountry.net/wp-content/uploads/Parkinsons-group.png
END:VEVENT
BEGIN:VEVENT
DTSTART;TZID=America/Chicago:20260421T190000
DTEND;TZID=America/Chicago:20260421T210000
DTSTAMP:20260421T044143
CREATED:20260106T175712Z
LAST-MODIFIED:20260415T001617Z
UID:10009160-1776798000-1776805200@www.blackrivercountry.net
SUMMARY:Rozario's Trivia Night
DESCRIPTION:Put your thinking caps on! Next Tuesday it’s Trivia Night at Rozario’s Pizza\, Pasta\, and Pub in Black River Falls! Starting at 7:00 PM\, bring your team to 42 North 1st Street for great food\, cold drinks\, and brain-teasing fun. It’s free to play and the perfect way to spend your Tuesday night.
URL:https://www.blackrivercountry.net/event/rozarios-trivia-night/2026-04-21/
LOCATION:Rozario’s Pizza Pasta Pub\, 42 N 1st St\, Black River Falls\, WI\, 54615\, United States
ATTACH;FMTTYPE=image/jpeg:https://www.blackrivercountry.net/wp-content/uploads/415519650_858493506278630_1467434810096093052_n-1-1.jpg
GEO:44.2958195;-90.8489453
X-APPLE-STRUCTURED-LOCATION;VALUE=URI;X-ADDRESS=Rozario’s Pizza Pasta Pub 42 N 1st St Black River Falls WI 54615 United States;X-APPLE-RADIUS=500;X-TITLE=42 N 1st St:geo:-90.8489453,44.2958195
END:VEVENT
END:VCALENDAR