BEGIN:VCALENDAR
VERSION:2.0
PRODID:-//Black River Area Chamber of Commerce - ECPv6.15.20//NONSGML v1.0//EN
CALSCALE:GREGORIAN
METHOD:PUBLISH
X-WR-CALNAME:Black River Area Chamber of Commerce
X-ORIGINAL-URL:https://www.blackrivercountry.net
X-WR-CALDESC:Events for Black River Area Chamber of Commerce
REFRESH-INTERVAL;VALUE=DURATION:PT1H
X-Robots-Tag:noindex
X-PUBLISHED-TTL:PT1H
BEGIN:VTIMEZONE
TZID:America/Chicago
BEGIN:DAYLIGHT
TZOFFSETFROM:-0600
TZOFFSETTO:-0500
TZNAME:CDT
DTSTART:20240310T080000
END:DAYLIGHT
BEGIN:STANDARD
TZOFFSETFROM:-0500
TZOFFSETTO:-0600
TZNAME:CST
DTSTART:20241103T070000
END:STANDARD
BEGIN:DAYLIGHT
TZOFFSETFROM:-0600
TZOFFSETTO:-0500
TZNAME:CDT
DTSTART:20250309T080000
END:DAYLIGHT
BEGIN:STANDARD
TZOFFSETFROM:-0500
TZOFFSETTO:-0600
TZNAME:CST
DTSTART:20251102T070000
END:STANDARD
BEGIN:DAYLIGHT
TZOFFSETFROM:-0600
TZOFFSETTO:-0500
TZNAME:CDT
DTSTART:20260308T080000
END:DAYLIGHT
BEGIN:STANDARD
TZOFFSETFROM:-0500
TZOFFSETTO:-0600
TZNAME:CST
DTSTART:20261101T070000
END:STANDARD
END:VTIMEZONE
BEGIN:VEVENT
DTSTART;TZID=America/Chicago:20250725T180000
DTEND;TZID=America/Chicago:20250725T220000
DTSTAMP:20260421T092614
CREATED:20250721T152142Z
LAST-MODIFIED:20250721T152142Z
UID:10008440-1753466400-1753480800@www.blackrivercountry.net
SUMMARY:July Bike Night with Uncle Ron @ McSweet's Irish Pub
DESCRIPTION:
URL:https://www.blackrivercountry.net/event/july-bike-night-with-uncle-ron-mcsweets-irish-pub/
END:VEVENT
BEGIN:VEVENT
DTSTART;TZID=America/Chicago:20250725T173000
DTEND;TZID=America/Chicago:20250725T190000
DTSTAMP:20260421T092614
CREATED:20250702T151445Z
LAST-MODIFIED:20250702T151445Z
UID:10008391-1753464600-1753470000@www.blackrivercountry.net
SUMMARY:Bingo Night @ Creekside Winery
DESCRIPTION:
URL:https://www.blackrivercountry.net/event/bingo-night-creekside-winery-2/
END:VEVENT
BEGIN:VEVENT
DTSTART;TZID=America/Chicago:20250725T123000
DTEND;TZID=America/Chicago:20250725T140000
DTSTAMP:20260421T092614
CREATED:20250630T201959Z
LAST-MODIFIED:20250630T201959Z
UID:10008386-1753446600-1753452000@www.blackrivercountry.net
SUMMARY:Paint a Pet (Youth) @ Black River Falls Public Library
DESCRIPTION:Paint a Pet (Youth): Registration Required\n\nJuly 25 @ 12:30 pm – 2:00 pm\n\n\n\nAges 8-11 \n\n\n\n\n Add to calendar\n\n\n\n\n\nDetails\n\nDate:\nJuly 25\nTime:\n\n12:30 pm – 2:00 pm\n715-284-4112
URL:https://www.blackrivercountry.net/event/paint-a-pet-youth-black-river-falls-public-library/
END:VEVENT
BEGIN:VEVENT
DTSTART;TZID=America/Chicago:20250725T100000
DTEND;TZID=America/Chicago:20250725T150000
DTSTAMP:20260421T092614
CREATED:20250708T162418Z
LAST-MODIFIED:20250708T162418Z
UID:10008405-1753437600-1753455600@www.blackrivercountry.net
SUMMARY:Black River Health Blood Drive
DESCRIPTION:
URL:https://www.blackrivercountry.net/event/black-river-health-blood-drive/
END:VEVENT
BEGIN:VEVENT
DTSTART;TZID=America/Chicago:20250725T100000
DTEND;TZID=America/Chicago:20250725T140000
DTSTAMP:20260421T092614
CREATED:20250520T155252Z
LAST-MODIFIED:20250520T155252Z
UID:10007678-1753437600-1753452000@www.blackrivercountry.net
SUMMARY:Carnegie Museum open for the 2025 season
DESCRIPTION:Carnegie Museum opening for the 2025 season. Opening Friday May 2\, 2025 through September 26\, 2025. Regular hours will be Fridays & Saturdays from 10am to 2pm. Spring Creek Schoolhouse Museum will be open May through September on the first Sunday of each month from 12 (Noon) to 3pm\, opening date May 4th\, 2025 through September 7th\, 2025. Both Museums are available to open by appointment.Local history and genealogy research center can be made by appointment.
URL:https://www.blackrivercountry.net/event/carnegie-museum-open-for-the-2025-season/2025-07-25/
ATTACH;FMTTYPE=image/jpeg:https://www.blackrivercountry.net/wp-content/uploads/494150069_1225665596226231_4174473114499380994_n-1.jpg
END:VEVENT
BEGIN:VEVENT
DTSTART;VALUE=DATE:20250725
DTEND;VALUE=DATE:20251012
DTSTAMP:20260421T092614
CREATED:20250725T151230Z
LAST-MODIFIED:20250725T151230Z
UID:10008443-1753412400-1760151599@www.blackrivercountry.net
SUMMARY:Rhyme & Rage @ Ho-Chunk Gaming Black River Falls
DESCRIPTION:
URL:https://www.blackrivercountry.net/event/rhyme-rage-ho-chunk-gaming-black-river-falls/
END:VEVENT
BEGIN:VEVENT
DTSTART;TZID=America/Chicago:20250724T170000
DTEND;TZID=America/Chicago:20250724T200000
DTSTAMP:20260421T092614
CREATED:20250508T151430Z
LAST-MODIFIED:20250602T163324Z
UID:10007627-1753376400-1753387200@www.blackrivercountry.net
SUMMARY:Merrillan Meals & Music @ Gile Memorial Park
DESCRIPTION:There’s an open seat just for you every 4 Thursday of the summer at Gile Memorial Park in Merrillan! Enjoy a free meal and live music!\n5-6:30 Free Community Dinner\n5:30 Message\n5:45 Live Music\n\n\nMusicians Playing:\n6/26 – Derek Brown\n7/24 – Blaine and Leah Howard\n8/28 – Brian Pearson and Bill Laurent\n\n\nHosted by collaboration of the Merrillan Lions Club\, Alma Center Assembly of God Church\, and Countryside Evangelical Free Church
URL:https://www.blackrivercountry.net/event/merrillan-meals-music-gile-memorial-park/2025-07-24/
END:VEVENT
BEGIN:VEVENT
DTSTART;TZID=America/Chicago:20250724T160000
DTEND;TZID=America/Chicago:20250724T200000
DTSTAMP:20260421T092614
CREATED:20250612T161903Z
LAST-MODIFIED:20250612T180614Z
UID:10007813-1753372800-1753387200@www.blackrivercountry.net
SUMMARY:Open Mic Night @McSweets Irish Pub
DESCRIPTION:https://www.facebook.com/profile.php?id=100063454330338 \nCheck the link for updates
URL:https://www.blackrivercountry.net/event/open-mic-night-mcsweets-irish-pub-3/2025-07-24/
ATTACH;FMTTYPE=image/png:https://www.blackrivercountry.net/wp-content/uploads/Every-other-Thursday.png
END:VEVENT
BEGIN:VEVENT
DTSTART;TZID=America/Chicago:20250724T110000
DTEND;TZID=America/Chicago:20250724T140000
DTSTAMP:20260421T092614
CREATED:20250610T190427Z
LAST-MODIFIED:20250610T190427Z
UID:10007796-1753354800-1753365600@www.blackrivercountry.net
SUMMARY:Community Connect- Jackson County Homeless Coalition
DESCRIPTION:
URL:https://www.blackrivercountry.net/event/community-connect-jackson-county-homeless-coalition/
END:VEVENT
BEGIN:VEVENT
DTSTART;TZID=America/Chicago:20250723T180000
DTEND;TZID=America/Chicago:20250723T180000
DTSTAMP:20260421T092614
CREATED:20250611T160600Z
LAST-MODIFIED:20250619T170146Z
UID:10007800-1753293600-1753293600@www.blackrivercountry.net
SUMMARY:Melrose Movies in the Park
DESCRIPTION:For updates visit https://www.facebook.com/villageof.melrose \n  \nVillage of Melrose Wisconsin “Tank” Park\nThe Village of Melrose “Tank” Park\, with its signature World War II era tank\, is located at the corner of Third Street and West Hogg Street. Facilities include a basketball court\, playground equipment\, an open-sided picnic shelter\, and restroom facilities. \nThe shelter may be rented for picnics and parties. Contact the Village Clerk for reservations at (608) 488-3191 or download a shelter reservation form from this website and present it to the Clerk with your rental fee. \nTo reserve the park facilities: New Parks Reservation Form
URL:https://www.blackrivercountry.net/event/melrose-movies-in-the-park/2025-07-23/
END:VEVENT
BEGIN:VEVENT
DTSTART;TZID=America/Chicago:20250723T173000
DTEND;TZID=America/Chicago:20250723T193000
DTSTAMP:20260421T092614
CREATED:20241227T162211Z
LAST-MODIFIED:20260414T212427Z
UID:10008117-1753291800-1753299000@www.blackrivercountry.net
SUMMARY:Game Night @Lunda Community Center
DESCRIPTION:
URL:https://www.blackrivercountry.net/event/game-night-all-day-lunda-community-center/2025-07-23/
LOCATION:Lunda Community Center\, 405 WI-54 Trunk\, Black River Falls\, WI\, 54615\, United States
ATTACH;FMTTYPE=image/jpeg:https://www.blackrivercountry.net/wp-content/uploads/669355474_1431586712098600_7873493393374273283_n.jpg
GEO:44.2909017;-90.8632686
X-APPLE-STRUCTURED-LOCATION;VALUE=URI;X-ADDRESS=Lunda Community Center 405 WI-54 Trunk Black River Falls WI 54615 United States;X-APPLE-RADIUS=500;X-TITLE=405 WI-54 Trunk:geo:-90.8632686,44.2909017
END:VEVENT
BEGIN:VEVENT
DTSTART;TZID=America/Chicago:20250723T173000
DTEND;TZID=America/Chicago:20250723T183000
DTSTAMP:20260421T092614
CREATED:20250617T154837Z
LAST-MODIFIED:20260203T152031Z
UID:10007835-1753291800-1753295400@www.blackrivercountry.net
SUMMARY:Dinner Church Hosted By Black River Falls Methodist Church.
DESCRIPTION:
URL:https://www.blackrivercountry.net/event/dinner-church-hosted-by-black-river-falls-methodist-church/2025-07-23/
ATTACH;FMTTYPE=image/jpeg:https://www.blackrivercountry.net/wp-content/uploads/488889400_1081195334051804_805918472982756091_n.jpg
END:VEVENT
BEGIN:VEVENT
DTSTART;TZID=America/Chicago:20250723T140000
DTEND;TZID=America/Chicago:20250723T180000
DTSTAMP:20260421T092614
CREATED:20250331T154210Z
LAST-MODIFIED:20250407T151137Z
UID:10007286-1753279200-1753293600@www.blackrivercountry.net
SUMMARY:Jackson County Farmer's Market
DESCRIPTION:https://jacksoncountyfarmersmarketwi.com/
URL:https://www.blackrivercountry.net/event/jackson-county-farmers-market/2025-07-23/
ATTACH;FMTTYPE=image/jpeg:https://www.blackrivercountry.net/wp-content/uploads/486556373_1194120882716048_2855142741931307268_n.jpg
END:VEVENT
BEGIN:VEVENT
DTSTART;TZID=America/Chicago:20250723T130000
DTEND;TZID=America/Chicago:20250723T150000
DTSTAMP:20260421T092614
CREATED:20250715T163352Z
LAST-MODIFIED:20250715T163352Z
UID:10008427-1753275600-1753282800@www.blackrivercountry.net
SUMMARY:Pine View Care Center Car Show
DESCRIPTION:
URL:https://www.blackrivercountry.net/event/pine-view-care-center-car-show/
END:VEVENT
BEGIN:VEVENT
DTSTART;TZID=America/Chicago:20250723T100000
DTEND;TZID=America/Chicago:20250723T120000
DTSTAMP:20260421T092614
CREATED:20250630T201813Z
LAST-MODIFIED:20250630T201813Z
UID:10008385-1753264800-1753272000@www.blackrivercountry.net
SUMMARY:Make Your Own Fairy Light (Youth) @ Black River Falls Public Library
DESCRIPTION:  \nMake Your Own Fairy Light (Youth): Registration Required\n\nJuly 23 @ 10:00 am – 12:30 pm\n\n\n\nMake your own Fairy Light! ages 10-18 Registration is REQUIRED. Limited supplies. \n\n\n\n\n Add to calendar\n\n\n\n\n\nDetails\n\nDate:\nJuly 23\nTime:\n\n10:00 am – 12:30 pm\n\n\n\n\nVenue\n\n\nBlack River Falls Public Library\n\n\n222 Fillmore St\nBlack River Falls\, WI 54615 United States + Google Map\n\nPhone\n7152844112
URL:https://www.blackrivercountry.net/event/make-your-own-fairy-light-youth-black-river-falls-public-library/
END:VEVENT
BEGIN:VEVENT
DTSTART;VALUE=DATE:20250723
DTEND;VALUE=DATE:20250725
DTSTAMP:20260421T092614
CREATED:20250522T160122Z
LAST-MODIFIED:20250522T160122Z
UID:10007705-1753239600-1753325999@www.blackrivercountry.net
SUMMARY:Summer Food Program
DESCRIPTION:
URL:https://www.blackrivercountry.net/event/summer-food-program/2025-07-23/
END:VEVENT
BEGIN:VEVENT
DTSTART;TZID=America/Chicago:20250722T190000
DTEND;TZID=America/Chicago:20250722T190000
DTSTAMP:20260421T092614
CREATED:20250513T202409Z
LAST-MODIFIED:20250513T202409Z
UID:10007646-1753210800-1753210800@www.blackrivercountry.net
SUMMARY:2025 Concerts in the Park
DESCRIPTION:
URL:https://www.blackrivercountry.net/event/2025-concerts-in-the-park/2025-07-22/
END:VEVENT
BEGIN:VEVENT
DTSTART;TZID=America/Chicago:20250722T190000
DTEND;TZID=America/Chicago:20250722T190000
DTSTAMP:20260421T092614
CREATED:20241212T175224Z
LAST-MODIFIED:20241226T163439Z
UID:10006555-1753210800-1753210800@www.blackrivercountry.net
SUMMARY:Tuesday Trivia @ Rozarios
DESCRIPTION:Cold drinks. Hot food. Tons of fun. Trivia starts at 7:15 pm. So get your team together and come on down. Free to play.
URL:https://www.blackrivercountry.net/event/tuesday-trivia-rozario/2025-07-22/
ATTACH;FMTTYPE=image/jpeg:https://www.blackrivercountry.net/wp-content/uploads/415519650_858493506278630_1467434810096093052_n-1.jpg
END:VEVENT
BEGIN:VEVENT
DTSTART;TZID=America/Chicago:20250722T080000
DTEND;TZID=America/Chicago:20250722T150000
DTSTAMP:20260421T092614
CREATED:20250626T190204Z
LAST-MODIFIED:20250626T190204Z
UID:10008375-1753171200-1753196400@www.blackrivercountry.net
SUMMARY:Nutman Sale @ Black River Healthcare
DESCRIPTION:
URL:https://www.blackrivercountry.net/event/nutman-sale-black-river-healthcare/
END:VEVENT
BEGIN:VEVENT
DTSTART;TZID=America/Chicago:20250721T090000
DTEND;TZID=America/Chicago:20250721T130000
DTSTAMP:20260421T092614
CREATED:20250617T160454Z
LAST-MODIFIED:20250617T160454Z
UID:10008091-1753088400-1753102800@www.blackrivercountry.net
SUMMARY:Pop-Up Book Sale @ Black River Falls Library.
DESCRIPTION:The first Pop-Up Book Sale was a success\, so why not mark your calendar for the next one? Remember to join us on Monday\, July 21 from 9 a.m. to 1 p.m. to get great titles and support the library. Reminder\, we do not accept book/material donations for pop-up sales.
URL:https://www.blackrivercountry.net/event/pop-up-book-sale-black-river-falls-library/
END:VEVENT
BEGIN:VEVENT
DTSTART;VALUE=DATE:20250720
DTEND;VALUE=DATE:20250721
DTSTAMP:20260421T092614
CREATED:20250529T193327Z
LAST-MODIFIED:20250529T194736Z
UID:10007747-1752998400-1753030800@www.blackrivercountry.net
SUMMARY:Summer Events with Lunda Community Center
DESCRIPTION:
URL:https://www.blackrivercountry.net/event/summer-mindfulness-with-lunda-community-center/2025-07-20/
END:VEVENT
BEGIN:VEVENT
DTSTART;TZID=America/Chicago:20250719T200000
DTEND;TZID=America/Chicago:20250719T230000
DTSTAMP:20260421T092614
CREATED:20250630T161755Z
LAST-MODIFIED:20250630T161755Z
UID:10008376-1752955200-1752966000@www.blackrivercountry.net
SUMMARY:Toner @ Ho-Chunk Gaming Black River Falls
DESCRIPTION:  \n  \nEnjoy some live music from the casino stage with TONER!
URL:https://www.blackrivercountry.net/event/toner-ho-chunk-gaming-black-river-falls/
ATTACH;FMTTYPE=image/jpeg:https://www.blackrivercountry.net/wp-content/uploads/512778010_1299291895530143_6361147607852358809_n.jpg
END:VEVENT
BEGIN:VEVENT
DTSTART;TZID=America/Chicago:20250719T120000
DTEND;TZID=America/Chicago:20250719T170000
DTSTAMP:20260421T092614
CREATED:20250417T151330Z
LAST-MODIFIED:20250708T203411Z
UID:10007581-1752926400-1752944400@www.blackrivercountry.net
SUMMARY:Sip\, Shop & Shimmy @ Creekside Winery
DESCRIPTION:
URL:https://www.blackrivercountry.net/event/sip-shop-shimmy-creekside-winery/
END:VEVENT
BEGIN:VEVENT
DTSTART;TZID=America/Chicago:20250719T100000
DTEND;TZID=America/Chicago:20250719T140000
DTSTAMP:20260421T092614
CREATED:20250527T150609Z
LAST-MODIFIED:20250527T150609Z
UID:10007727-1752919200-1752933600@www.blackrivercountry.net
SUMMARY:BRF Wings Over Wisconsin’s 3rd annual youth fishing event
DESCRIPTION:BRF Wings Over Wisconsin’s 3rd annual youth fishing event is coming up. Register now\, limited spots available. This is a really fun FREE event for families.
URL:https://www.blackrivercountry.net/event/brf-wings-over-wisconsins-3rd-annual-youth-fishing-event/
END:VEVENT
BEGIN:VEVENT
DTSTART;TZID=America/Chicago:20250719T100000
DTEND;TZID=America/Chicago:20250719T140000
DTSTAMP:20260421T092614
CREATED:20250520T155252Z
LAST-MODIFIED:20250520T155252Z
UID:10007677-1752919200-1752933600@www.blackrivercountry.net
SUMMARY:Carnegie Museum open for the 2025 season
DESCRIPTION:Carnegie Museum opening for the 2025 season. Opening Friday May 2\, 2025 through September 26\, 2025. Regular hours will be Fridays & Saturdays from 10am to 2pm. Spring Creek Schoolhouse Museum will be open May through September on the first Sunday of each month from 12 (Noon) to 3pm\, opening date May 4th\, 2025 through September 7th\, 2025. Both Museums are available to open by appointment.Local history and genealogy research center can be made by appointment.
URL:https://www.blackrivercountry.net/event/carnegie-museum-open-for-the-2025-season/2025-07-19/
ATTACH;FMTTYPE=image/jpeg:https://www.blackrivercountry.net/wp-content/uploads/494150069_1225665596226231_4174473114499380994_n-1.jpg
END:VEVENT
BEGIN:VEVENT
DTSTART;TZID=America/Chicago:20250719T090000
DTEND;TZID=America/Chicago:20250719T130000
DTSTAMP:20260421T092614
CREATED:20250407T150937Z
LAST-MODIFIED:20250407T151247Z
UID:10007362-1752915600-1752930000@www.blackrivercountry.net
SUMMARY:Jackson County Farmers Market
DESCRIPTION:https://jacksoncountyfarmersmarketwi.com/
URL:https://www.blackrivercountry.net/event/jackson-county-farmers-market-2-2/2025-07-19/
ATTACH;FMTTYPE=image/jpeg:https://www.blackrivercountry.net/wp-content/uploads/486556373_1194120882716048_2855142741931307268_n.jpg
END:VEVENT
BEGIN:VEVENT
DTSTART;TZID=America/Chicago:20250719T070000
DTEND;TZID=America/Chicago:20250719T170000
DTSTAMP:20260421T092614
CREATED:20250708T152422Z
LAST-MODIFIED:20250708T161822Z
UID:10008400-1752908400-1752944400@www.blackrivercountry.net
SUMMARY:Cain's Orchard U-Pick Blueberry Season
DESCRIPTION:  \nBlueberries are just starting to ripen!\nOur first day of U-Pick blueberries will be this Saturday July 12th\, starting at 7 AM – 5 PM\, or until the ripe berries are gone for the day. This Saturday July 12th the picking conditions will be good! The following varieties will be available: Duke\, Reka\, Northland and a few Patriot. Picking is on Saturdays only at this time as we want to give the berries time to sweeten\, ripen and size. July 19th\, July 26th\, August 2nd\, August 9th and August 16th look to be very good picking conditions as well. It appears as though July 19th\, July 26th and August 2nd will be our peak pickings. We ask that you bring an ice cream pail to pick in. If you do not have one\, we will provide a container with a food safe bag for you to pick into. The price is $1.95 per pound. When paying for your berries you can bring them into the Retail Shop or you can stop by one of the two white tents. The Retail Shop has many new exciting items this year! We again are having a weekly food truck/vendor. Keep an eye out for who it will be this Saturday July 12th! You can follow us here or on our new website:www.cainsorchards.com. We hope to see you soon! We are located just off of I-94\, mile marker exit 105 at: W13885 Cain Road\, Hixton\, WI; ¾ mile East of Hixton off Hwy. 95\, turn onto North Branch Rd\, ¾ mile onto Cain Rd.
URL:https://www.blackrivercountry.net/event/cains-orchard-u-pick-blueberry-season/2025-07-19/
ATTACH;FMTTYPE=image/jpeg:https://www.blackrivercountry.net/wp-content/uploads/518207249_1163777465786474_7436457997656807480_n.jpg
END:VEVENT
BEGIN:VEVENT
DTSTART;VALUE=DATE:20250719
DTEND;VALUE=DATE:20250721
DTSTAMP:20260421T092614
CREATED:20250603T204544Z
LAST-MODIFIED:20250603T204544Z
UID:10007783-1752894000-1752980399@www.blackrivercountry.net
SUMMARY:Rock The Mound
DESCRIPTION:
URL:https://www.blackrivercountry.net/event/rock-the-mound/
END:VEVENT
BEGIN:VEVENT
DTSTART;TZID=America/Chicago:20250718T213000
DTEND;TZID=America/Chicago:20250719T023000
DTSTAMP:20260421T092614
CREATED:20250401T152018Z
LAST-MODIFIED:20250401T152018Z
UID:10007485-1752874200-1752892200@www.blackrivercountry.net
SUMMARY:Karaoke at Sunset Tavern 9:30pm - Close
DESCRIPTION:Karaoke at Sunset Tavern with your karaoke host Derek and bartenders Josie\, Shayla\, Alyssa and the crew!Cold beer\, awesome mixed drinks\, amazing atmosphere and karaoke with me your creatively dressed host.
URL:https://www.blackrivercountry.net/event/karaoke-at-sunset-tavern-930pm-close-2/2025-07-18/
ATTACH;FMTTYPE=image/png:https://www.blackrivercountry.net/wp-content/uploads/sunset-karaoje.PNG
END:VEVENT
BEGIN:VEVENT
DTSTART;TZID=America/Chicago:20250718T100000
DTEND;TZID=America/Chicago:20250718T140000
DTSTAMP:20260421T092614
CREATED:20250520T155252Z
LAST-MODIFIED:20250520T155252Z
UID:10007676-1752832800-1752847200@www.blackrivercountry.net
SUMMARY:Carnegie Museum open for the 2025 season
DESCRIPTION:Carnegie Museum opening for the 2025 season. Opening Friday May 2\, 2025 through September 26\, 2025. Regular hours will be Fridays & Saturdays from 10am to 2pm. Spring Creek Schoolhouse Museum will be open May through September on the first Sunday of each month from 12 (Noon) to 3pm\, opening date May 4th\, 2025 through September 7th\, 2025. Both Museums are available to open by appointment.Local history and genealogy research center can be made by appointment.
URL:https://www.blackrivercountry.net/event/carnegie-museum-open-for-the-2025-season/2025-07-18/
ATTACH;FMTTYPE=image/jpeg:https://www.blackrivercountry.net/wp-content/uploads/494150069_1225665596226231_4174473114499380994_n-1.jpg
END:VEVENT
END:VCALENDAR