BEGIN:VCALENDAR
VERSION:2.0
PRODID:-//Black River Area Chamber of Commerce - ECPv6.15.20//NONSGML v1.0//EN
CALSCALE:GREGORIAN
METHOD:PUBLISH
X-WR-CALNAME:Black River Area Chamber of Commerce
X-ORIGINAL-URL:https://www.blackrivercountry.net
X-WR-CALDESC:Events for Black River Area Chamber of Commerce
REFRESH-INTERVAL;VALUE=DURATION:PT1H
X-Robots-Tag:noindex
X-PUBLISHED-TTL:PT1H
BEGIN:VTIMEZONE
TZID:America/Chicago
BEGIN:DAYLIGHT
TZOFFSETFROM:-0600
TZOFFSETTO:-0500
TZNAME:CDT
DTSTART:20240310T080000
END:DAYLIGHT
BEGIN:STANDARD
TZOFFSETFROM:-0500
TZOFFSETTO:-0600
TZNAME:CST
DTSTART:20241103T070000
END:STANDARD
BEGIN:DAYLIGHT
TZOFFSETFROM:-0600
TZOFFSETTO:-0500
TZNAME:CDT
DTSTART:20250309T080000
END:DAYLIGHT
BEGIN:STANDARD
TZOFFSETFROM:-0500
TZOFFSETTO:-0600
TZNAME:CST
DTSTART:20251102T070000
END:STANDARD
BEGIN:DAYLIGHT
TZOFFSETFROM:-0600
TZOFFSETTO:-0500
TZNAME:CDT
DTSTART:20260308T080000
END:DAYLIGHT
BEGIN:STANDARD
TZOFFSETFROM:-0500
TZOFFSETTO:-0600
TZNAME:CST
DTSTART:20261101T070000
END:STANDARD
END:VTIMEZONE
BEGIN:VEVENT
DTSTART;TZID=America/Chicago:20250712T100000
DTEND;TZID=America/Chicago:20250712T140000
DTSTAMP:20260421T175150
CREATED:20250520T155252Z
LAST-MODIFIED:20250520T155252Z
UID:10007675-1752314400-1752328800@www.blackrivercountry.net
SUMMARY:Carnegie Museum open for the 2025 season
DESCRIPTION:Carnegie Museum opening for the 2025 season. Opening Friday May 2\, 2025 through September 26\, 2025. Regular hours will be Fridays & Saturdays from 10am to 2pm. Spring Creek Schoolhouse Museum will be open May through September on the first Sunday of each month from 12 (Noon) to 3pm\, opening date May 4th\, 2025 through September 7th\, 2025. Both Museums are available to open by appointment.Local history and genealogy research center can be made by appointment.
URL:https://www.blackrivercountry.net/event/carnegie-museum-open-for-the-2025-season/2025-07-12/
ATTACH;FMTTYPE=image/jpeg:https://www.blackrivercountry.net/wp-content/uploads/494150069_1225665596226231_4174473114499380994_n-1.jpg
END:VEVENT
BEGIN:VEVENT
DTSTART;TZID=America/Chicago:20250712T090000
DTEND;TZID=America/Chicago:20250712T130000
DTSTAMP:20260421T175150
CREATED:20250407T150937Z
LAST-MODIFIED:20250407T151247Z
UID:10007361-1752310800-1752325200@www.blackrivercountry.net
SUMMARY:Jackson County Farmers Market
DESCRIPTION:https://jacksoncountyfarmersmarketwi.com/
URL:https://www.blackrivercountry.net/event/jackson-county-farmers-market-2-2/2025-07-12/
ATTACH;FMTTYPE=image/jpeg:https://www.blackrivercountry.net/wp-content/uploads/486556373_1194120882716048_2855142741931307268_n.jpg
END:VEVENT
BEGIN:VEVENT
DTSTART;TZID=America/Chicago:20250712T070000
DTEND;TZID=America/Chicago:20250712T170000
DTSTAMP:20260421T175150
CREATED:20250708T152422Z
LAST-MODIFIED:20250708T161822Z
UID:10008399-1752303600-1752339600@www.blackrivercountry.net
SUMMARY:Cain's Orchard U-Pick Blueberry Season
DESCRIPTION:  \nBlueberries are just starting to ripen!\nOur first day of U-Pick blueberries will be this Saturday July 12th\, starting at 7 AM – 5 PM\, or until the ripe berries are gone for the day. This Saturday July 12th the picking conditions will be good! The following varieties will be available: Duke\, Reka\, Northland and a few Patriot. Picking is on Saturdays only at this time as we want to give the berries time to sweeten\, ripen and size. July 19th\, July 26th\, August 2nd\, August 9th and August 16th look to be very good picking conditions as well. It appears as though July 19th\, July 26th and August 2nd will be our peak pickings. We ask that you bring an ice cream pail to pick in. If you do not have one\, we will provide a container with a food safe bag for you to pick into. The price is $1.95 per pound. When paying for your berries you can bring them into the Retail Shop or you can stop by one of the two white tents. The Retail Shop has many new exciting items this year! We again are having a weekly food truck/vendor. Keep an eye out for who it will be this Saturday July 12th! You can follow us here or on our new website:www.cainsorchards.com. We hope to see you soon! We are located just off of I-94\, mile marker exit 105 at: W13885 Cain Road\, Hixton\, WI; ¾ mile East of Hixton off Hwy. 95\, turn onto North Branch Rd\, ¾ mile onto Cain Rd.
URL:https://www.blackrivercountry.net/event/cains-orchard-u-pick-blueberry-season/2025-07-12/
ATTACH;FMTTYPE=image/jpeg:https://www.blackrivercountry.net/wp-content/uploads/518207249_1163777465786474_7436457997656807480_n.jpg
END:VEVENT
BEGIN:VEVENT
DTSTART;VALUE=DATE:20250712
DTEND;VALUE=DATE:20250714
DTSTAMP:20260421T175150
CREATED:20250530T153808Z
LAST-MODIFIED:20250530T153808Z
UID:10007756-1752289200-1752375599@www.blackrivercountry.net
SUMMARY:Festival in the Park
DESCRIPTION:
URL:https://www.blackrivercountry.net/event/festival-in-the-park/
END:VEVENT
BEGIN:VEVENT
DTSTART;TZID=America/Chicago:20250711T123000
DTEND;TZID=America/Chicago:20250711T143000
DTSTAMP:20260421T175150
CREATED:20250630T201426Z
LAST-MODIFIED:20250630T201426Z
UID:10008383-1752237000-1752244200@www.blackrivercountry.net
SUMMARY:Teen-Paint Like Andy Warhol @ Black River Falls Public Library
DESCRIPTION:Paint Like Andy Warhol (Youth): Registration Required\nJuly 11 @ 12:30 pm – 2:30 pm\nBring a photo and paint on canvas in Andy Warhol style. Ages 12-18 \nAdd to calendar\nDetails\nDate:\nJuly 11th\, 2025\nTime:\n12:30 pm – 2:30 pm\nVenue\nBlack River Falls Public Library\n222 Fillmore St\nBlack River Falls\, WI 54615 United States + Google Map\nPhone\n7152844112 \n 
URL:https://www.blackrivercountry.net/event/teen-paint-like-andy-warhol-black-river-falls-public-library/
END:VEVENT
BEGIN:VEVENT
DTSTART;TZID=America/Chicago:20250711T100000
DTEND;TZID=America/Chicago:20250711T140000
DTSTAMP:20260421T175150
CREATED:20250520T155252Z
LAST-MODIFIED:20250520T155252Z
UID:10007674-1752228000-1752242400@www.blackrivercountry.net
SUMMARY:Carnegie Museum open for the 2025 season
DESCRIPTION:Carnegie Museum opening for the 2025 season. Opening Friday May 2\, 2025 through September 26\, 2025. Regular hours will be Fridays & Saturdays from 10am to 2pm. Spring Creek Schoolhouse Museum will be open May through September on the first Sunday of each month from 12 (Noon) to 3pm\, opening date May 4th\, 2025 through September 7th\, 2025. Both Museums are available to open by appointment.Local history and genealogy research center can be made by appointment.
URL:https://www.blackrivercountry.net/event/carnegie-museum-open-for-the-2025-season/2025-07-11/
ATTACH;FMTTYPE=image/jpeg:https://www.blackrivercountry.net/wp-content/uploads/494150069_1225665596226231_4174473114499380994_n-1.jpg
END:VEVENT
BEGIN:VEVENT
DTSTART;VALUE=DATE:20250711
DTEND;VALUE=DATE:20250713
DTSTAMP:20260421T175150
CREATED:20250530T174744Z
LAST-MODIFIED:20250530T174744Z
UID:10007757-1752202800-1752289199@www.blackrivercountry.net
SUMMARY:Hixton Volunteer Fire Dept 8th Annual Dinner\, Dance & Cornhole Tournament
DESCRIPTION:
URL:https://www.blackrivercountry.net/event/hixton-volunteer-fire-dept-8th-annual-dinner-dance-cornhole-tournament/
END:VEVENT
BEGIN:VEVENT
DTSTART;TZID=America/Chicago:20250710T173000
DTEND;TZID=America/Chicago:20250710T203000
DTSTAMP:20260421T175150
CREATED:20250620T165509Z
LAST-MODIFIED:20250620T165509Z
UID:10008096-1752168600-1752179400@www.blackrivercountry.net
SUMMARY:Rock Out At The Wall
DESCRIPTION:  \n  \nGet your climb on\, and celebrate summer with us!!\nThere will be tunes\, lights\, prizes\, and more.
URL:https://www.blackrivercountry.net/event/rock-out-at-the-wall/
END:VEVENT
BEGIN:VEVENT
DTSTART;TZID=America/Chicago:20250710T160000
DTEND;TZID=America/Chicago:20250710T200000
DTSTAMP:20260421T175150
CREATED:20250612T161903Z
LAST-MODIFIED:20250612T180614Z
UID:10007812-1752163200-1752177600@www.blackrivercountry.net
SUMMARY:Open Mic Night @McSweets Irish Pub
DESCRIPTION:https://www.facebook.com/profile.php?id=100063454330338 \nCheck the link for updates
URL:https://www.blackrivercountry.net/event/open-mic-night-mcsweets-irish-pub-3/2025-07-10/
ATTACH;FMTTYPE=image/png:https://www.blackrivercountry.net/wp-content/uploads/Every-other-Thursday.png
END:VEVENT
BEGIN:VEVENT
DTSTART;TZID=America/Chicago:20250710T140000
DTEND;TZID=America/Chicago:20250710T150000
DTSTAMP:20260421T175150
CREATED:20250102T162828Z
LAST-MODIFIED:20250916T140727Z
UID:10007014-1752156000-1752159600@www.blackrivercountry.net
SUMMARY:Family Caregiver Support Group
DESCRIPTION:
URL:https://www.blackrivercountry.net/event/family-caregiver-support-group-2/2025-07-10/
END:VEVENT
BEGIN:VEVENT
DTSTART;TZID=America/Chicago:20250709T180000
DTEND;TZID=America/Chicago:20250709T180000
DTSTAMP:20260421T175150
CREATED:20250611T160600Z
LAST-MODIFIED:20250619T170146Z
UID:10007799-1752084000-1752084000@www.blackrivercountry.net
SUMMARY:Melrose Movies in the Park
DESCRIPTION:For updates visit https://www.facebook.com/villageof.melrose \n  \nVillage of Melrose Wisconsin “Tank” Park\nThe Village of Melrose “Tank” Park\, with its signature World War II era tank\, is located at the corner of Third Street and West Hogg Street. Facilities include a basketball court\, playground equipment\, an open-sided picnic shelter\, and restroom facilities. \nThe shelter may be rented for picnics and parties. Contact the Village Clerk for reservations at (608) 488-3191 or download a shelter reservation form from this website and present it to the Clerk with your rental fee. \nTo reserve the park facilities: New Parks Reservation Form
URL:https://www.blackrivercountry.net/event/melrose-movies-in-the-park/2025-07-09/
END:VEVENT
BEGIN:VEVENT
DTSTART;TZID=America/Chicago:20250709T173000
DTEND;TZID=America/Chicago:20250709T193000
DTSTAMP:20260421T175150
CREATED:20241227T162211Z
LAST-MODIFIED:20260414T212427Z
UID:10008115-1752082200-1752089400@www.blackrivercountry.net
SUMMARY:Game Night @Lunda Community Center
DESCRIPTION:
URL:https://www.blackrivercountry.net/event/game-night-all-day-lunda-community-center/2025-07-09/
LOCATION:Lunda Community Center\, 405 WI-54 Trunk\, Black River Falls\, WI\, 54615\, United States
ATTACH;FMTTYPE=image/jpeg:https://www.blackrivercountry.net/wp-content/uploads/669355474_1431586712098600_7873493393374273283_n.jpg
GEO:44.2909017;-90.8632686
X-APPLE-STRUCTURED-LOCATION;VALUE=URI;X-ADDRESS=Lunda Community Center 405 WI-54 Trunk Black River Falls WI 54615 United States;X-APPLE-RADIUS=500;X-TITLE=405 WI-54 Trunk:geo:-90.8632686,44.2909017
END:VEVENT
BEGIN:VEVENT
DTSTART;TZID=America/Chicago:20250709T173000
DTEND;TZID=America/Chicago:20250709T183000
DTSTAMP:20260421T175150
CREATED:20250617T154837Z
LAST-MODIFIED:20260203T152031Z
UID:10007833-1752082200-1752085800@www.blackrivercountry.net
SUMMARY:Dinner Church Hosted By Black River Falls Methodist Church.
DESCRIPTION:
URL:https://www.blackrivercountry.net/event/dinner-church-hosted-by-black-river-falls-methodist-church/2025-07-09/
ATTACH;FMTTYPE=image/jpeg:https://www.blackrivercountry.net/wp-content/uploads/488889400_1081195334051804_805918472982756091_n.jpg
END:VEVENT
BEGIN:VEVENT
DTSTART;TZID=America/Chicago:20250709T140000
DTEND;TZID=America/Chicago:20250709T180000
DTSTAMP:20260421T175150
CREATED:20250331T154210Z
LAST-MODIFIED:20250407T151137Z
UID:10007284-1752069600-1752084000@www.blackrivercountry.net
SUMMARY:Jackson County Farmer's Market
DESCRIPTION:https://jacksoncountyfarmersmarketwi.com/
URL:https://www.blackrivercountry.net/event/jackson-county-farmers-market/2025-07-09/
ATTACH;FMTTYPE=image/jpeg:https://www.blackrivercountry.net/wp-content/uploads/486556373_1194120882716048_2855142741931307268_n.jpg
END:VEVENT
BEGIN:VEVENT
DTSTART;VALUE=DATE:20250709
DTEND;VALUE=DATE:20250710
DTSTAMP:20260421T175150
CREATED:20250529T193327Z
LAST-MODIFIED:20250529T194736Z
UID:10007745-1752048000-1752080400@www.blackrivercountry.net
SUMMARY:Summer Events with Lunda Community Center
DESCRIPTION:
URL:https://www.blackrivercountry.net/event/summer-mindfulness-with-lunda-community-center/2025-07-09/
END:VEVENT
BEGIN:VEVENT
DTSTART;VALUE=DATE:20250709
DTEND;VALUE=DATE:20250711
DTSTAMP:20260421T175150
CREATED:20250522T160122Z
LAST-MODIFIED:20250522T160122Z
UID:10007703-1752030000-1752116399@www.blackrivercountry.net
SUMMARY:Summer Food Program
DESCRIPTION:
URL:https://www.blackrivercountry.net/event/summer-food-program/2025-07-09/
END:VEVENT
BEGIN:VEVENT
DTSTART;TZID=America/Chicago:20250708T190000
DTEND;TZID=America/Chicago:20250708T190000
DTSTAMP:20260421T175150
CREATED:20250623T174604Z
LAST-MODIFIED:20250623T174605Z
UID:10007644-1752001200-1752001200@www.blackrivercountry.net
SUMMARY:2025 Concerts in the Park
DESCRIPTION:TravAce – Quenten – Garrett \n  \n 
URL:https://www.blackrivercountry.net/event/2025-concerts-in-the-park-4/
END:VEVENT
BEGIN:VEVENT
DTSTART;TZID=America/Chicago:20250708T190000
DTEND;TZID=America/Chicago:20250708T190000
DTSTAMP:20260421T175150
CREATED:20241212T175224Z
LAST-MODIFIED:20241226T163439Z
UID:10006553-1752001200-1752001200@www.blackrivercountry.net
SUMMARY:Tuesday Trivia @ Rozarios
DESCRIPTION:Cold drinks. Hot food. Tons of fun. Trivia starts at 7:15 pm. So get your team together and come on down. Free to play.
URL:https://www.blackrivercountry.net/event/tuesday-trivia-rozario/2025-07-08/
ATTACH;FMTTYPE=image/jpeg:https://www.blackrivercountry.net/wp-content/uploads/415519650_858493506278630_1467434810096093052_n-1.jpg
END:VEVENT
BEGIN:VEVENT
DTSTART;TZID=America/Chicago:20250708T170000
DTEND;TZID=America/Chicago:20250720T200000
DTSTAMP:20260421T175150
CREATED:20250708T185913Z
LAST-MODIFIED:20250708T185913Z
UID:10008407-1751994000-1753041600@www.blackrivercountry.net
SUMMARY:THAI DINNER prepared by “Celebrity Chef” Chongjit (Jenny) Wilke @ Skyline Golf Course
DESCRIPTION:  \n\nYou’re Invited to a Thai Dinner for a Great Cause! \n\n\nSkyline Friends are thrilled to host a special THAI DINNER prepared by “Celebrity Chef” Chongjit (Jenny) Wilke — and you’re invited!\n\n\n Skyline Golf Course – Black River Falls\n Sunday\, July 20\, 2025\n 5:00 PM – Social Hour\n 6:00 PM – Dinner\n\n\nMenu Highlights:\n Spring Rolls\n Pork Satay with Peanut Sauce\n Papaya Salad\n Thai Beef Basil\n Tom Kha Gai (Chicken Coconut Soup)\n Pad Thai • White Rice\n Mixed Fruits\n\n\n $25/person for Skyline Friends & Members\n $30/person for Non-Members\nPrice includes gratuity\n\n\n All proceeds will support the new pizza oven at Skyline – let’s fire it up together! \n\n\n Reservations required by July 11th – Call 715-284-2613 to reserve your seat!\n\n\nLet’s enjoy a flavorful evening while giving back to the place we all love! \n\n\n#SupportSkyline #ThaiDinnerNight #CommunityMatters #BlackRiverFallsEvents
URL:https://www.blackrivercountry.net/event/thai-dinner-prepared-by-celebrity-chef-chongjit-jenny-wilke-skyline-golf-course/
END:VEVENT
BEGIN:VEVENT
DTSTART;TZID=America/Chicago:20250708T120000
DTEND;TZID=America/Chicago:20250708T170000
DTSTAMP:20260421T175150
CREATED:20250606T202210Z
LAST-MODIFIED:20250606T202210Z
UID:10007792-1751976000-1751994000@www.blackrivercountry.net
SUMMARY:Blood Drive
DESCRIPTION:https://donateblood.versiti.org/donor/schedules/drive_schedule/11608389
URL:https://www.blackrivercountry.net/event/blood-drive/
END:VEVENT
BEGIN:VEVENT
DTSTART;TZID=America/Chicago:20250708T093000
DTEND;TZID=America/Chicago:20250708T123000
DTSTAMP:20260421T175150
CREATED:20250402T182743Z
LAST-MODIFIED:20260203T152144Z
UID:10007510-1751967000-1751977800@www.blackrivercountry.net
SUMMARY:Legal Action of Wisconsin
DESCRIPTION:
URL:https://www.blackrivercountry.net/event/legal-action-of-wisconsin/2025-07-08/
ATTACH;FMTTYPE=image/jpeg:https://www.blackrivercountry.net/wp-content/uploads/legal-action-of-wisconsin.jpg
END:VEVENT
BEGIN:VEVENT
DTSTART;TZID=America/Chicago:20250707T100000
DTEND;TZID=America/Chicago:20250707T110000
DTSTAMP:20260421T175150
CREATED:20250131T190935Z
LAST-MODIFIED:20260203T153038Z
UID:10007099-1751882400-1751886000@www.blackrivercountry.net
SUMMARY:Mugs & Matches
DESCRIPTION:  \nWe are extending a warm welcome to Interfaith Volunteers to join together for coffee and conversation on Mondays. Coffee is served at 10 am the first Monday of each month. If you are not a fan of coffee\, no worries—we have tea\, hot chocolate\, and bottled water\, too. Come and catch up with fellow volunteers! See you Monday!
URL:https://www.blackrivercountry.net/event/mugs-matches/2025-07-07/
ATTACH;FMTTYPE=image/jpeg:https://www.blackrivercountry.net/wp-content/uploads/mugs-and-matches.jpg
END:VEVENT
BEGIN:VEVENT
DTSTART;TZID=America/Chicago:20250706T120000
DTEND;TZID=America/Chicago:20250706T150000
DTSTAMP:20260421T175150
CREATED:20250429T193518Z
LAST-MODIFIED:20250429T193518Z
UID:10007602-1751803200-1751814000@www.blackrivercountry.net
SUMMARY:Spring Creek Schoolhouse Museum Open
DESCRIPTION:
URL:https://www.blackrivercountry.net/event/spring-creek-schoolhouse-museum-open/2025-07-06/
END:VEVENT
BEGIN:VEVENT
DTSTART;TZID=America/Chicago:20250705T200000
DTEND;TZID=America/Chicago:20250705T233000
DTSTAMP:20260421T175150
CREATED:20250630T163402Z
LAST-MODIFIED:20250630T163402Z
UID:10008379-1751745600-1751758200@www.blackrivercountry.net
SUMMARY:Uncle Ron @ Ho-Chunk Gaming Black River Falls
DESCRIPTION:
URL:https://www.blackrivercountry.net/event/uncle-ron-ho-chunk-gaming-black-river-falls/
END:VEVENT
BEGIN:VEVENT
DTSTART;TZID=America/Chicago:20250705T153000
DTEND;TZID=America/Chicago:20250705T200000
DTSTAMP:20260421T175150
CREATED:20250620T165810Z
LAST-MODIFIED:20250620T165810Z
UID:10008097-1751729400-1751745600@www.blackrivercountry.net
SUMMARY:Black River Brawls @ Lunda Community Center
DESCRIPTION:  \n\nRCCW Hits the Road This Independence Day Weekend! \n\n\nRiver City Championship Wrestling is celebrating the red\, white\, and blue with two huge events this holiday weekend — and we’re bringing the action on the road!\n\n\nSATURDAY\, JULY 5TH – BLACK RIVER FALLS\, WI\nRCCW makes its Black River Falls debut at the Lunda Community Center!\n Tickets available now: https://tickets.aroundrivercity.com/…/rccw-black-river…\n Belltime: 4PM\n\n\nDon’t miss your chance to see your favorite RCCW stars in action this 4th of July weekend. Two towns. Two days. Too much action to miss! \n\n\n#RCCW #IndependenceDayWeekend #LiveWrestling #JulyJubilee #BlackRiverBrawls #SupportIndieWrestling
URL:https://www.blackrivercountry.net/event/black-river-brawls-lunda-community-center-2/
END:VEVENT
BEGIN:VEVENT
DTSTART;TZID=America/Chicago:20250705T100000
DTEND;TZID=America/Chicago:20250705T140000
DTSTAMP:20260421T175150
CREATED:20250520T155252Z
LAST-MODIFIED:20250520T155252Z
UID:10007673-1751709600-1751724000@www.blackrivercountry.net
SUMMARY:Carnegie Museum open for the 2025 season
DESCRIPTION:Carnegie Museum opening for the 2025 season. Opening Friday May 2\, 2025 through September 26\, 2025. Regular hours will be Fridays & Saturdays from 10am to 2pm. Spring Creek Schoolhouse Museum will be open May through September on the first Sunday of each month from 12 (Noon) to 3pm\, opening date May 4th\, 2025 through September 7th\, 2025. Both Museums are available to open by appointment.Local history and genealogy research center can be made by appointment.
URL:https://www.blackrivercountry.net/event/carnegie-museum-open-for-the-2025-season/2025-07-05/
ATTACH;FMTTYPE=image/jpeg:https://www.blackrivercountry.net/wp-content/uploads/494150069_1225665596226231_4174473114499380994_n-1.jpg
END:VEVENT
BEGIN:VEVENT
DTSTART;TZID=America/Chicago:20250705T100000
DTEND;TZID=America/Chicago:20250705T120000
DTSTAMP:20260421T175150
CREATED:20250502T144751Z
LAST-MODIFIED:20250729T195047Z
UID:10007619-1751709600-1751716800@www.blackrivercountry.net
SUMMARY:Story and Craft Hour with Jackson County HCE at the Farmer's Market
DESCRIPTION:JCHCE will again have story hour and crafts at the Farmers Market this year to entertain and amuse the youngsters. These to be  held the first Saturday of the month from 10:00 to Noon.
URL:https://www.blackrivercountry.net/event/story-and-craft-hour-with-jackson-county-hce-at-the-farmers-market/2025-07-05/
END:VEVENT
BEGIN:VEVENT
DTSTART;TZID=America/Chicago:20250705T090000
DTEND;TZID=America/Chicago:20250705T130000
DTSTAMP:20260421T175150
CREATED:20250407T150937Z
LAST-MODIFIED:20250407T151247Z
UID:10007360-1751706000-1751720400@www.blackrivercountry.net
SUMMARY:Jackson County Farmers Market
DESCRIPTION:https://jacksoncountyfarmersmarketwi.com/
URL:https://www.blackrivercountry.net/event/jackson-county-farmers-market-2-2/2025-07-05/
ATTACH;FMTTYPE=image/jpeg:https://www.blackrivercountry.net/wp-content/uploads/486556373_1194120882716048_2855142741931307268_n.jpg
END:VEVENT
BEGIN:VEVENT
DTSTART;TZID=America/Chicago:20250704T100000
DTEND;TZID=America/Chicago:20250704T140000
DTSTAMP:20260421T175150
CREATED:20250520T155252Z
LAST-MODIFIED:20250520T155252Z
UID:10007672-1751623200-1751637600@www.blackrivercountry.net
SUMMARY:Carnegie Museum open for the 2025 season
DESCRIPTION:Carnegie Museum opening for the 2025 season. Opening Friday May 2\, 2025 through September 26\, 2025. Regular hours will be Fridays & Saturdays from 10am to 2pm. Spring Creek Schoolhouse Museum will be open May through September on the first Sunday of each month from 12 (Noon) to 3pm\, opening date May 4th\, 2025 through September 7th\, 2025. Both Museums are available to open by appointment.Local history and genealogy research center can be made by appointment.
URL:https://www.blackrivercountry.net/event/carnegie-museum-open-for-the-2025-season/2025-07-04/
ATTACH;FMTTYPE=image/jpeg:https://www.blackrivercountry.net/wp-content/uploads/494150069_1225665596226231_4174473114499380994_n-1.jpg
END:VEVENT
BEGIN:VEVENT
DTSTART;TZID=America/Chicago:20250704T080000
DTEND;TZID=America/Chicago:20250706T170000
DTSTAMP:20260421T175150
CREATED:20250109T163336Z
LAST-MODIFIED:20250225T192657Z
UID:10007038-1751616000-1751821200@www.blackrivercountry.net
SUMMARY:THE VILLAGE PEDDLER OF HIXTON. LLC 2025 FLEA MARKET SCHEDULE
DESCRIPTION:
URL:https://www.blackrivercountry.net/event/the-village-peddler-of-hixton-llc-2025-flea-market-schedule/2025-07-04/
END:VEVENT
END:VCALENDAR