BEGIN:VCALENDAR
VERSION:2.0
PRODID:-//Black River Area Chamber of Commerce - ECPv6.15.20//NONSGML v1.0//EN
CALSCALE:GREGORIAN
METHOD:PUBLISH
X-WR-CALNAME:Black River Area Chamber of Commerce
X-ORIGINAL-URL:https://www.blackrivercountry.net
X-WR-CALDESC:Events for Black River Area Chamber of Commerce
REFRESH-INTERVAL;VALUE=DURATION:PT1H
X-Robots-Tag:noindex
X-PUBLISHED-TTL:PT1H
BEGIN:VTIMEZONE
TZID:America/Chicago
BEGIN:DAYLIGHT
TZOFFSETFROM:-0600
TZOFFSETTO:-0500
TZNAME:CDT
DTSTART:20240310T080000
END:DAYLIGHT
BEGIN:STANDARD
TZOFFSETFROM:-0500
TZOFFSETTO:-0600
TZNAME:CST
DTSTART:20241103T070000
END:STANDARD
BEGIN:DAYLIGHT
TZOFFSETFROM:-0600
TZOFFSETTO:-0500
TZNAME:CDT
DTSTART:20250309T080000
END:DAYLIGHT
BEGIN:STANDARD
TZOFFSETFROM:-0500
TZOFFSETTO:-0600
TZNAME:CST
DTSTART:20251102T070000
END:STANDARD
BEGIN:DAYLIGHT
TZOFFSETFROM:-0600
TZOFFSETTO:-0500
TZNAME:CDT
DTSTART:20260308T080000
END:DAYLIGHT
BEGIN:STANDARD
TZOFFSETFROM:-0500
TZOFFSETTO:-0600
TZNAME:CST
DTSTART:20261101T070000
END:STANDARD
END:VTIMEZONE
BEGIN:VEVENT
DTSTART;VALUE=DATE:20250217
DTEND;VALUE=DATE:20250519
DTSTAMP:20260420T161244
CREATED:20250217T162507Z
LAST-MODIFIED:20250217T162507Z
UID:10007145-1739761200-1747537199@www.blackrivercountry.net
SUMMARY:Jackson County Fair fundraiser!
DESCRIPTION:***SAVE THE DATE*** Join us on the evening of May 17th as we kick off the count down to the 2025 Jackson County Fair at our 1st annual fundraiser celebrating Barn Lights and Fair Nights at @gardenvalleygatherings. The evening will consist of a meal\, 2 drink tickets\, live auction\, basket raffles\, and a 50/50 drawing. All proceeds will go towards organizing the Jackson County Fair and providing a fun-filled and entertaining fair experience for the families of Jackson County. Tickets are limited so make sure to reach out to fair board members to purchase your tickets.
URL:https://www.blackrivercountry.net/event/jackson-county-fair-fundraiser/
END:VEVENT
BEGIN:VEVENT
DTSTART;TZID=America/Chicago:20250310T080000
DTEND;TZID=America/Chicago:20250430T170000
DTSTAMP:20260420T161244
CREATED:20250310T154612Z
LAST-MODIFIED:20250310T154612Z
UID:10007222-1741593600-1746032400@www.blackrivercountry.net
SUMMARY:Summer Camp 2025 Registration is OPEN!
DESCRIPTION:Summer Camp 2025 Registration is OPEN! \n\n\nLooking for an exciting and enriching summer experience for your child? Join us at the Boys & Girls Club’s Summer Camp 2025!\n\n\n Spots are limited—Register today!\n Sign up now at: www.cvclubs.org\n Have questions? Call us at 715-284-4005
URL:https://www.blackrivercountry.net/event/summer-camp-2025-registration-is-open/
END:VEVENT
BEGIN:VEVENT
DTSTART;VALUE=DATE:20250401
DTEND;VALUE=DATE:20250502
DTSTAMP:20260420T161244
CREATED:20250401T151119Z
LAST-MODIFIED:20250401T151119Z
UID:10007461-1743476400-1746068399@www.blackrivercountry.net
SUMMARY:April Harvest of the Month
DESCRIPTION:  \nhttps://www.jacksoninaction.org/
URL:https://www.blackrivercountry.net/event/april-harvest-of-the-month/
END:VEVENT
BEGIN:VEVENT
DTSTART;VALUE=DATE:20250401
DTEND;VALUE=DATE:20250502
DTSTAMP:20260420T161244
CREATED:20250401T151219Z
LAST-MODIFIED:20250401T151231Z
UID:10007462-1743476400-1746068399@www.blackrivercountry.net
SUMMARY:Indigenous Harvest of the Month
DESCRIPTION:  \nhttps://www.jacksoninaction.org/
URL:https://www.blackrivercountry.net/event/indigenous-harvest-of-the-month-3/
END:VEVENT
BEGIN:VEVENT
DTSTART;VALUE=DATE:20250401
DTEND;VALUE=DATE:20250602
DTSTAMP:20260420T161244
CREATED:20250109T170222Z
LAST-MODIFIED:20250109T170222Z
UID:10007041-1743476400-1748746799@www.blackrivercountry.net
SUMMARY:Children’s Wisconsin - Black River Falls Office Spring 2025 Activities
DESCRIPTION:
URL:https://www.blackrivercountry.net/event/childrens-wisconsin-black-river-falls-office-spring-2025-activities/
END:VEVENT
BEGIN:VEVENT
DTSTART;VALUE=DATE:20250407
DTEND;VALUE=DATE:20250602
DTSTAMP:20260420T161244
CREATED:20250407T174729Z
LAST-MODIFIED:20250407T174729Z
UID:10007539-1743994800-1748746799@www.blackrivercountry.net
SUMMARY:Jordan Kappen BRF Summer Basketball Camp
DESCRIPTION:  \nNeed plans this summer? Kids entering grades 1st-3rd & 4th-9th are invited to join the fun with former professional basketball player overseas and BRF native Jordan Kappen.\nLocation: Lunda Community Center\, Black River Falls\, WI\nRegister Here:kappencamp.eventbrite.com\nQuestions? jkappen21@gmail.com with any questions or call/text 715.284.6621
URL:https://www.blackrivercountry.net/event/jordan-kappen-brf-summer-basketball-camp/
END:VEVENT
BEGIN:VEVENT
DTSTART;TZID=America/Chicago:20250421T140000
DTEND;TZID=America/Chicago:20250421T150000
DTSTAMP:20260420T161244
CREATED:20250313T160102Z
LAST-MODIFIED:20250313T160102Z
UID:10007235-1745244000-1745247600@www.blackrivercountry.net
SUMMARY:Tomah VA Volunteer Recruitment Fair
DESCRIPTION:
URL:https://www.blackrivercountry.net/event/tomah-va-volunteer-recruitment-fair/
END:VEVENT
BEGIN:VEVENT
DTSTART;TZID=America/Chicago:20250422T120000
DTEND;TZID=America/Chicago:20250422T133000
DTSTAMP:20260420T161244
CREATED:20250402T182551Z
LAST-MODIFIED:20250402T182551Z
UID:10007506-1745323200-1745328600@www.blackrivercountry.net
SUMMARY:Intro to the Fitness Center Classes !
DESCRIPTION:
URL:https://www.blackrivercountry.net/event/intro-to-the-fitness-center-classes/2025-04-22/
END:VEVENT
BEGIN:VEVENT
DTSTART;TZID=America/Chicago:20250422T160000
DTEND;TZID=America/Chicago:20250422T200000
DTSTAMP:20260420T161244
CREATED:20241202T170354Z
LAST-MODIFIED:20241202T170354Z
UID:10006089-1745337600-1745352000@www.blackrivercountry.net
SUMMARY:Open Mic Night @McSweets Irish Pub
DESCRIPTION:https://www.facebook.com/profile.php?id=100063454330338 \nCheck the link for updates
URL:https://www.blackrivercountry.net/event/open-mic-night-mcsweets-irish-pub/2025-04-22/
END:VEVENT
BEGIN:VEVENT
DTSTART;TZID=America/Chicago:20250422T190000
DTEND;TZID=America/Chicago:20250422T190000
DTSTAMP:20260420T161244
CREATED:20241212T175224Z
LAST-MODIFIED:20241226T163439Z
UID:10006542-1745348400-1745348400@www.blackrivercountry.net
SUMMARY:Tuesday Trivia @ Rozarios
DESCRIPTION:Cold drinks. Hot food. Tons of fun. Trivia starts at 7:15 pm. So get your team together and come on down. Free to play.
URL:https://www.blackrivercountry.net/event/tuesday-trivia-rozario/2025-04-22/
ATTACH;FMTTYPE=image/jpeg:https://www.blackrivercountry.net/wp-content/uploads/415519650_858493506278630_1467434810096093052_n-1.jpg
END:VEVENT
BEGIN:VEVENT
DTSTART;TZID=America/Chicago:20250423T153000
DTEND;TZID=America/Chicago:20250423T173000
DTSTAMP:20260420T161244
CREATED:20250403T151444Z
LAST-MODIFIED:20250403T151444Z
UID:10007528-1745422200-1745429400@www.blackrivercountry.net
SUMMARY:Gardening Work Shops With Joe Williams
DESCRIPTION:
URL:https://www.blackrivercountry.net/event/gardening-work-shops-with-joe-williams/2025-04-23/
END:VEVENT
BEGIN:VEVENT
DTSTART;TZID=America/Chicago:20250423T160000
DTEND;TZID=America/Chicago:20250423T170000
DTSTAMP:20260420T161244
CREATED:20250320T150400Z
LAST-MODIFIED:20250320T150400Z
UID:10007254-1745424000-1745427600@www.blackrivercountry.net
SUMMARY:Empowering Children & Families In Our Community
DESCRIPTION:Empowering Children & Families in Our Community \nPlease join us on Tuesday\, April 23\, 2025\, at 4 p.m. in the Black River Falls Public Library Program Room for\nEmpowering Children &amp; Families in Our Community. This program is offered in recognition of Child Abuse\nAwareness Month (April) and Foster Care Appreciation Month (May). Staff from Ho-Chunk Nation Child &amp;\nFamily Services and Jackson County Children &amp; Families Services will share useful tips for engaging and\nsupporting youth. Learn how we can work together to support and strengthen families in our community.\nThis program is open to the public and registration is appreciated but not required.
URL:https://www.blackrivercountry.net/event/empowering-children-families-in-our-community/
END:VEVENT
BEGIN:VEVENT
DTSTART;TZID=America/Chicago:20250423T163000
DTEND;TZID=America/Chicago:20250423T200000
DTSTAMP:20260420T161244
CREATED:20250407T151946Z
LAST-MODIFIED:20250407T151946Z
UID:10007537-1745425800-1745438400@www.blackrivercountry.net
SUMMARY:12th Annual Emergency Responder Dinner @ Castle Hill Supper Club
DESCRIPTION:  \nWe invite you to our 12th Annual Emergency Responder Dinner at Castle Hill Supper Club\, just south of Merrillan. We will be serving prime rib\, baked chicken\, chef-carved ham and breaded shrimp with all the trimmings. Multiple raffle baskets and a money board will also be available for you to win big.\n$25 for adults. $10 for kids 7-10.\nWe prefer you purchase tickets in advance to help us plan by calling Claudia Fields at 715-896-0406\, but walk-ins are welcome.\nYour local fire and rescue department is an all-volunteer organization. We directly serve six area communities including the towns of Alma\, Garden Valley\, and Mentor and the villages of Alma Center\, Humbird\, and Merrillan. We also offer mutual aid services to surrounding communities.
URL:https://www.blackrivercountry.net/event/12th-annual-emergency-responder-dinner-castle-hill-supper-club/
ATTACH;FMTTYPE=image/jpeg:https://www.blackrivercountry.net/wp-content/uploads/488866939_697588282597321_654297537597331729_n.jpg
END:VEVENT
BEGIN:VEVENT
DTSTART;TZID=America/Chicago:20250423T173000
DTEND;TZID=America/Chicago:20250423T190000
DTSTAMP:20260420T161244
CREATED:20250403T151226Z
LAST-MODIFIED:20250403T151226Z
UID:10007526-1745429400-1745434800@www.blackrivercountry.net
SUMMARY:Family Art Night
DESCRIPTION:
URL:https://www.blackrivercountry.net/event/family-art-night/2025-04-23/
END:VEVENT
BEGIN:VEVENT
DTSTART;TZID=America/Chicago:20250423T183000
DTEND;TZID=America/Chicago:20250423T193000
DTSTAMP:20260420T161244
CREATED:20250407T191605Z
LAST-MODIFIED:20250407T191605Z
UID:10007541-1745433000-1745436600@www.blackrivercountry.net
SUMMARY:Jazz @ Revolution
DESCRIPTION:
URL:https://www.blackrivercountry.net/event/jazz-revolution/
END:VEVENT
BEGIN:VEVENT
DTSTART;TZID=America/Chicago:20250424T080000
DTEND;TZID=America/Chicago:20250426T170000
DTSTAMP:20260420T161244
CREATED:20250227T164229Z
LAST-MODIFIED:20250227T164229Z
UID:10007203-1745481600-1745686800@www.blackrivercountry.net
SUMMARY:Warrens Community Garage Sales
DESCRIPTION:
URL:https://www.blackrivercountry.net/event/warrens-community-garage-sales/
END:VEVENT
BEGIN:VEVENT
DTSTART;TZID=America/Chicago:20250424T130000
DTEND;TZID=America/Chicago:20250424T133000
DTSTAMP:20260420T161244
CREATED:20241209T174632Z
LAST-MODIFIED:20250527T145500Z
UID:10006413-1745499600-1745501400@www.blackrivercountry.net
SUMMARY:﻿Child Care Business - Info Session (Western WI Woman's Business Center
DESCRIPTION:FREE SERVICES FOR NEW & EXISTING CHILDCARE BUSINESSES \n\nAssistance with creating a business plan and financial projections\nAnswer questions on the different regulation types\nFeedback and review of policy handbooks\nNavigating the regulation process (including background checks\, fingerprinting\, applications\, educational requirements\, etc.)\nOnsite consultation on setting up your childcare environment\nTechnical assistance around health & safety requirements\nAccess to resources and grant opportunities\n\nhttps://www.successfulbusiness.org/events
URL:https://www.blackrivercountry.net/event/child-care-business-info-session-western-wi-womans-business-center/2025-04-24/
ATTACH;FMTTYPE=image/png:https://www.blackrivercountry.net/wp-content/uploads/unnamed-23.png
END:VEVENT
BEGIN:VEVENT
DTSTART;TZID=America/Chicago:20250425T173000
DTEND;TZID=America/Chicago:20250425T210000
DTSTAMP:20260420T161244
CREATED:20250331T170050Z
LAST-MODIFIED:20250331T170050Z
UID:10007455-1745602200-1745614800@www.blackrivercountry.net
SUMMARY:April Bike Night w/TravAce Trio @ McSweet's Irish Pub
DESCRIPTION:  \nDUE TO POPULAR DEMAND: McSweet Bike Nights will be the last FRIDAY of the month this year. Live music\, biker games\, a food truck and trophies! Same fun\, different day. See you all on the 25th!
URL:https://www.blackrivercountry.net/event/april-bike-night-w-travace-trio-mcsweets-irish-pub/
END:VEVENT
BEGIN:VEVENT
DTSTART;TZID=America/Chicago:20250425T180000
DTEND;TZID=America/Chicago:20250425T200000
DTSTAMP:20260420T161244
CREATED:20250417T151544Z
LAST-MODIFIED:20250417T151544Z
UID:10007582-1745604000-1745611200@www.blackrivercountry.net
SUMMARY:Paint & Sip @ Creekside Winery
DESCRIPTION:
URL:https://www.blackrivercountry.net/event/paint-sip-creekside-winery/
END:VEVENT
BEGIN:VEVENT
DTSTART;VALUE=DATE:20250426
DTEND;VALUE=DATE:20250428
DTSTAMP:20260420T161244
CREATED:20241202T170410Z
LAST-MODIFIED:20241220T201216Z
UID:10006875-1745636400-1745722799@www.blackrivercountry.net
SUMMARY:BRAZILIAN JIU JITSU @ LUNDA COMMUNITY CENTER
DESCRIPTION:
URL:https://www.blackrivercountry.net/event/brazilian-jiu-jitsu-lunda-community-center-2/2025-04-26/
END:VEVENT
BEGIN:VEVENT
DTSTART;TZID=America/Chicago:20250426T080000
DTEND;TZID=America/Chicago:20250426T120000
DTSTAMP:20260420T161244
CREATED:20250401T204837Z
LAST-MODIFIED:20250401T204837Z
UID:10007504-1745654400-1745668800@www.blackrivercountry.net
SUMMARY:Friends of the Black River Earth Day Cleanup
DESCRIPTION:Join the Friends of the Black River for their Earth Day Clean Up starting at 8am with a free lunch included at 11:30am. For more info email: info_fbr@yahoo.com or call (715) 896-5534
URL:https://www.blackrivercountry.net/event/friends-of-the-black-river-earth-day-cleanup/
END:VEVENT
BEGIN:VEVENT
DTSTART;TZID=America/Chicago:20250426T090000
DTEND;TZID=America/Chicago:20250426T110000
DTSTAMP:20260420T161244
CREATED:20250314T173324Z
LAST-MODIFIED:20250314T173324Z
UID:10007243-1745658000-1745665200@www.blackrivercountry.net
SUMMARY:Jackson in Action- Earth Day Highway Cleanup
DESCRIPTION:
URL:https://www.blackrivercountry.net/event/jackson-in-action-earth-day-highway-cleanup/
END:VEVENT
BEGIN:VEVENT
DTSTART;TZID=America/Chicago:20250426T090000
DTEND;TZID=America/Chicago:20250426T190000
DTSTAMP:20260420T161244
CREATED:20250311T191636Z
LAST-MODIFIED:20250311T191636Z
UID:10007233-1745658000-1745694000@www.blackrivercountry.net
SUMMARY:West Central Wisconsin Chess Challange
DESCRIPTION:
URL:https://www.blackrivercountry.net/event/west-central-wisconsin-chess-challange/
END:VEVENT
BEGIN:VEVENT
DTSTART;TZID=America/Chicago:20250426T100000
DTEND;TZID=America/Chicago:20250426T120000
DTSTAMP:20260420T161244
CREATED:20250401T150121Z
LAST-MODIFIED:20250401T150121Z
UID:10007457-1745661600-1745668800@www.blackrivercountry.net
SUMMARY:Tech Help at the Library
DESCRIPTION:
URL:https://www.blackrivercountry.net/event/tech-help-at-the-library/
END:VEVENT
BEGIN:VEVENT
DTSTART;TZID=America/Chicago:20250426T100000
DTEND;TZID=America/Chicago:20250426T150000
DTSTAMP:20260420T161244
CREATED:20250414T150317Z
LAST-MODIFIED:20250414T150317Z
UID:10007555-1745661600-1745679600@www.blackrivercountry.net
SUMMARY:Earth Day Extravaganza
DESCRIPTION:
URL:https://www.blackrivercountry.net/event/earth-day-extravaganza/
END:VEVENT
BEGIN:VEVENT
DTSTART;TZID=America/Chicago:20250426T200000
DTEND;TZID=America/Chicago:20250426T233000
DTSTAMP:20260420T161244
CREATED:20250319T153933Z
LAST-MODIFIED:20250319T153933Z
UID:10007252-1745697600-1745710200@www.blackrivercountry.net
SUMMARY:PONZI SCHEME @ Ho-Chunk Gaming Black River Falls
DESCRIPTION:Yep\, we are back at the awesome HO-CHUNK CASINO for a SPECIAL Saturday performance. Beginning at 8:30 pm. ABOVE THE BAR! As a 4 piece CLASSIC ROCK ACT! Great times for Rock’n Gambling and FUN.. Great Drink\, music and FUN!.. Come on and see the best ROCK’N HORN band in the 5 state area!….PONZI SCHEME…
URL:https://www.blackrivercountry.net/event/ponzi-scheme-ho-chunk-gaming-black-river-falls/
ATTACH;FMTTYPE=image/jpeg:https://www.blackrivercountry.net/wp-content/uploads/483908786_1232889028843016_9057568505863834296_n.jpg
END:VEVENT
BEGIN:VEVENT
DTSTART;TZID=America/Chicago:20250427T103000
DTEND;TZID=America/Chicago:20250427T113000
DTSTAMP:20260420T161244
CREATED:20250403T152321Z
LAST-MODIFIED:20250409T171603Z
UID:10007530-1745749800-1745753400@www.blackrivercountry.net
SUMMARY:Wine & Yoga with the Yoga Studio & Creekside Winery
DESCRIPTION:  \nWe’re bringing back one of our most loved events—Wine & Yoga! \n  \nJoin us on Sunday\, April 27\, from 10:30 AM – 11:30 AM at Creekside Winery for a blissful morning of movement and relaxation. \n  \nEnjoy a gentle yoga flow designed for all levels\, followed by a glass of locally crafted wine—because balance is everything! \n  \nWhy You’ll Love Wine & Yoga:\n A fun & unique way to practice yoga\n Enjoy a post-class glass of delicious wine\n Connect with friends & like-minded yogis\n Relax in the beautiful surroundings of Creekside Winery \n  \nBring a friend or come solo—either way\, this is your chance to move\, sip\, and unwind in the most relaxing way possible! \n  \n Spots are limited—register now!\nReserve Your Spot \n  \nWe can’t wait to see you on the mat (and with a glass in hand)! \n  \nJudy Brauner \nThe Yoga Studio Black River Falls
URL:https://www.blackrivercountry.net/event/wine-yoga-with-the-yoga-studio-creekside-winery/
END:VEVENT
BEGIN:VEVENT
DTSTART;TZID=America/Chicago:20250427T170000
DTEND;TZID=America/Chicago:20250427T190000
DTSTAMP:20260420T161244
CREATED:20250311T153047Z
LAST-MODIFIED:20250311T153047Z
UID:10007231-1745773200-1745780400@www.blackrivercountry.net
SUMMARY:New Moon Mediation @ Rainbow Rock Reiki Wellness Center
DESCRIPTION:Come join us for a time of being unplugged and connected as one to the universe! Bring blanket\, yoga mat\, water\, whatever you need to be comfortable while we listen to a 20–30-minute guided meditation for the new moon. Be prompt as doors will be locked at 6:05 to avoid interruptions. This event is free\, but donations will be accepted.\nThe New Moon on April 27\, 2025. \nRainbow Rock REIKI Wellness Center \n25 S 2nd St\, Black River Falls\, WI 54615-1712\, United States
URL:https://www.blackrivercountry.net/event/new-moon-mediation-rainbow-rock-reiki-wellness-center/
END:VEVENT
BEGIN:VEVENT
DTSTART;TZID=America/Chicago:20250428T070000
DTEND;TZID=America/Chicago:20250428T140000
DTSTAMP:20260420T161244
CREATED:20250404T151336Z
LAST-MODIFIED:20250404T151336Z
UID:10007534-1745823600-1745848800@www.blackrivercountry.net
SUMMARY:Books Are Fun @ Black River Health
DESCRIPTION:
URL:https://www.blackrivercountry.net/event/books-are-fun-black-river-health/
END:VEVENT
BEGIN:VEVENT
DTSTART;TZID=America/Chicago:20250428T090000
DTEND;TZID=America/Chicago:20250430T170000
DTSTAMP:20260420T161244
CREATED:20250407T150610Z
LAST-MODIFIED:20250407T150610Z
UID:10007536-1745830800-1746032400@www.blackrivercountry.net
SUMMARY:Photography Exhibit at the Library!
DESCRIPTION:
URL:https://www.blackrivercountry.net/event/photography-exhibit-at-the-library/
END:VEVENT
END:VCALENDAR