BEGIN:VCALENDAR
VERSION:2.0
PRODID:-//Black River Area Chamber of Commerce - ECPv6.15.20//NONSGML v1.0//EN
CALSCALE:GREGORIAN
METHOD:PUBLISH
X-ORIGINAL-URL:https://www.blackrivercountry.net
X-WR-CALDESC:Events for Black River Area Chamber of Commerce
REFRESH-INTERVAL;VALUE=DURATION:PT1H
X-Robots-Tag:noindex
X-PUBLISHED-TTL:PT1H
BEGIN:VTIMEZONE
TZID:America/Chicago
BEGIN:DAYLIGHT
TZOFFSETFROM:-0600
TZOFFSETTO:-0500
TZNAME:CDT
DTSTART:20240310T080000
END:DAYLIGHT
BEGIN:STANDARD
TZOFFSETFROM:-0500
TZOFFSETTO:-0600
TZNAME:CST
DTSTART:20241103T070000
END:STANDARD
BEGIN:DAYLIGHT
TZOFFSETFROM:-0600
TZOFFSETTO:-0500
TZNAME:CDT
DTSTART:20250309T080000
END:DAYLIGHT
BEGIN:STANDARD
TZOFFSETFROM:-0500
TZOFFSETTO:-0600
TZNAME:CST
DTSTART:20251102T070000
END:STANDARD
BEGIN:DAYLIGHT
TZOFFSETFROM:-0600
TZOFFSETTO:-0500
TZNAME:CDT
DTSTART:20260308T080000
END:DAYLIGHT
BEGIN:STANDARD
TZOFFSETFROM:-0500
TZOFFSETTO:-0600
TZNAME:CST
DTSTART:20261101T070000
END:STANDARD
END:VTIMEZONE
BEGIN:VEVENT
DTSTART;VALUE=DATE:20251110
DTEND;VALUE=DATE:20251205
DTSTAMP:20260421T080611
CREATED:20251110T171702Z
LAST-MODIFIED:20251110T171702Z
UID:10008997-1762743600-1764817199@www.blackrivercountry.net
SUMMARY:"Tomorrow Needs You Day" (a self-made holiday by #WillPProject)
DESCRIPTION:“Tomorrow Needs You Day” (a self-made holiday by #WillPProject) is coming up soon! Help us celebrate the value of living today\, tomorrow\, and every day on Wednesday\, December 3rd!\n\n\nCheck out our NEW logo and the add-on options at different donation levels – this swag is SWEET!\n\n\nRequest your shirt through the QR code (get out your camera and aim at the QR code\, a link will pop up – click on that!) OR click on the link- we have limited colors and quantities.\n\n\nThank you for the support of #WillPProject #WillPProject: Stop.Think.Live.\, but even more\, thank you for supporting one another. We all need love\, understanding\, and kindness – and we need everyone here tomorrow\, too.\n\n\n#WillPProject #stopthinklive #alwayshope\n\n\n**Please make sure you complete ALL the fields on the form in order to fulfill your request.\n\n\nHere’s the link to request your #WillPProject Tomorrow Needs You shirt: https://docs.google.com/…/1Vfn35uhnp8qy2j…/edit…
URL:https://www.blackrivercountry.net/event/tomorrow-needs-you-day-a-self-made-holiday-by-willpproject/
END:VEVENT
BEGIN:VEVENT
DTSTART;TZID=America/Chicago:20251109T140000
DTEND;TZID=America/Chicago:20251109T160000
DTSTAMP:20260421T080611
CREATED:20251029T154619Z
LAST-MODIFIED:20251029T154619Z
UID:10008955-1762696800-1762704000@www.blackrivercountry.net
SUMMARY:Breathwork class with Denise Keenan @ Holistic Intentions
DESCRIPTION:The breath was given to us at birth\, but many people are only now discovering what a transformational and powerful tool it is. Join Denise Keenan for a 2-hour breathwork class\, in which we will use breathwork to open the body’s energy systems and result in these common benefits:\n-Stress reduction and relief of anxiety– a deeper relationship with your body-Access to your higher self\, and strengthen your intuition-Enjoy more energy and mental clarity so that your life becomes a celebration-detoxify the body and revitalize all of your systems – mentally\, emotionally and physically-discover and release buried emotions that keep you from living the life of freedom and joy that you deserve-discover your “bliss body” and experience more Light and Joy in your daily life\nDenise Keenan has been studying breathwork for over thirty years. Her background in hypnotherapy\, energy work and spirituality led her to become certified in Transformational Breathing in 1993 and then continue on to work with Hawaiian Kahunas\, Shamans\, Druid priests and other exceptional teachers who imparted esoteric and practical knowledge of the intricacies of the breath and how to access it with grace and ease. It is one of our most precious gifts and a key to a richer\, more peace-filled life.\nPlease dress comfortably. We will be having a short instruction and then lying on the floor. Bring yoga mats and bolsters if you have them or need them. Blankets will be available but be sure to bring some socks as sometimes you feel cool when the energy starts to adjust in your body.\nCost $40. Limited to 10 people. To register\, please message Holistic Intentions or text 608-769-0858 and pay at PayPal @young intentions or Venmo @byoung9321.
URL:https://www.blackrivercountry.net/event/breathwork-class-with-denise-keenan-holistic-intentions/
END:VEVENT
BEGIN:VEVENT
DTSTART;TZID=America/Chicago:20251109T130000
DTEND;TZID=America/Chicago:20251109T160000
DTSTAMP:20260421T080611
CREATED:20250414T151701Z
LAST-MODIFIED:20250929T162103Z
UID:10007572-1762693200-1762704000@www.blackrivercountry.net
SUMMARY:Live Music at Creekside Winery
DESCRIPTION:
URL:https://www.blackrivercountry.net/event/live-music-at-creekside-winery/2025-11-09/
END:VEVENT
BEGIN:VEVENT
DTSTART;VALUE=DATE:20251109
DTEND;VALUE=DATE:20251116
DTSTAMP:20260421T080611
CREATED:20250811T190913Z
LAST-MODIFIED:20250811T190913Z
UID:10008472-1762657200-1763175599@www.blackrivercountry.net
SUMMARY:Online Facebook Auction @Miller's Antiques & Auction Co
DESCRIPTION:6 day auction on Facebook. NOVEMBER 9\, 10\, 11\, 12\, 13\, 14 at 6PM CST each day. Check it out.\nhttps://www.facebook.com/groups/1481403645429887/
URL:https://www.blackrivercountry.net/event/online-facebook-auction-millers-antiques-auction-co/
END:VEVENT
BEGIN:VEVENT
DTSTART;TZID=America/Chicago:20251108T090000
DTEND;TZID=America/Chicago:20251108T120000
DTSTAMP:20260421T080611
CREATED:20251015T164235Z
LAST-MODIFIED:20251017T203322Z
UID:10008694-1762592400-1762603200@www.blackrivercountry.net
SUMMARY:Jackson County Winter Farmers Market
DESCRIPTION:Have you missed us? Great news! We’re back tomorrow with our first indoor market of the winter season. You can find us at the Miles-Hagen American Legion on Hwy 54 in Black River Falls – just on the other side of the Lunda Community Center from our outdoor/summer location. We’ll be there from 9am until noon\, with plenty of goodies for sale.\n\n\nImportant notes: If you have WIC or Senior Market vouchers\, they will expire at the end of October\, so bring them to the winter market to use them up this Saturday or next.\n\n\nIf you have tokens left over from the summer market\, you can still use them at any winter market\, or save them until next summer – they have no expiration date.\n\n\nSNAP and credit/debit tokens will be available at the winter market.\n\n\nWe will have gift certificate booklets available for the 2026 season\, but they won’t be ready for tomorrow’s market\, so stay tuned for those for the following markets.
URL:https://www.blackrivercountry.net/event/jackson-county-winter-farmers-market/2025-11-08/
ATTACH;FMTTYPE=image/png:https://www.blackrivercountry.net/wp-content/uploads/560174924_1361491672645634_5864646081287741057_n.png
END:VEVENT
BEGIN:VEVENT
DTSTART;TZID=America/Chicago:20251107T213000
DTEND;TZID=America/Chicago:20251108T023000
DTSTAMP:20260421T080611
CREATED:20250401T151946Z
LAST-MODIFIED:20250624T155105Z
UID:10007471-1762551000-1762569000@www.blackrivercountry.net
SUMMARY:Karaoke at Sunset Tavern 9:30pm - Close
DESCRIPTION:Karaoke at Sunset Tavern with your karaoke host Derek and bartenders Josie\, Shayla\, Alyssa and the crew!Cold beer\, awesome mixed drinks\, amazing atmosphere and karaoke with me your creatively dressed host.
URL:https://www.blackrivercountry.net/event/karaoke-at-sunset-tavern-930pm-close/2025-11-07/
ATTACH;FMTTYPE=image/png:https://www.blackrivercountry.net/wp-content/uploads/sunset-karaoje.PNG
END:VEVENT
BEGIN:VEVENT
DTSTART;TZID=America/Chicago:20251107T173000
DTEND;TZID=America/Chicago:20251107T203000
DTSTAMP:20260421T080611
CREATED:20251013T185743Z
LAST-MODIFIED:20251013T185743Z
UID:10008688-1762536600-1762547400@www.blackrivercountry.net
SUMMARY:Play BINGO win TUPPERWARE! @ Creekside Winery!
DESCRIPTION:
URL:https://www.blackrivercountry.net/event/play-bingo-win-tupperware-creekside-winery/
END:VEVENT
BEGIN:VEVENT
DTSTART;TZID=America/Chicago:20251106T180000
DTEND;TZID=America/Chicago:20251106T200000
DTSTAMP:20260421T080611
CREATED:20251031T153754Z
LAST-MODIFIED:20251031T153754Z
UID:10008962-1762452000-1762459200@www.blackrivercountry.net
SUMMARY:Full Moon Meditation @ Holistic Intentions
DESCRIPTION:The full moon peaks on November 5 2025 at 13°22′ Taurus.\n\nIt will be a Supermoon\, i.e.\, the Moon is at a closer-than-usual distance to Earth\, making it appear slightly larger and brighter.\n\nIt traditionally falls under the name Beaver Moon\, though 2025 sources note that in this year it is also called the “Hunter’s Moon” by some traditions.Traditional & Symbolic Meaning\nThe name “Beaver Moon” comes from late-autumn in the Northern Hemisphere when beavers are actively preparing lodges and storing food ahead of winter\, and when trapping once occurred for their fur.\n\nThe “Hunter’s Moon” name (applied this year in some sources) refers to the full moon after the harvest moon\, when fields are cleared and hunters used the bright moonlight to track game.\n\nIn the spiritual/lunar cycle\, full moons mark culmination\, illumination\, release. According to witchcraft/spiritual lunar lore: “the full moon is a time of culmination\, realization\, and heightened power.”\n\nAstrological Meaning (Taurus Full Moon)\nSince the Moon is in Taurus\, this lunar event emphasizes themes related to Taurus’ domain: stability\, values\, resources\, comfort\, sensuality\, the body\, material safety. Some key points:\nAs per the astrology guide: this full moon invites focus on “the simple things that bring you joy\, the beauty of nature … creating a comfortable home environment\, food that you love.”Astrostyle\nIt’s a good time to ask: “What in my life matters deeply? What am I valuing? What security do I need to build?”\nBecause full moons also involve an opposition dynamic (Sun opposite Moon) — here the Sun would be in Scorpio (since Taurus  Scorpio) — there is tension between material/physical securities (Taurus) and psychological/emotional depth/transformation (Scorpio). This suggests a moment of balancing “outer” comfort and “inner” transformation.\nGiven it’s a Supermoon\, the emotional/energetic impact may feel more intense or amplified (for those sensitive to lunar energy) — brighter moon\, stronger pull\, heightened awareness.\n\n\n\n“When we meditate together\, our hearts synchronize. The energy we raise supports not just ourselves\, but each soul in the circle. It’s healing\, grounding\, and deeply connective — a reminder that we’re all walking each other home.”
URL:https://www.blackrivercountry.net/event/full-moon-meditation-holistic-intentions-2/
END:VEVENT
BEGIN:VEVENT
DTSTART;TZID=America/Chicago:20251106T173000
DTEND;TZID=America/Chicago:20251106T183000
DTSTAMP:20260421T080611
CREATED:20250919T163737Z
LAST-MODIFIED:20251104T171836Z
UID:10008644-1762450200-1762453800@www.blackrivercountry.net
SUMMARY:In The Kitchen @ Lunda Community Center
DESCRIPTION:
URL:https://www.blackrivercountry.net/event/in-the-kitchen-lunda-community-center/2025-11-06/
END:VEVENT
BEGIN:VEVENT
DTSTART;TZID=America/Chicago:20251106T110000
DTEND;TZID=America/Chicago:20251108T160000
DTSTAMP:20260421T080611
CREATED:20251029T172528Z
LAST-MODIFIED:20251029T172528Z
UID:10008957-1762426800-1762617600@www.blackrivercountry.net
SUMMARY:Christmas Open House at Love On Your Home Boutique!
DESCRIPTION:Christmas Open House at Love On Your Home Boutique! \n\n\nIt’s that magical time of year again! Join us at Love On Your Home Boutique for our Christmas Open House and get in the holiday spirit. The shop is filled with lots of Christmas décor\, cozy apparel\, and great gift ideas for everyone on your list.\n\n\n Open House Hours:\n Thursday\, November 6 | 11 AM – 4 PM\n Friday\, November 7 | 11 AM – 4 PM\n Saturday\, November 8 | 10 AM – 2 PM\n\n\n 131 Main Street\, Black River Falls\n\n\nStop in\, say hi\, do a little shopping\, and enter to win some fun door prizes! \nIt’s always a good time to shop local and see what’s new downtown. Can’t wait to see you and kick off the holiday season together!
URL:https://www.blackrivercountry.net/event/christmas-open-house-at-love-on-your-home-boutique/
END:VEVENT
BEGIN:VEVENT
DTSTART;TZID=America/Chicago:20251106T100000
DTEND;TZID=America/Chicago:20251106T130000
DTSTAMP:20260421T080611
CREATED:20251001T154512Z
LAST-MODIFIED:20251001T154512Z
UID:10008671-1762423200-1762434000@www.blackrivercountry.net
SUMMARY:Season's Greetings Water Color For Beginners
DESCRIPTION:
URL:https://www.blackrivercountry.net/event/seasons-greetings-water-color-for-beginners/
END:VEVENT
BEGIN:VEVENT
DTSTART;TZID=America/Chicago:20251105T180000
DTEND;TZID=America/Chicago:20251105T190000
DTSTAMP:20260421T080611
CREATED:20251029T153339Z
LAST-MODIFIED:20251029T153522Z
UID:10008900-1762365600-1762369200@www.blackrivercountry.net
SUMMARY:Yoga of Awareness
DESCRIPTION:
URL:https://www.blackrivercountry.net/event/yoga-of-awareness/2025-11-05/
END:VEVENT
BEGIN:VEVENT
DTSTART;TZID=America/Chicago:20251105T173000
DTEND;TZID=America/Chicago:20251105T193000
DTSTAMP:20260421T080611
CREATED:20241227T162211Z
LAST-MODIFIED:20260414T212427Z
UID:10008132-1762363800-1762371000@www.blackrivercountry.net
SUMMARY:Game Night @Lunda Community Center
DESCRIPTION:
URL:https://www.blackrivercountry.net/event/game-night-all-day-lunda-community-center/2025-11-05/
LOCATION:Lunda Community Center\, 405 WI-54 Trunk\, Black River Falls\, WI\, 54615\, United States
ATTACH;FMTTYPE=image/jpeg:https://www.blackrivercountry.net/wp-content/uploads/669355474_1431586712098600_7873493393374273283_n.jpg
GEO:44.2909017;-90.8632686
X-APPLE-STRUCTURED-LOCATION;VALUE=URI;X-ADDRESS=Lunda Community Center 405 WI-54 Trunk Black River Falls WI 54615 United States;X-APPLE-RADIUS=500;X-TITLE=405 WI-54 Trunk:geo:-90.8632686,44.2909017
END:VEVENT
BEGIN:VEVENT
DTSTART;TZID=America/Chicago:20251105T173000
DTEND;TZID=America/Chicago:20251105T183000
DTSTAMP:20260421T080611
CREATED:20250617T154837Z
LAST-MODIFIED:20260203T152031Z
UID:10007850-1762363800-1762367400@www.blackrivercountry.net
SUMMARY:Dinner Church Hosted By Black River Falls Methodist Church.
DESCRIPTION:
URL:https://www.blackrivercountry.net/event/dinner-church-hosted-by-black-river-falls-methodist-church/2025-11-05/
ATTACH;FMTTYPE=image/jpeg:https://www.blackrivercountry.net/wp-content/uploads/488889400_1081195334051804_805918472982756091_n.jpg
END:VEVENT
BEGIN:VEVENT
DTSTART;TZID=America/Chicago:20251105T160000
DTEND;TZID=America/Chicago:20251105T190000
DTSTAMP:20260421T080611
CREATED:20251017T163205Z
LAST-MODIFIED:20251030T204403Z
UID:10008762-1762358400-1762369200@www.blackrivercountry.net
SUMMARY:Community Education Cooking Around The World Class (Ages 18+)
DESCRIPTION:  \nTired of eating the same old thing? Come travel the globe with your taste buds! Join Instructor Sarah Halverson for a 3-session class and whip up: French Crepes & Chocolate Mousse\, Hmong Egg Rolls\, Indian Curry.\n Wednesdays 10/29/2025-11/12/25\n 4–7 PM\n $35\n BRF High School\nWe just need 1 more person to sign up to run this class—don’t miss out! Reserve your spot today at https://brfparksandrec.recdesk.com/Comm…/Program/Detail…
URL:https://www.blackrivercountry.net/event/community-education-cooking-around-the-world-class-ages-18/2025-11-05/
END:VEVENT
BEGIN:VEVENT
DTSTART;TZID=America/Chicago:20251105T113000
DTEND;TZID=America/Chicago:20251105T170000
DTSTAMP:20260421T080611
CREATED:20251017T150330Z
LAST-MODIFIED:20251017T150330Z
UID:10008757-1762342200-1762362000@www.blackrivercountry.net
SUMMARY:American Red Cross Blood Drive @ Comfort Inn & Suites
DESCRIPTION:
URL:https://www.blackrivercountry.net/event/american-red-cross-blood-drive-comfort-inn-suites-2/
END:VEVENT
BEGIN:VEVENT
DTSTART;TZID=America/Chicago:20251105T100000
DTEND;TZID=America/Chicago:20251105T120000
DTSTAMP:20260421T080611
CREATED:20251001T154156Z
LAST-MODIFIED:20251001T165616Z
UID:10008670-1762336800-1762344000@www.blackrivercountry.net
SUMMARY:Make & Take Greeting Cards
DESCRIPTION:
URL:https://www.blackrivercountry.net/event/make-take-greeting-cards/
END:VEVENT
BEGIN:VEVENT
DTSTART;TZID=America/Chicago:20251104T190000
DTEND;TZID=America/Chicago:20251104T190000
DTSTAMP:20260421T080611
CREATED:20241212T175224Z
LAST-MODIFIED:20241226T163439Z
UID:10006570-1762282800-1762282800@www.blackrivercountry.net
SUMMARY:Tuesday Trivia @ Rozarios
DESCRIPTION:Cold drinks. Hot food. Tons of fun. Trivia starts at 7:15 pm. So get your team together and come on down. Free to play.
URL:https://www.blackrivercountry.net/event/tuesday-trivia-rozario/2025-11-04/
ATTACH;FMTTYPE=image/jpeg:https://www.blackrivercountry.net/wp-content/uploads/415519650_858493506278630_1467434810096093052_n-1.jpg
END:VEVENT
BEGIN:VEVENT
DTSTART;TZID=America/Chicago:20251104T140000
DTEND;TZID=America/Chicago:20251104T150000
DTSTAMP:20260421T080611
CREATED:20250908T152851Z
LAST-MODIFIED:20250908T152851Z
UID:10008580-1762264800-1762268400@www.blackrivercountry.net
SUMMARY:"10 Warning Signs of Alzheimer's" @ Black River Falls Public Library
DESCRIPTION:
URL:https://www.blackrivercountry.net/event/10-warning-signs-of-alzheimers-black-river-falls-public-library/
END:VEVENT
BEGIN:VEVENT
DTSTART;TZID=America/Chicago:20251104T130000
DTEND;TZID=America/Chicago:20251104T160000
DTSTAMP:20260421T080611
CREATED:20251027T204543Z
LAST-MODIFIED:20251027T204543Z
UID:10008833-1762261200-1762272000@www.blackrivercountry.net
SUMMARY:Polka Music @ Ho-Chunk Gaming Black River Falls
DESCRIPTION:
URL:https://www.blackrivercountry.net/event/polka-music-ho-chunk-gaming-black-river-falls-3/
END:VEVENT
BEGIN:VEVENT
DTSTART;TZID=America/Chicago:20251104T120000
DTEND;TZID=America/Chicago:20251104T130000
DTSTAMP:20260421T080611
CREATED:20250612T153220Z
LAST-MODIFIED:20250612T153220Z
UID:10007809-1762257600-1762261200@www.blackrivercountry.net
SUMMARY:ADRC Access Hour @BRF Public Library
DESCRIPTION:Our friends from Jackson County Aging & Disability Resource Center are returning to the library on the first Tuesday of every month to provide information and access to services available in Jackson County. This program begins on Tuesday\, July 1 (from noon to 1 p.m.). No appointment necessary!
URL:https://www.blackrivercountry.net/event/adrc-access-hour-brf-public-library/2025-11-04/
END:VEVENT
BEGIN:VEVENT
DTSTART;TZID=America/Chicago:20251104T080000
DTEND;TZID=America/Chicago:20251105T170000
DTSTAMP:20260421T080611
CREATED:20251031T153505Z
LAST-MODIFIED:20251031T153505Z
UID:10008961-1762243200-1762362000@www.blackrivercountry.net
SUMMARY:Healings with Joe @ Holistic Intentions
DESCRIPTION:$70 for 1 hour healing. Cash\, credit\, or check payments accepted. Contact Lisa to schedule appointments – https://www.facebook.com/maplehouse.arts or text 920-739-9389
URL:https://www.blackrivercountry.net/event/healings-with-joe-holistic-intentions/
END:VEVENT
BEGIN:VEVENT
DTSTART;TZID=America/Chicago:20251103T100000
DTEND;TZID=America/Chicago:20251103T110000
DTSTAMP:20260421T080611
CREATED:20250131T190935Z
LAST-MODIFIED:20260203T153038Z
UID:10007103-1762164000-1762167600@www.blackrivercountry.net
SUMMARY:Mugs & Matches
DESCRIPTION:  \nWe are extending a warm welcome to Interfaith Volunteers to join together for coffee and conversation on Mondays. Coffee is served at 10 am the first Monday of each month. If you are not a fan of coffee\, no worries—we have tea\, hot chocolate\, and bottled water\, too. Come and catch up with fellow volunteers! See you Monday!
URL:https://www.blackrivercountry.net/event/mugs-matches/2025-11-03/
ATTACH;FMTTYPE=image/jpeg:https://www.blackrivercountry.net/wp-content/uploads/mugs-and-matches.jpg
END:VEVENT
BEGIN:VEVENT
DTSTART;TZID=America/Chicago:20251103T080000
DTEND;TZID=America/Chicago:20251110T170000
DTSTAMP:20260421T080611
CREATED:20251103T194306Z
LAST-MODIFIED:20251103T194306Z
UID:10008971-1762156800-1762794000@www.blackrivercountry.net
SUMMARY:HCE (Home and Community Education) @ Black River Falls Public Library.
DESCRIPTION:Cheryl Gabrielson and Judy Hunter provided a beautiful display in honor of HCE (Home and Community Education) Week\, November 3-10. The quilts and hand-crafted items will be on display through Saturday in the Library’s program room\, and we invite community members to stop in this week and enjoy the 2025 HCE Week display!\n\n(*The Jackson County HCE Book Worms have read books to one million children since this group started. Thank you\, HCE members\, for all you do for our community!)
URL:https://www.blackrivercountry.net/event/hce-home-and-community-education-black-river-falls-public-library/
ATTACH;FMTTYPE=image/jpeg:https://www.blackrivercountry.net/wp-content/uploads/HCE-Display-2025.jpg
END:VEVENT
BEGIN:VEVENT
DTSTART;VALUE=DATE:20251103
DTEND;VALUE=DATE:20251207
DTSTAMP:20260421T080611
CREATED:20251022T201116Z
LAST-MODIFIED:20251022T201116Z
UID:10008822-1762138800-1764989999@www.blackrivercountry.net
SUMMARY:Project Christmas @Black River Falls Public Library
DESCRIPTION:Get ready to spread some holiday cheer! Project Christmas 2025 is a local campaign dedicated to bringing joy to families in our community this Christmas season. \nWe’re partnering with best-selling author Ryan T. Higgins to make a difference! You have the opportunity to purchase a copy of his book\, Norman and the Smell of Adventure\, to be donated directly to Project Christmas. \nYour purchase will help us include a book in the Christmas care packages distributed to area families\, directly benefiting a young child in the area. \nHere’s how you can participate:\n\nDonate a Book: Purchase the selected book\, Norman and the Smell of Adventure\, and it will be donated to Project Christmas.\nGet a Discounted Book for Your Family: When you purchase a book for Project Christmas\, you can also purchase a book for your own family at the same discounted price of $10.00.\nProject Christmas thanks you for your participation in helping us bring a little more magic to the holidays!
URL:https://www.blackrivercountry.net/event/project-christmas-black-river-falls-public-library/
END:VEVENT
BEGIN:VEVENT
DTSTART;TZID=America/Chicago:20251101T200000
DTEND;TZID=America/Chicago:20251101T200000
DTSTAMP:20260421T080611
CREATED:20251022T150315Z
LAST-MODIFIED:20251028T185235Z
UID:10008821-1762027200-1762027200@www.blackrivercountry.net
SUMMARY:R & R's Halloween Party
DESCRIPTION:HALLOWEEN BASH at R & R’s First and Last Chance Saturday\, nov.1st 8 PM – Close\nGet ready for a night of fright\, fun\, and killer good times at your favorite local haunt!\n COSTUME CONTEST – Prizes for Scariest\, Funniest\, and Best Overall Spooky Drink Specials all night longMusic / Dancing till the witching hour Games\, Giveaways & Surprises around every corner!\nWhether you’re a ghost\, ghoul\, witch\, or werewolf — come dressed to impress (or distress)!\n R & R’s First and Last Chance 21+ | No Cover Charge | Bring your creepiest crew\nThis is your First and Last Chance to party like the undead this Halloween!
URL:https://www.blackrivercountry.net/event/r-rs-halloween-party/
END:VEVENT
BEGIN:VEVENT
DTSTART;TZID=America/Chicago:20251101T180000
DTEND;TZID=America/Chicago:20251101T210000
DTSTAMP:20260421T080611
CREATED:20251023T202856Z
LAST-MODIFIED:20251023T202856Z
UID:10008826-1762020000-1762030800@www.blackrivercountry.net
SUMMARY:Halloween Open Skate
DESCRIPTION:
URL:https://www.blackrivercountry.net/event/halloween-open-skate/
END:VEVENT
BEGIN:VEVENT
DTSTART;VALUE=DATE:20251101
DTEND;VALUE=DATE:20251202
DTSTAMP:20260421T080611
CREATED:20251023T151231Z
LAST-MODIFIED:20251023T151231Z
UID:10008824-1761966000-1764557999@www.blackrivercountry.net
SUMMARY:November Indigenous Harvest of the Month
DESCRIPTION:Harvest of the Month is a longstanding program of Jackson In Action. Each month we highlight a different fruit or vegetable and provide fun facts and recipes. Increasing knowledge of different types of produce has been shown to increase fruit and vegetable intake. We encourage you to share the flyer each month at your organization\, either electronically or by putting out paper copies. \n  \nCurrent and past Harvest of the Month information can be found on our website: https://www.jacksoninaction.org/harvestofthemonth
URL:https://www.blackrivercountry.net/event/november-indigenous-harvest-of-the-month/
END:VEVENT
BEGIN:VEVENT
DTSTART;VALUE=DATE:20251101
DTEND;VALUE=DATE:20251202
DTSTAMP:20260421T080611
CREATED:20251023T151053Z
LAST-MODIFIED:20251023T151053Z
UID:10008823-1761966000-1764557999@www.blackrivercountry.net
SUMMARY:November Harvest of the Month
DESCRIPTION:Harvest of the Month is a longstanding program of Jackson In Action. Each month we highlight a different fruit or vegetable and provide fun facts and recipes. Increasing knowledge of different types of produce has been shown to increase fruit and vegetable intake. We encourage you to share the flyer each month at your organization\, either electronically or by putting out paper copies. \n  \nCurrent and past Harvest of the Month information can be found on our website: https://www.jacksoninaction.org/harvestofthemonth
URL:https://www.blackrivercountry.net/event/november-harvest-of-the-month/
END:VEVENT
BEGIN:VEVENT
DTSTART;VALUE=DATE:20251101
DTEND;VALUE=DATE:20251103
DTSTAMP:20260421T080611
CREATED:20251006T152008Z
LAST-MODIFIED:20251006T152008Z
UID:10008682-1761966000-1762052399@www.blackrivercountry.net
SUMMARY:Early Learning Conference - Western Dairyland
DESCRIPTION:Child Care Partnership is presenting our annual Early Learning Conference on Saturday\, November 1\, 2025 at the Florian Gardens Conference Center in Eau Claire\, as an opportunity for the community to come together to learn about young children’s well-being\, health\, and literacy. We look forward to hearing from our expert and engaging speakers: Dr. Dipesh Navsaria of Reach Out and Read\, and early childhood expert Rachel Giannini. This conference is for anyone who cares about children’s well-being\, including childcare providers\, educators\, families\, Head Start staff\, 4K staff\, Early Education students\, Family Resource Center staff\, therapy providers\, home visitors\, health professionals\, social workers\, and more! \nREGISTER HERE: www.childcarepartnership.org/early_learning_conference.phtml \nShare the Facebook event
URL:https://www.blackrivercountry.net/event/early-learning-conference-western-dairyland/
END:VEVENT
END:VCALENDAR