BEGIN:VCALENDAR
VERSION:2.0
PRODID:-//Black River Area Chamber of Commerce - ECPv6.15.20//NONSGML v1.0//EN
CALSCALE:GREGORIAN
METHOD:PUBLISH
X-ORIGINAL-URL:https://www.blackrivercountry.net
X-WR-CALDESC:Events for Black River Area Chamber of Commerce
REFRESH-INTERVAL;VALUE=DURATION:PT1H
X-Robots-Tag:noindex
X-PUBLISHED-TTL:PT1H
BEGIN:VTIMEZONE
TZID:America/Chicago
BEGIN:DAYLIGHT
TZOFFSETFROM:-0600
TZOFFSETTO:-0500
TZNAME:CDT
DTSTART:20240310T080000
END:DAYLIGHT
BEGIN:STANDARD
TZOFFSETFROM:-0500
TZOFFSETTO:-0600
TZNAME:CST
DTSTART:20241103T070000
END:STANDARD
BEGIN:DAYLIGHT
TZOFFSETFROM:-0600
TZOFFSETTO:-0500
TZNAME:CDT
DTSTART:20250309T080000
END:DAYLIGHT
BEGIN:STANDARD
TZOFFSETFROM:-0500
TZOFFSETTO:-0600
TZNAME:CST
DTSTART:20251102T070000
END:STANDARD
BEGIN:DAYLIGHT
TZOFFSETFROM:-0600
TZOFFSETTO:-0500
TZNAME:CDT
DTSTART:20260308T080000
END:DAYLIGHT
BEGIN:STANDARD
TZOFFSETFROM:-0500
TZOFFSETTO:-0600
TZNAME:CST
DTSTART:20261101T070000
END:STANDARD
END:VTIMEZONE
BEGIN:VEVENT
DTSTART;TZID=America/Chicago:20250620T213000
DTEND;TZID=America/Chicago:20250621T023000
DTSTAMP:20260421T231924
CREATED:20250401T152018Z
LAST-MODIFIED:20250401T152018Z
UID:10007484-1750455000-1750473000@www.blackrivercountry.net
SUMMARY:Karaoke at Sunset Tavern 9:30pm - Close
DESCRIPTION:Karaoke at Sunset Tavern with your karaoke host Derek and bartenders Josie\, Shayla\, Alyssa and the crew!Cold beer\, awesome mixed drinks\, amazing atmosphere and karaoke with me your creatively dressed host.
URL:https://www.blackrivercountry.net/event/karaoke-at-sunset-tavern-930pm-close-2/2025-06-20/
LOCATION:WI
ATTACH;FMTTYPE=image/png:https://www.blackrivercountry.net/wp-content/uploads/sunset-karaoje.PNG
END:VEVENT
BEGIN:VEVENT
DTSTART;TZID=America/Chicago:20250620T100000
DTEND;TZID=America/Chicago:20250620T140000
DTSTAMP:20260421T231924
CREATED:20250520T155252Z
LAST-MODIFIED:20250520T155252Z
UID:10007668-1750413600-1750428000@www.blackrivercountry.net
SUMMARY:Carnegie Museum open for the 2025 season
DESCRIPTION:Carnegie Museum opening for the 2025 season. Opening Friday May 2\, 2025 through September 26\, 2025. Regular hours will be Fridays & Saturdays from 10am to 2pm. Spring Creek Schoolhouse Museum will be open May through September on the first Sunday of each month from 12 (Noon) to 3pm\, opening date May 4th\, 2025 through September 7th\, 2025. Both Museums are available to open by appointment.Local history and genealogy research center can be made by appointment.
URL:https://www.blackrivercountry.net/event/carnegie-museum-open-for-the-2025-season/2025-06-20/
LOCATION:WI
ATTACH;FMTTYPE=image/jpeg:https://www.blackrivercountry.net/wp-content/uploads/494150069_1225665596226231_4174473114499380994_n-1.jpg
END:VEVENT
BEGIN:VEVENT
DTSTART;VALUE=DATE:20250620
DTEND;VALUE=DATE:20250914
DTSTAMP:20260421T231924
CREATED:20250620T174256Z
LAST-MODIFIED:20250620T174256Z
UID:10008099-1750388400-1757732399@www.blackrivercountry.net
SUMMARY:WRLS Passport Challenge 2025
DESCRIPTION:Back by popular demand\, we’re excited to share the WRLS Passport Challenge 2025 is now underway! Explore as many of the unique and amazing libraries in the Winding Rivers Library System as you can and be entered to win PRIZES! This is a great way to spend time with family and friends while enjoying some beautiful scenery along the way. The passport challenge runs through Friday \, September 12. Pick up a passport at any WRLS library today and Get Stamped! More information is available at your local WRLS library or online: https://www.wrlsweb.org/passportchallenge/
URL:https://www.blackrivercountry.net/event/wrls-passport-challenge-2025/
LOCATION:WI
END:VEVENT
BEGIN:VEVENT
DTSTART;VALUE=DATE:20250620
DTEND;VALUE=DATE:20250624
DTSTAMP:20260421T231924
CREATED:20250606T153639Z
LAST-MODIFIED:20250606T153639Z
UID:10007784-1750388400-1750647599@www.blackrivercountry.net
SUMMARY:Alma Center Strawberry Festival
DESCRIPTION:
URL:https://www.blackrivercountry.net/event/alma-center-strawberry-festival/
LOCATION:WI
END:VEVENT
BEGIN:VEVENT
DTSTART;TZID=America/Chicago:20250619T180000
DTEND;TZID=America/Chicago:20250619T180000
DTSTAMP:20260421T231924
CREATED:20250611T160141Z
LAST-MODIFIED:20250611T160141Z
UID:10007797-1750356000-1750356000@www.blackrivercountry.net
SUMMARY:BINGO for *Charity* @McSweets Irish Pub
DESCRIPTION:Thursday\, June 19th\, McSweet’s will be hosting a bingo party with a portion of the proceeds going to local non-profit organizations. We have chosen the KARNER BLUE GARDEN CLUB for the week’s recipient. This will be a bi-weekly event with a different non-profit selected for the week. We are hoping for a great turnout to help spread some love! See you all Thursday\, the 19th!
URL:https://www.blackrivercountry.net/event/bingo-for-charity-mcsweets-irish-pub-2/
LOCATION:WI
END:VEVENT
BEGIN:VEVENT
DTSTART;TZID=America/Chicago:20250619T100000
DTEND;TZID=America/Chicago:20250619T140000
DTSTAMP:20260421T231924
CREATED:20250319T194245Z
LAST-MODIFIED:20250612T152937Z
UID:10007253-1750327200-1750341600@www.blackrivercountry.net
SUMMARY:Jackson County's 2nd Annual Senior Health Fair
DESCRIPTION:
URL:https://www.blackrivercountry.net/event/save-the-date-jackson-countys-2nd-annual-senior-health-fair/
LOCATION:WI
END:VEVENT
BEGIN:VEVENT
DTSTART;TZID=America/Chicago:20250618T180000
DTEND;TZID=America/Chicago:20250618T190000
DTSTAMP:20260421T231924
CREATED:20250602T151440Z
LAST-MODIFIED:20250602T151440Z
UID:10007772-1750269600-1750273200@www.blackrivercountry.net
SUMMARY:How to Apply for the $10k Verizon Business Grant - Webinars
DESCRIPTION:APPLY TODAY – $10\,000 grant opportunities sponsored by Verizon Small Business Digital Ready are now available! \nYou must complete two short courses in order to unlock the grant application. All applications are due by 11:59 PM PT on June 30\, 2025. Click here to learn more and register. \nHow to Apply for the $10k Verizon Business Grant – Webinars \nWednesday\, June 4 | 6 – 7 PM \nWednesday\, June 11 | 12 – 1 PM \nWednesday\, June 18 | 6 – 7 PM \nWednesday\, June 25 | 12 – 1 PM \nCost: Free \nREGISTER HERE \nFAQ Sheet English (PDF) \nFAQ Sheet Spanish (PDF) \nMost popular marketing & finance courses: \n\nCalculating the salary you deserve\nFind the right financing for your business\nSetting smart prices\nStrengthen your loan application readiness\nDefining your brand: connecting to customers\n\n\n\n\n\n\n\n\n\n\n\n\n\n\n\n\n\n\n\n\nAPPLY NOW
URL:https://www.blackrivercountry.net/event/how-to-apply-for-the-10k-verizon-business-grant-webinars/2025-06-18/
LOCATION:WI
ATTACH;FMTTYPE=image/jpeg:https://www.blackrivercountry.net/wp-content/uploads/WesternWBC-2.jpg
END:VEVENT
BEGIN:VEVENT
DTSTART;TZID=America/Chicago:20250618T180000
DTEND;TZID=America/Chicago:20250618T180000
DTSTAMP:20260421T231924
CREATED:20250611T160600Z
LAST-MODIFIED:20250619T170146Z
UID:10007798-1750269600-1750269600@www.blackrivercountry.net
SUMMARY:Melrose Movies in the Park
DESCRIPTION:For updates visit https://www.facebook.com/villageof.melrose \n  \nVillage of Melrose Wisconsin “Tank” Park\nThe Village of Melrose “Tank” Park\, with its signature World War II era tank\, is located at the corner of Third Street and West Hogg Street. Facilities include a basketball court\, playground equipment\, an open-sided picnic shelter\, and restroom facilities. \nThe shelter may be rented for picnics and parties. Contact the Village Clerk for reservations at (608) 488-3191 or download a shelter reservation form from this website and present it to the Clerk with your rental fee. \nTo reserve the park facilities: New Parks Reservation Form
URL:https://www.blackrivercountry.net/event/melrose-movies-in-the-park/2025-06-18/
LOCATION:WI
END:VEVENT
BEGIN:VEVENT
DTSTART;TZID=America/Chicago:20250618T173000
DTEND;TZID=America/Chicago:20250618T183000
DTSTAMP:20260421T231924
CREATED:20250617T154837Z
LAST-MODIFIED:20260203T152031Z
UID:10007830-1750267800-1750271400@www.blackrivercountry.net
SUMMARY:Dinner Church Hosted By Black River Falls Methodist Church.
DESCRIPTION:
URL:https://www.blackrivercountry.net/event/dinner-church-hosted-by-black-river-falls-methodist-church/2025-06-18/
LOCATION:WI
ATTACH;FMTTYPE=image/jpeg:https://www.blackrivercountry.net/wp-content/uploads/488889400_1081195334051804_805918472982756091_n.jpg
END:VEVENT
BEGIN:VEVENT
DTSTART;TZID=America/Chicago:20250618T140000
DTEND;TZID=America/Chicago:20250618T180000
DTSTAMP:20260421T231924
CREATED:20250331T154210Z
LAST-MODIFIED:20250407T151137Z
UID:10007281-1750255200-1750269600@www.blackrivercountry.net
SUMMARY:Jackson County Farmer's Market
DESCRIPTION:https://jacksoncountyfarmersmarketwi.com/
URL:https://www.blackrivercountry.net/event/jackson-county-farmers-market/2025-06-18/
LOCATION:WI
ATTACH;FMTTYPE=image/jpeg:https://www.blackrivercountry.net/wp-content/uploads/486556373_1194120882716048_2855142741931307268_n.jpg
END:VEVENT
BEGIN:VEVENT
DTSTART;VALUE=DATE:20250618
DTEND;VALUE=DATE:20250619
DTSTAMP:20260421T231924
CREATED:20250529T193327Z
LAST-MODIFIED:20250529T194736Z
UID:10007744-1750233600-1750266000@www.blackrivercountry.net
SUMMARY:Summer Events with Lunda Community Center
DESCRIPTION:
URL:https://www.blackrivercountry.net/event/summer-mindfulness-with-lunda-community-center/2025-06-18/
LOCATION:WI
END:VEVENT
BEGIN:VEVENT
DTSTART;VALUE=DATE:20250618
DTEND;VALUE=DATE:20250620
DTSTAMP:20260421T231924
CREATED:20250522T160122Z
LAST-MODIFIED:20250522T160122Z
UID:10007700-1750215600-1750301999@www.blackrivercountry.net
SUMMARY:Summer Food Program
DESCRIPTION:
URL:https://www.blackrivercountry.net/event/summer-food-program/2025-06-18/
LOCATION:WI
END:VEVENT
BEGIN:VEVENT
DTSTART;TZID=America/Chicago:20250617T190000
DTEND;TZID=America/Chicago:20250617T190000
DTSTAMP:20260421T231924
CREATED:20250513T202409Z
LAST-MODIFIED:20250513T202409Z
UID:10007641-1750186800-1750186800@www.blackrivercountry.net
SUMMARY:2025 Concerts in the Park
DESCRIPTION:
URL:https://www.blackrivercountry.net/event/2025-concerts-in-the-park/2025-06-17/
LOCATION:WI
END:VEVENT
BEGIN:VEVENT
DTSTART;TZID=America/Chicago:20250617T190000
DTEND;TZID=America/Chicago:20250617T190000
DTSTAMP:20260421T231924
CREATED:20241212T175224Z
LAST-MODIFIED:20241226T163439Z
UID:10006550-1750186800-1750186800@www.blackrivercountry.net
SUMMARY:Tuesday Trivia @ Rozarios
DESCRIPTION:Cold drinks. Hot food. Tons of fun. Trivia starts at 7:15 pm. So get your team together and come on down. Free to play.
URL:https://www.blackrivercountry.net/event/tuesday-trivia-rozario/2025-06-17/
LOCATION:WI
ATTACH;FMTTYPE=image/jpeg:https://www.blackrivercountry.net/wp-content/uploads/415519650_858493506278630_1467434810096093052_n-1.jpg
END:VEVENT
BEGIN:VEVENT
DTSTART;TZID=America/Chicago:20250617T133000
DTEND;TZID=America/Chicago:20250617T150000
DTSTAMP:20260421T231924
CREATED:20250521T162141Z
LAST-MODIFIED:20250521T162455Z
UID:10007693-1750167000-1750172400@www.blackrivercountry.net
SUMMARY:Urban Poling Workshop
DESCRIPTION:https://wiparkinson.org/event/urban-poling-workshop-13-2/
URL:https://www.blackrivercountry.net/event/urban-poling-workshop/
LOCATION:WI
END:VEVENT
BEGIN:VEVENT
DTSTART;TZID=America/Chicago:20250617T113000
DTEND;TZID=America/Chicago:20250617T170000
DTSTAMP:20260421T231924
CREATED:20250522T162810Z
LAST-MODIFIED:20250522T162810Z
UID:10007711-1750159800-1750179600@www.blackrivercountry.net
SUMMARY:Blood Drive at Black River Health
DESCRIPTION:
URL:https://www.blackrivercountry.net/event/blood-drive-at-black-river-health/
LOCATION:WI
END:VEVENT
BEGIN:VEVENT
DTSTART;VALUE=DATE:20250617
DTEND;VALUE=DATE:20250714
DTSTAMP:20260421T231924
CREATED:20250617T164829Z
LAST-MODIFIED:20250619T174615Z
UID:10008093-1750129200-1752375599@www.blackrivercountry.net
SUMMARY:2025 Area Fireworks!!
DESCRIPTION:
URL:https://www.blackrivercountry.net/event/2025-area-fireworks/
LOCATION:WI
END:VEVENT
BEGIN:VEVENT
DTSTART;TZID=America/Chicago:20250616T190000
DTEND;TZID=America/Chicago:20250616T190000
DTSTAMP:20260421T231924
CREATED:20250602T150955Z
LAST-MODIFIED:20250602T150955Z
UID:10007769-1750100400-1750100400@www.blackrivercountry.net
SUMMARY:Turtle Pond Social with the Black River Area Community Band
DESCRIPTION:The Black River Area Community Band will put on a concert on\nMonday\, June 16 at the annual Ice Cream and Strawberry\nSocial at Alma Center’s Turtle Pond at 7pm. There will be\nmusical favorites led by band director\, Lance Rohloff\, face\npainting and bean bag games for children and ice cream and\nstrawberries for all to enjoy. This is a free event however the\nAlma Center Improvement Club will accept donations for the\nTurtle Pond project. Attendees are encouraged to bring a lawn\nchair or blanket to sit on. The Turtle Pond is located off Hwy\n95 in Alma Center.
URL:https://www.blackrivercountry.net/event/turtle-pond-social-with-the-black-river-area-community-band/
LOCATION:WI
ATTACH;FMTTYPE=image/jpeg:https://www.blackrivercountry.net/wp-content/uploads/IMG_3870-copy-rotated.jpeg
END:VEVENT
BEGIN:VEVENT
DTSTART;TZID=America/Chicago:20250615T140000
DTEND;TZID=America/Chicago:20250615T160000
DTSTAMP:20260421T231924
CREATED:20250606T182236Z
LAST-MODIFIED:20250606T182302Z
UID:10007789-1749996000-1750003200@www.blackrivercountry.net
SUMMARY:2025 Events at - Holistic Intentions - Rainbow Rock REIKI
DESCRIPTION:Holy Fire® III Reiki Level 2 is a powerful step in your Reiki journey that deepens your healing abilities and strengthens your connection to Universal Life Force energy. Here’s an overview of what you can typically expect from a Holy Fire® III Reiki Level 2 training: \n\n Key Elements of Holy Fire® III Reiki Level 2:\n1. Placement of Level 2 Symbols:\nYou’ll receive Placements (a Holy Fire® style of attunement) for the traditional Reiki Level 2 symbols: \n\nCho Ku Rei – Power symbol (amplifies Reiki energy)\nSei He Ki – Emotional/mental healing\nHon Sha Ze Sho Nen – Distance healing across time and space\n\nThese symbols deepen your healing practice and expand your ability to work with emotional and spiritual layers of the client. \n2. Distance Healing Techniques:\nYou’ll learn how to send Reiki across any distance or time—past\, present\, or future. This is foundational for remote sessions or ancestral healing. \n3. Holy Fire® Healing Experience:\nStudents receive a Holy Fire® Healing Experience—a deeply meditative\, high-frequency healing that works directly with your soul and releases deeply rooted energies. \n4. Intuition and Inner Guidance:\nHoly Fire® III emphasizes direct guidance from Spirit. You’ll start noticing increased clarity\, intuition\, and spontaneous healing insights. \n5. Practice Sessions:\n\nPracticing using symbols in hands-on and distance Reiki\nScanning and intuitive reading of energy fields\nEthics and professionalism in remote sessions\n\n6. Upgraded Energy:\nHoly Fire® III energy is higher frequency and more refined than earlier Reiki styles. After Level 2\, many practitioners report a stronger flow of energy\, intuitive messages\, and even spiritual awakening moments. \n\n What You Can Do After Level 2:\n\nOffer professional Reiki sessions\, both in-person and remotely\nWork on emotional healing (trauma\, anxiety\, grief)\nClear energy in homes/spaces remotely\n\nUse Reiki with affirmations\, crystals\, oracle cards\, and other holistic tools
URL:https://www.blackrivercountry.net/event/2025-events-at-holistic-intentions-rainbow-rock-reiki/2025-06-15/
LOCATION:WI
ATTACH;FMTTYPE=image/png:https://www.blackrivercountry.net/wp-content/uploads/1748888970935blob.png
END:VEVENT
BEGIN:VEVENT
DTSTART;TZID=America/Chicago:20250614T173000
DTEND;TZID=America/Chicago:20250614T173000
DTSTAMP:20260421T231924
CREATED:20250527T182945Z
LAST-MODIFIED:20250527T183041Z
UID:10007729-1749922200-1749922200@www.blackrivercountry.net
SUMMARY:BRF Dance & Lunda Community Center Present The Greatest Show
DESCRIPTION:
URL:https://www.blackrivercountry.net/event/brf-dance-lunda-community-center-present-the-greatest-show/
LOCATION:WI
END:VEVENT
BEGIN:VEVENT
DTSTART;TZID=America/Chicago:20250614T100000
DTEND;TZID=America/Chicago:20250614T140000
DTSTAMP:20260421T231924
CREATED:20250520T155252Z
LAST-MODIFIED:20250520T155252Z
UID:10007667-1749895200-1749909600@www.blackrivercountry.net
SUMMARY:Carnegie Museum open for the 2025 season
DESCRIPTION:Carnegie Museum opening for the 2025 season. Opening Friday May 2\, 2025 through September 26\, 2025. Regular hours will be Fridays & Saturdays from 10am to 2pm. Spring Creek Schoolhouse Museum will be open May through September on the first Sunday of each month from 12 (Noon) to 3pm\, opening date May 4th\, 2025 through September 7th\, 2025. Both Museums are available to open by appointment.Local history and genealogy research center can be made by appointment.
URL:https://www.blackrivercountry.net/event/carnegie-museum-open-for-the-2025-season/2025-06-14/
LOCATION:WI
ATTACH;FMTTYPE=image/jpeg:https://www.blackrivercountry.net/wp-content/uploads/494150069_1225665596226231_4174473114499380994_n-1.jpg
END:VEVENT
BEGIN:VEVENT
DTSTART;TZID=America/Chicago:20250614T100000
DTEND;TZID=America/Chicago:20250614T130000
DTSTAMP:20260421T231924
CREATED:20250530T202745Z
LAST-MODIFIED:20250530T202745Z
UID:10007758-1749895200-1749906000@www.blackrivercountry.net
SUMMARY:DIY with DAD at Theisen's
DESCRIPTION:
URL:https://www.blackrivercountry.net/event/diy-with-dad-at-theisens/
LOCATION:WI
END:VEVENT
BEGIN:VEVENT
DTSTART;TZID=America/Chicago:20250614T090000
DTEND;TZID=America/Chicago:20250614T130000
DTSTAMP:20260421T231924
CREATED:20250407T150937Z
LAST-MODIFIED:20250407T151247Z
UID:10007357-1749891600-1749906000@www.blackrivercountry.net
SUMMARY:Jackson County Farmers Market
DESCRIPTION:https://jacksoncountyfarmersmarketwi.com/
URL:https://www.blackrivercountry.net/event/jackson-county-farmers-market-2-2/2025-06-14/
LOCATION:WI
ATTACH;FMTTYPE=image/jpeg:https://www.blackrivercountry.net/wp-content/uploads/486556373_1194120882716048_2855142741931307268_n.jpg
END:VEVENT
BEGIN:VEVENT
DTSTART;TZID=America/Chicago:20250614T080000
DTEND;TZID=America/Chicago:20250614T170000
DTSTAMP:20260421T231924
CREATED:20250423T170351Z
LAST-MODIFIED:20250508T151446Z
UID:10007588-1749888000-1749920400@www.blackrivercountry.net
SUMMARY:6th Annual Caroline Kersting Memorial Golf Outing
DESCRIPTION:This year\, we are hosting the 6th Annual Caroline Kersting Memorial 18 Hole Golf Outing on Saturday\, June 14th at Skyline Golf Course in Black River Falls. Registration is from 10 until 11 am with a shotgun start at 11:00am. Caroline Kersting (Mother of Mary Gerdes’-team captain) lost her battle with Dementia on June 8th \, 2020. Dementia not only effects the person living with it\, but also family members. \nTeam Gram Shal’s goal is to help raise money to end Alzheimer’s by raising money for research\, and this year we will be splitting the funds raised this year to support Ben Rowan’s Family\, a faithful golfer in our outing\, who’s wife was diagnosed with Stage 4 cancer in August. \nPlease consider sponsoring our walk team and golf outing this year. Check donations can be mailed to G & G Media Services; Team Gram Shal – Mary Gerdes; PO Bx 27\, Black River Falls\, WI 54615\, or dropped off at WWIS Radio – W11573 Town Creek Rd\, Black River Falls. \nWe thank you in advance for considering sponsorship for this worthwhile event and cause! It’s because of the generous support of our community and friends that we have raised over $20\,000 since our first outing for the Walk to End Alzheimers!
URL:https://www.blackrivercountry.net/event/6th-annual-caroline-kersting-memorial-golf-outing/
LOCATION:WI
END:VEVENT
BEGIN:VEVENT
DTSTART;VALUE=DATE:20250614
DTEND;VALUE=DATE:20250616
DTSTAMP:20260421T231924
CREATED:20250606T175309Z
LAST-MODIFIED:20250609T154226Z
UID:10007786-1749870000-1749956399@www.blackrivercountry.net
SUMMARY:Jackson GOP Caucus & Office 10 Year Anniversary
DESCRIPTION:BIG CELEBRATION IN BRF! \n\n\nJoin us Saturday\, June 14th from 10 AM–2 PM for a triple celebration like no other! We’re honoring the 10th Anniversary of the RPJC Office\, Flag Day\, and President Donald J. Trump’s Birthday with a star-spangled bash you won’t want to miss! \n\n\n What’s Happening:\n 10 AM – Summer Caucus (members only)\n Delicious catered lunch by Mocha Mouse\n 1 PM – Special Mural Reveal\n Tickets just $20 until June 9th—then $25\n Kids under 10 eat FREE with adult ticket\n\n\n Location: RPJC Office\, 16 N Water St.\, Black River Falls\, WI\n Buy tickets at the office or RSVP online! https://jackson.nationbuilder.com/2023caucus_20250208…\n\n\nLet’s come together to celebrate patriotism\, community\, and history in the making.\nQuestions? Call Becky at (715) 896-0153\n\n\n Share this and invite your friends—see you there!\n\n\nPaid for by the Republican Party of Jackson County\, WI
URL:https://www.blackrivercountry.net/event/jackson-gop-member-summer-caucus/
LOCATION:WI
END:VEVENT
BEGIN:VEVENT
DTSTART;TZID=America/Chicago:20250613T100000
DTEND;TZID=America/Chicago:20250613T140000
DTSTAMP:20260421T231924
CREATED:20250520T155252Z
LAST-MODIFIED:20250520T155252Z
UID:10007666-1749808800-1749823200@www.blackrivercountry.net
SUMMARY:Carnegie Museum open for the 2025 season
DESCRIPTION:Carnegie Museum opening for the 2025 season. Opening Friday May 2\, 2025 through September 26\, 2025. Regular hours will be Fridays & Saturdays from 10am to 2pm. Spring Creek Schoolhouse Museum will be open May through September on the first Sunday of each month from 12 (Noon) to 3pm\, opening date May 4th\, 2025 through September 7th\, 2025. Both Museums are available to open by appointment.Local history and genealogy research center can be made by appointment.
URL:https://www.blackrivercountry.net/event/carnegie-museum-open-for-the-2025-season/2025-06-13/
LOCATION:WI
ATTACH;FMTTYPE=image/jpeg:https://www.blackrivercountry.net/wp-content/uploads/494150069_1225665596226231_4174473114499380994_n-1.jpg
END:VEVENT
BEGIN:VEVENT
DTSTART;TZID=America/Chicago:20250613T100000
DTEND;TZID=America/Chicago:20250613T140000
DTSTAMP:20260421T231924
CREATED:20250401T150650Z
LAST-MODIFIED:20250401T150650Z
UID:10007459-1749808800-1749823200@www.blackrivercountry.net
SUMMARY:Brat Sale Fundraiser
DESCRIPTION:The Jackson County Humane Society is hosting a fundraiser at the Brat Barn at Hansen’s IGA of BRF on Friday\, June 13\, 2025\, from 11:00am-2:00pm.\nAll proceeds go to the Jackson County Humane Society to care for the homeless pets at the Jackson County Animal Shelter.
URL:https://www.blackrivercountry.net/event/brat-sale-fundraiser/
LOCATION:WI
END:VEVENT
BEGIN:VEVENT
DTSTART;TZID=America/Chicago:20250613T080000
DTEND;TZID=America/Chicago:20250615T170000
DTSTAMP:20260421T231924
CREATED:20250304T173500Z
LAST-MODIFIED:20250304T173500Z
UID:10007215-1749801600-1750006800@www.blackrivercountry.net
SUMMARY:Wizards of Rods Fun Run #44
DESCRIPTION:
URL:https://www.blackrivercountry.net/event/wizards-of-rods-fun-run-44/
LOCATION:WI
END:VEVENT
BEGIN:VEVENT
DTSTART;VALUE=DATE:20250613
DTEND;VALUE=DATE:20250615
DTSTAMP:20260421T231924
CREATED:20250513T161506Z
LAST-MODIFIED:20250513T161506Z
UID:10007637-1749783600-1749869999@www.blackrivercountry.net
SUMMARY:27th Annual Interfaith Volunteers Golf Fundraiser
DESCRIPTION:Join us for the 27th Annual Interfaith Volunteers Golf Fundraiser on Friday\, June 13\, 2025\, at Skyline Golf Course!\n\n\nEnjoy a day on the green for a fantastic cause\, supporting vital programs and services in our community. You can participate as a golfer (with team and corporate sponsorship options available!)\, enjoy dinner and an awards ceremony\, or try your luck with our exciting raffle prizes. We’d love to see you there.\n\n\nMore Details: https://skylinegolfcoursewi.com/9o6i \n\n\n\n\n\n\nRegister Here >> https://shorturl.at/OwRNf
URL:https://www.blackrivercountry.net/event/27th-annual-interfaith-volunteers-golf-fundraiser/
LOCATION:WI
END:VEVENT
BEGIN:VEVENT
DTSTART;TZID=America/Chicago:20250612T180000
DTEND;TZID=America/Chicago:20250612T190000
DTSTAMP:20260421T231924
CREATED:20250502T140834Z
LAST-MODIFIED:20250502T140834Z
UID:10007616-1749751200-1749754800@www.blackrivercountry.net
SUMMARY:Start A Small Business in 8 Steps
DESCRIPTION:Start A Small Business in 8 Steps\nThursday\, June 12  |  6 – 7 PM\nWhere: Online\nWhen: Thursday\, June 12\, 2025  |  6 PM to 7 PM\nTopic: Business Basics \n \nThe Western Wisconsin Women’s Business Center invites entrepreneurs and aspiring business owners to “Start a Small Business in 8 Steps”. \nTopics covered include: \n1. Your Business Idea\n2. Are you an Entrepreneur?\n3. Business Feasibility\n4. Legal Structure\, Permits & Zoning\n5. Marketing\n6. Recordkeeping\n7. Business Plan\n8. Funding \nAfter the class\, attendees may request free\, one-on-one assistance from Western Dairyland’s Business Development Specialists at https://www.successfulbusiness.org/request_for_counseling.phtml to delve deeper into their individual small business concepts\, including the preparation of a business plan with financial forecasting to present to lenders. \nNOTE: All our webinars and events are open to women and men. By signing up for this training\, you agree to be automatically subscribed to our (bi)weekly newsletter. You are able to unsubscribe at any point. Thank you for your interest in our events!\nSpeaker: Walmsley Johnson-Cole\, Business Development Specialist & Certified Personal Finance Counselor \nFee: No Cost \nRegister Now
URL:https://www.blackrivercountry.net/event/start-a-small-business-in-8-steps-3/
LOCATION:WI
ATTACH;FMTTYPE=image/jpeg:https://www.blackrivercountry.net/wp-content/uploads/WesternWBC-2.jpg
END:VEVENT
END:VCALENDAR