BEGIN:VCALENDAR
VERSION:2.0
PRODID:-//Black River Area Chamber of Commerce - ECPv6.15.20//NONSGML v1.0//EN
CALSCALE:GREGORIAN
METHOD:PUBLISH
X-ORIGINAL-URL:https://www.blackrivercountry.net
X-WR-CALDESC:Events for Black River Area Chamber of Commerce
REFRESH-INTERVAL;VALUE=DURATION:PT1H
X-Robots-Tag:noindex
X-PUBLISHED-TTL:PT1H
BEGIN:VTIMEZONE
TZID:America/Chicago
BEGIN:DAYLIGHT
TZOFFSETFROM:-0600
TZOFFSETTO:-0500
TZNAME:CDT
DTSTART:20240310T080000
END:DAYLIGHT
BEGIN:STANDARD
TZOFFSETFROM:-0500
TZOFFSETTO:-0600
TZNAME:CST
DTSTART:20241103T070000
END:STANDARD
BEGIN:DAYLIGHT
TZOFFSETFROM:-0600
TZOFFSETTO:-0500
TZNAME:CDT
DTSTART:20250309T080000
END:DAYLIGHT
BEGIN:STANDARD
TZOFFSETFROM:-0500
TZOFFSETTO:-0600
TZNAME:CST
DTSTART:20251102T070000
END:STANDARD
BEGIN:DAYLIGHT
TZOFFSETFROM:-0600
TZOFFSETTO:-0500
TZNAME:CDT
DTSTART:20260308T080000
END:DAYLIGHT
BEGIN:STANDARD
TZOFFSETFROM:-0500
TZOFFSETTO:-0600
TZNAME:CST
DTSTART:20261101T070000
END:STANDARD
END:VTIMEZONE
BEGIN:VEVENT
DTSTART;TZID=America/Chicago:20250511T180000
DTEND;TZID=America/Chicago:20250511T190000
DTSTAMP:20260422T041910
CREATED:20250303T175009Z
LAST-MODIFIED:20250303T175009Z
UID:10007213-1746986400-1746990000@www.blackrivercountry.net
SUMMARY:Full Moon Group Meditation @ Rainbow Rock REIKI Wellness Center
DESCRIPTION:Come join us for a time of being unplugged and connected as one to the universe! Bring blanket\, yoga mat\, water\, whatever you need to be comfortable while we listen to a 20–30-minute guided meditation for the new moon. Be prompt as doors will be locked at 6:05 to avoid interruptions. This event is free\, but donations will be accepted.The Full Moon on May 12\, 2025\, will be in Scorpio\, bringing deep emotional transformation\, spiritual awakening\, and intense energy for releasing what no longer serves you. Here’s the metaphysical meaning and how you can align with its energy:\n1. Deep Transformation & Rebirth (Scorpio Energy)Scorpio\, ruled by Pluto\, is associated with death\, rebirth\, secrets\, and the unseen realms. This full moon may bring hidden emotions\, suppressed fears\, or deep realizations to the surface\, pushing you toward healing and transformation. It’s a powerful time to release old wounds\, toxic patterns\, and emotional baggage.\n2. Shadow Work & Emotional ReleaseScorpio’s energy is intense\, making this a perfect time for shadow work—acknowledging and integrating parts of yourself that you may have ignored or suppressed. You might feel more emotional\, intuitive\, or drawn to uncover deeper truths about yourself or your relationships.\n3. Heightened Psychic & Spiritual EnergyScorpio governs mysticism\, intuition\, and the occult. This full moon can enhance your psychic abilities\, making it an ideal time for divination (tarot\, pendulum work\, or scrying)\, deep meditation\, and energy healing. Pay attention to dreams\, synchronicities\, and intuitive downloads.\n4. Letting Go of Control & Trusting the UniverseScorpio’s shadow side involves control\, obsession\, and fear of vulnerability. This full moon may challenge you to release control\, trust the process\, and surrender to transformation. It’s an invitation to step into your personal power while also embracing life’s natural cycles of endings and beginnings.\n5. Rituals & Energy WorkCord-Cutting Ritual: Release emotional ties to past relationships\, situations\, or habits that drain your energy.Water Element Cleansing: Scorpio is a water sign\, making ritual baths with salt\, herbs (like rosemary or mugwort)\, and essential oils (like frankincense or myrrh) perfect for purification.Shadow Work Journaling Prompts:What fears or patterns am I ready to release?Where am I resisting transformation?What parts of myself need deeper acceptance and healing?Crystal Work: Black obsidian\, labradorite\, and malachite can support deep healing and psychic protection.This full moon is not for the faint of heart—it’s about deep healing\, raw honesty\, and stepping into your full power.\n\n\nRainbow Rock REIKI Wellness Center\n25 S 2nd St\, Black River Falls\, WI 54615-1712\, United States
URL:https://www.blackrivercountry.net/event/full-moon-group-meditation-rainbow-rock-reiki-wellness-center/
END:VEVENT
BEGIN:VEVENT
DTSTART;TZID=America/Chicago:20250511T103000
DTEND;TZID=America/Chicago:20250511T140000
DTSTAMP:20260422T041910
CREATED:20250430T154331Z
LAST-MODIFIED:20250430T154331Z
UID:10007607-1746959400-1746972000@www.blackrivercountry.net
SUMMARY:Mother's Day Buffet at Castle Hill Supper Club!
DESCRIPTION:Reservations are required! Call 715-333-5901 to book your reservation.
URL:https://www.blackrivercountry.net/event/mothers-day-buffet-at-castle-hill-supper-club/
LOCATION:Castle Hill Supper Club\, United States
END:VEVENT
BEGIN:VEVENT
DTSTART;TZID=America/Chicago:20250510T190000
DTEND;TZID=America/Chicago:20250510T230000
DTSTAMP:20260422T041910
CREATED:20250319T151517Z
LAST-MODIFIED:20250319T151517Z
UID:10007249-1746903600-1746918000@www.blackrivercountry.net
SUMMARY:Ember @ Ho-Chunk Casino Black River Falls
DESCRIPTION:
URL:https://www.blackrivercountry.net/event/ember-ho-chunk-casino-black-river-falls/
ATTACH;FMTTYPE=image/jpeg:https://www.blackrivercountry.net/wp-content/uploads/484920238_1199426885517080_4837758793932620928_n.jpg
END:VEVENT
BEGIN:VEVENT
DTSTART;TZID=America/Chicago:20250510T120000
DTEND;TZID=America/Chicago:20250510T190000
DTSTAMP:20260422T041910
CREATED:20250331T164049Z
LAST-MODIFIED:20250331T164049Z
UID:10007454-1746878400-1746903600@www.blackrivercountry.net
SUMMARY:Rat Rod\, Hot Rod & Classic Car Event @ McSweet's Irish Pub
DESCRIPTION:  \nRegistration starting at High Noon! Trophies for best “Bad Ass” rides. Serving BBQ chicken and Live music with Blaine Howard! Got old iron? This is the place to show it off!
URL:https://www.blackrivercountry.net/event/rat-rod-hot-rod-classic-car-event-mcsweets-irish-pub/
END:VEVENT
BEGIN:VEVENT
DTSTART;TZID=America/Chicago:20250510T100000
DTEND;TZID=America/Chicago:20250510T140000
DTSTAMP:20260422T041910
CREATED:20250505T151834Z
LAST-MODIFIED:20250505T151834Z
UID:10007623-1746871200-1746885600@www.blackrivercountry.net
SUMMARY:Free Flower Planting Event @ Theisen's
DESCRIPTION:Bring the family for a free planting event at Theisen’s. We will provide a flower\, soil and a pot. Every participant gets a coupon to use in store.\nStop out to Theisen’s and enjoy this fun filled event with the kids to make Mother’s Day extra special.\nLimit one free plant per person. While supplies last.
URL:https://www.blackrivercountry.net/event/free-flower-planting-event-theisens/
END:VEVENT
BEGIN:VEVENT
DTSTART;TZID=America/Chicago:20250510T100000
DTEND;TZID=America/Chicago:20250510T120000
DTSTAMP:20260422T041910
CREATED:20250428T154020Z
LAST-MODIFIED:20250428T154020Z
UID:10007594-1746871200-1746878400@www.blackrivercountry.net
SUMMARY:Tech Help @ the Library
DESCRIPTION:  \nOn Saturday\, May 10\, from 10 a.m. to noon\, the Friends of the Black River Falls Public Library are sponsoring another Tech Help @ the Library presentation. This month’s topic will be: Online Security. Learn steps and strategies you can take to protect your information and improve your safety while using the internet. This class is designed for basic technology users who want to become more proactive in protecting their online safety. You’ll learn about password safety\, privacy\, how to protect your personal information\, how to avoid scams\, and more. Bring your device if you have one along with any passwords you might need. Participation is free of charge; however\, registration is required on or before Wednesday\, May 7. Please call the Library at 715-284-4112 to register. \n 
URL:https://www.blackrivercountry.net/event/tech-help-the-library/
END:VEVENT
BEGIN:VEVENT
DTSTART;TZID=America/Chicago:20250510T093000
DTEND;TZID=America/Chicago:20250510T170000
DTSTAMP:20260422T041910
CREATED:20250303T162559Z
LAST-MODIFIED:20250303T162559Z
UID:10007210-1746869400-1746896400@www.blackrivercountry.net
SUMMARY:Creekside Kennels & Shop 3rd Annual Pet Photo Party
DESCRIPTION:
URL:https://www.blackrivercountry.net/event/creekside-kennels-shop-3rd-annual-pet-photo-party/
END:VEVENT
BEGIN:VEVENT
DTSTART;TZID=America/Chicago:20250510T090000
DTEND;TZID=America/Chicago:20250510T140000
DTSTAMP:20260422T041910
CREATED:20250502T140639Z
LAST-MODIFIED:20250502T141022Z
UID:10007614-1746867600-1746885600@www.blackrivercountry.net
SUMMARY:Fundamentals of Family Child Care - Course
DESCRIPTION:CCFT: Fundamentals of Family Child Care (Revised 2024)-BLENDED\nMay 10 – 31\, 2025  |  Add to Calendar\nWestern Dairyland\, 418 Wisconsin Street\, Eau Claire\, WI 54703 \nRevised in 2024\, this Child Care Foundational Training provides foundational knowledge and skills training for individuals as they begin\, or consider\, a career in caring for children in a home setting. Content includes exploring the basics of family child care from foundational business practices to intentionally planning to support growth and development for mixed-age groups. Learners explore rules and regulations governing family child care businesses and programming. practices and strategies will be explored to reflect the diverse needs of children and families in Wisconsin. \nThis course fulfills introductory noncredit course requirements as specified in the Department of Children and Families (DCF) Chapters 202 and 250 for family child care. \nLearn More & Register
URL:https://www.blackrivercountry.net/event/fundamentals-of-family-child-care-course/2025-05-10/
ATTACH;FMTTYPE=image/png:https://www.blackrivercountry.net/wp-content/uploads/unnamed-30.png
END:VEVENT
BEGIN:VEVENT
DTSTART;TZID=America/Chicago:20250509T163000
DTEND;TZID=America/Chicago:20250509T190000
DTSTAMP:20260422T041910
CREATED:20250331T160801Z
LAST-MODIFIED:20250331T160801Z
UID:10007453-1746808200-1746817200@www.blackrivercountry.net
SUMMARY:Mother's Day & Anniversary Celebration
DESCRIPTION:  \nJoin us for a Mother’s Day themed celebration! Bring your moms\, moms bring your families\, ladies and gents bring yourselves. All are welcome to enjoy this special experience. Local Vendor goods and services offered.
URL:https://www.blackrivercountry.net/event/mothers-day-anniversary-celebration/
END:VEVENT
BEGIN:VEVENT
DTSTART;TZID=America/Chicago:20250509T090000
DTEND;TZID=America/Chicago:20250511T170000
DTSTAMP:20260422T041910
CREATED:20250109T163336Z
LAST-MODIFIED:20250225T192657Z
UID:10007036-1746781200-1746982800@www.blackrivercountry.net
SUMMARY:THE VILLAGE PEDDLER OF HIXTON. LLC 2025 FLEA MARKET SCHEDULE
DESCRIPTION:
URL:https://www.blackrivercountry.net/event/the-village-peddler-of-hixton-llc-2025-flea-market-schedule/2025-05-09/
END:VEVENT
BEGIN:VEVENT
DTSTART;TZID=America/Chicago:20250508T183000
DTEND;TZID=America/Chicago:20250508T200000
DTSTAMP:20260422T041910
CREATED:20250505T191045Z
LAST-MODIFIED:20250505T191045Z
UID:10007624-1746729000-1746734400@www.blackrivercountry.net
SUMMARY:Karner Blue Garden Club Meeting
DESCRIPTION:
URL:https://www.blackrivercountry.net/event/karner-blue-garden-club-meeting/
END:VEVENT
BEGIN:VEVENT
DTSTART;TZID=America/Chicago:20250508T140000
DTEND;TZID=America/Chicago:20250508T150000
DTSTAMP:20260422T041910
CREATED:20250102T162828Z
LAST-MODIFIED:20250916T140727Z
UID:10007012-1746712800-1746716400@www.blackrivercountry.net
SUMMARY:Family Caregiver Support Group
DESCRIPTION:
URL:https://www.blackrivercountry.net/event/family-caregiver-support-group-2/2025-05-08/
END:VEVENT
BEGIN:VEVENT
DTSTART;TZID=America/Chicago:20250508T130000
DTEND;TZID=America/Chicago:20250508T150000
DTSTAMP:20260422T041910
CREATED:20250319T152928Z
LAST-MODIFIED:20250319T152928Z
UID:10007250-1746709200-1746716400@www.blackrivercountry.net
SUMMARY:Child Care Business Info Session @ Revolution Coffee
DESCRIPTION:Connect with us to learn more about starting your Child Care Business! Our experts are here to help you navigate the process of opening your own Child Care Program.\nJoin one of our upcoming Child Care Business Info Sessions to get the guidance you need! No registration required for in person info sessions: simply arrive at the location any time during our drop-in hours and look for Child Care Partnership’s table signs.\nCan’t make it to this event? Join a virtual info session via Zoom on the last Thursday of each month from 1-1:30 pm. Register at www.childcarepartnership.org
URL:https://www.blackrivercountry.net/event/child-care-business-info-session-revolution-coffee/
END:VEVENT
BEGIN:VEVENT
DTSTART;TZID=America/Chicago:20250508T080000
DTEND;TZID=America/Chicago:20250511T170000
DTSTAMP:20260422T041910
CREATED:20250508T155354Z
LAST-MODIFIED:20250508T155354Z
UID:10007631-1746691200-1746982800@www.blackrivercountry.net
SUMMARY:Mother's Day Cupcake Walk @ Hansen's
DESCRIPTION:  \n  \nWho doesn’t like cake? Better yet\, cupcakes and a walk? Join your #local Hansen’s IGA Market\, Black River Falls from Friday to Sunday in their Mother’s Day Cupcake Walk. A freshly baked 6 ct will be available for $3.99
URL:https://www.blackrivercountry.net/event/mothers-day-cupcake-walk-hansens/
END:VEVENT
BEGIN:VEVENT
DTSTART;TZID=America/Chicago:20250507T170000
DTEND;TZID=America/Chicago:20250507T190000
DTSTAMP:20260422T041910
CREATED:20250428T152016Z
LAST-MODIFIED:20250428T161526Z
UID:10007591-1746637200-1746644400@www.blackrivercountry.net
SUMMARY:Republican Party of Jackson County\, Wisconsin Community Baby Shower @ Chamber of Commerce
DESCRIPTION:  \nCome and enjoy a traditional baby shower and help\nfamilies in need!\nOnly the following items and Monetary donations\nare being collected:\n– Diapers: Size 1-6; Pull-ups: Size 3-6\n– Baby Wipes; Toothbrushes/toothpaste for moms\n& kids\n– Feminine Hygiene products; Shampoo\, Deodorant\nDonations can be made on May 7 or at Republican Party Office M-W-F.\nAll donations benefit Jackson County Mothers in Need\nAny questions / RSVP- call Vera @ 262-470-3998
URL:https://www.blackrivercountry.net/event/republican-party-of-jackson-county-wisconsin-community-baby-shower-chamber-of-commerce/
ATTACH;FMTTYPE=image/png:https://www.blackrivercountry.net/wp-content/uploads/Screenshot-2025-04-28-110909.png
END:VEVENT
BEGIN:VEVENT
DTSTART;TZID=America/Chicago:20250507T120000
DTEND;TZID=America/Chicago:20250507T170000
DTSTAMP:20260422T041910
CREATED:20250414T161356Z
LAST-MODIFIED:20250414T161356Z
UID:10007574-1746619200-1746637200@www.blackrivercountry.net
SUMMARY:BRF Community Blood Drive @ Ho-Chunk Gaming Black River Falls
DESCRIPTION:SCHEDULE YOUR APPOINTMENT TODAY!\nhttps://donateblood.versiti.org/…/drive_schedule/11602055
URL:https://www.blackrivercountry.net/event/brf-community-blood-drive-ho-chunk-gaming-black-river-falls/
END:VEVENT
BEGIN:VEVENT
DTSTART;TZID=America/Chicago:20250507T093000
DTEND;TZID=America/Chicago:20250511T190000
DTSTAMP:20260422T041910
CREATED:20250505T151149Z
LAST-MODIFIED:20250505T152855Z
UID:10007622-1746610200-1746990000@www.blackrivercountry.net
SUMMARY:Spring Wildflower Hike
DESCRIPTION:FBR will hold its annual guided wildflower hike May 10. A self-guided hike with plants identified with tags May 7 – 11. \nThe Friends of the Black River will hold its annual spring wildflower guided hike Saturday\, May 10\, starting at 10 a.m. Those interested in carpooling or caravaning to the trail head should meet at 9:30 a.m. at the Black River Area Chamber of Commerce parking lot. The parking lot is located at 120 N. Water Street\, Black River Falls. There’s no charge to take part in the hike. Those not able to participate in the guided walk may do a hike-on-your-own along the trail starting May 7 and running until May 11. To access the trail head\, take State Highway 54 E. to Mission Road\, turning left on to Mission Road. Travel to Pettibone Pass and turn left; continue to W8969 Pettibone Pass. \nFor more information\, contact Jeff Polzin at 715-896-5534 or email info_fbr@yahoo.com.
URL:https://www.blackrivercountry.net/event/spring-wildflower-hike/
END:VEVENT
BEGIN:VEVENT
DTSTART;TZID=America/Chicago:20250506T190000
DTEND;TZID=America/Chicago:20250506T190000
DTSTAMP:20260422T041910
CREATED:20241212T175224Z
LAST-MODIFIED:20241226T163439Z
UID:10006544-1746558000-1746558000@www.blackrivercountry.net
SUMMARY:Tuesday Trivia @ Rozarios
DESCRIPTION:Cold drinks. Hot food. Tons of fun. Trivia starts at 7:15 pm. So get your team together and come on down. Free to play.
URL:https://www.blackrivercountry.net/event/tuesday-trivia-rozario/2025-05-06/
ATTACH;FMTTYPE=image/jpeg:https://www.blackrivercountry.net/wp-content/uploads/415519650_858493506278630_1467434810096093052_n-1.jpg
END:VEVENT
BEGIN:VEVENT
DTSTART;TZID=America/Chicago:20250506T160000
DTEND;TZID=America/Chicago:20250506T200000
DTSTAMP:20260422T041910
CREATED:20241202T170354Z
LAST-MODIFIED:20241202T170354Z
UID:10006090-1746547200-1746561600@www.blackrivercountry.net
SUMMARY:Open Mic Night @McSweets Irish Pub
DESCRIPTION:https://www.facebook.com/profile.php?id=100063454330338 \nCheck the link for updates
URL:https://www.blackrivercountry.net/event/open-mic-night-mcsweets-irish-pub/2025-05-06/
END:VEVENT
BEGIN:VEVENT
DTSTART;TZID=America/Chicago:20250506T130000
DTEND;TZID=America/Chicago:20250506T160000
DTSTAMP:20260422T041910
CREATED:20250429T155013Z
LAST-MODIFIED:20250429T155013Z
UID:10007597-1746536400-1746547200@www.blackrivercountry.net
SUMMARY:Polka Music @ Ho-Chunk Gaming Black River Falls
DESCRIPTION:
URL:https://www.blackrivercountry.net/event/polka-music-ho-chunk-gaming-black-river-falls-2/
END:VEVENT
BEGIN:VEVENT
DTSTART;TZID=America/Chicago:20250505T110000
DTEND;TZID=America/Chicago:20250505T210000
DTSTAMP:20260422T041910
CREATED:20250227T163221Z
LAST-MODIFIED:20250227T163221Z
UID:10007198-1746442800-1746478800@www.blackrivercountry.net
SUMMARY:Cinco De Mayo
DESCRIPTION:Live mariachiSpecial drinksFree tequila shotsFree kids and adult prizes
URL:https://www.blackrivercountry.net/event/cinco-de-mayo/
ATTACH;FMTTYPE=image/png:https://www.blackrivercountry.net/wp-content/uploads/Screenshot-2025-02-27-103141.png
END:VEVENT
BEGIN:VEVENT
DTSTART;TZID=America/Chicago:20250505T100000
DTEND;TZID=America/Chicago:20250505T110000
DTSTAMP:20260422T041910
CREATED:20250131T190935Z
LAST-MODIFIED:20260203T153038Z
UID:10007097-1746439200-1746442800@www.blackrivercountry.net
SUMMARY:Mugs & Matches
DESCRIPTION:  \nWe are extending a warm welcome to Interfaith Volunteers to join together for coffee and conversation on Mondays. Coffee is served at 10 am the first Monday of each month. If you are not a fan of coffee\, no worries—we have tea\, hot chocolate\, and bottled water\, too. Come and catch up with fellow volunteers! See you Monday!
URL:https://www.blackrivercountry.net/event/mugs-matches/2025-05-05/
ATTACH;FMTTYPE=image/jpeg:https://www.blackrivercountry.net/wp-content/uploads/mugs-and-matches.jpg
END:VEVENT
BEGIN:VEVENT
DTSTART;TZID=America/Chicago:20250504T140000
DTEND;TZID=America/Chicago:20250504T160000
DTSTAMP:20260422T041910
CREATED:20250328T155601Z
LAST-MODIFIED:20250407T155639Z
UID:10007275-1746367200-1746374400@www.blackrivercountry.net
SUMMARY:Black River Area Community Band Spring Concert
DESCRIPTION:Black River Falls Middle School. Door Prizes and music to please all ages. There is no charge but free-will donations will be accepted.
URL:https://www.blackrivercountry.net/event/black-river-area-community-band-spring-concert/
END:VEVENT
BEGIN:VEVENT
DTSTART;TZID=America/Chicago:20250504T120000
DTEND;TZID=America/Chicago:20250504T150000
DTSTAMP:20260422T041910
CREATED:20250429T193518Z
LAST-MODIFIED:20250429T193518Z
UID:10007600-1746360000-1746370800@www.blackrivercountry.net
SUMMARY:Spring Creek Schoolhouse Museum Open
DESCRIPTION:
URL:https://www.blackrivercountry.net/event/spring-creek-schoolhouse-museum-open/2025-05-04/
END:VEVENT
BEGIN:VEVENT
DTSTART;TZID=America/Chicago:20250503T140000
DTEND;TZID=America/Chicago:20250503T180000
DTSTAMP:20260422T041910
CREATED:20250221T220104Z
LAST-MODIFIED:20250304T201916Z
UID:10007180-1746280800-1746295200@www.blackrivercountry.net
SUMMARY:Falls Taste Fest
DESCRIPTION:Join us for our 18th ANNUAL Black River Falls Athletic Booster Club Fundraising Event! Advance Tickets ON SALE NOW (see GoFan link) for the hottest event of the season with THE FINEST CRAFT BEER\, WINE\, & FOOD VENDORS IN THE REGION! Proceeds from this fundraising event go to the Black River Falls Athletic Booster Club\, which supports all BRF High School teams and other school district needs. Mark your calendars and stay tuned for more details! \n 
URL:https://www.blackrivercountry.net/event/falls-taste-fest/
LOCATION:Milt Lunda Memorial Arena\, 388 Melrose St\, Black River Falls\, WI\, 54615\, United States
GEO:44.290556;-90.8600666
X-APPLE-STRUCTURED-LOCATION;VALUE=URI;X-ADDRESS=Milt Lunda Memorial Arena 388 Melrose St Black River Falls WI 54615 United States;X-APPLE-RADIUS=500;X-TITLE=388 Melrose St:geo:-90.8600666,44.290556
END:VEVENT
BEGIN:VEVENT
DTSTART;TZID=America/Chicago:20250503T080000
DTEND;TZID=America/Chicago:20250503T140000
DTSTAMP:20260422T041910
CREATED:20250327T160326Z
LAST-MODIFIED:20250415T144608Z
UID:10007272-1746259200-1746280800@www.blackrivercountry.net
SUMMARY:Merrillan Village Yard Sale\, Flea Market & Car Show
DESCRIPTION:
URL:https://www.blackrivercountry.net/event/merrillan-village-yard-sale-flea-market-car-show/
END:VEVENT
BEGIN:VEVENT
DTSTART;TZID=America/Chicago:20250502T213000
DTEND;TZID=America/Chicago:20250503T023000
DTSTAMP:20260422T041910
CREATED:20250401T151946Z
LAST-MODIFIED:20250624T155105Z
UID:10007465-1746221400-1746239400@www.blackrivercountry.net
SUMMARY:Karaoke at Sunset Tavern 9:30pm - Close
DESCRIPTION:Karaoke at Sunset Tavern with your karaoke host Derek and bartenders Josie\, Shayla\, Alyssa and the crew!Cold beer\, awesome mixed drinks\, amazing atmosphere and karaoke with me your creatively dressed host.
URL:https://www.blackrivercountry.net/event/karaoke-at-sunset-tavern-930pm-close/2025-05-02/
ATTACH;FMTTYPE=image/png:https://www.blackrivercountry.net/wp-content/uploads/sunset-karaoje.PNG
END:VEVENT
BEGIN:VEVENT
DTSTART;TZID=America/Chicago:20250502T193000
DTEND;TZID=America/Chicago:20250502T210000
DTSTAMP:20260422T041910
CREATED:20250415T170645Z
LAST-MODIFIED:20250415T170645Z
UID:10007577-1746214200-1746219600@www.blackrivercountry.net
SUMMARY:Stand Up Comedy Night @ R&R's First and Last Chance
DESCRIPTION:  \nHope to see everyone! May 2nd comedy show starting at 730. Come early for fish fry and stay for the show.
URL:https://www.blackrivercountry.net/event/stand-up-comedy-night-rrs-first-and-last-chance/
END:VEVENT
BEGIN:VEVENT
DTSTART;TZID=America/Chicago:20250502T190000
DTEND;TZID=America/Chicago:20250502T230000
DTSTAMP:20260422T041910
CREATED:20250228T164000Z
LAST-MODIFIED:20250228T164000Z
UID:10007205-1746212400-1746226800@www.blackrivercountry.net
SUMMARY:Nick Swardson @ Ho-Chunk Gaming Black River Falls
DESCRIPTION:Hailing from the Twin Cities\, Nick Swardson is a multi-talented comedian\, actor\, writer\, and producer. He’s best known for his hilarious role as Terry Bernadino on Reno 911!\, and his collaborations with Adam Sandler’s Happy Madison Productions. You might also recognize him from hit films like Benchwarmers\, Grandma’s Boy\, and Just Go With It.\n\n\nGet Your Tickets Today!\n• In-Person: Stop by our Rewards Club for cash sales.\n• Online: Purchase conveniently through www.Ticketmaster.com\n\n\n*Only tickets from the Rewards Club and Ticketmaster will be honored.
URL:https://www.blackrivercountry.net/event/nick-swardson-ho-chunk-gaming-black-river-falls/
END:VEVENT
BEGIN:VEVENT
DTSTART;TZID=America/Chicago:20250502T100000
DTEND;TZID=America/Chicago:20250502T140000
DTSTAMP:20260422T041910
CREATED:20250428T182701Z
LAST-MODIFIED:20250428T182701Z
UID:10007596-1746180000-1746194400@www.blackrivercountry.net
SUMMARY:Carnegie Museum opening for the 2025 Season
DESCRIPTION:  \nCarnegie Museum opening for the 2025 season. Opening Friday May 2\, 2025 through September 26\, 2025. Regular hours will be Fridays & Saturdays from 10am to 2pm. Spring Creek Schoolhouse Museum will be open May through September on the first Sunday of each month from 12 (Noon) to 3pm\, opening date May 4th\, 2025 through September 7th\, 2025. Both Museums are available to open by appointment.Local history and genealogy research center can be made by appointment.
URL:https://www.blackrivercountry.net/event/carnegie-museum-opening-for-the-2025-season/
ATTACH;FMTTYPE=image/jpeg:https://www.blackrivercountry.net/wp-content/uploads/494150069_1225665596226231_4174473114499380994_n.jpg
END:VEVENT
END:VCALENDAR