BEGIN:VCALENDAR
VERSION:2.0
PRODID:-//Black River Area Chamber of Commerce - ECPv6.15.20//NONSGML v1.0//EN
CALSCALE:GREGORIAN
METHOD:PUBLISH
X-ORIGINAL-URL:https://www.blackrivercountry.net
X-WR-CALDESC:Events for Black River Area Chamber of Commerce
REFRESH-INTERVAL;VALUE=DURATION:PT1H
X-Robots-Tag:noindex
X-PUBLISHED-TTL:PT1H
BEGIN:VTIMEZONE
TZID:America/Chicago
BEGIN:DAYLIGHT
TZOFFSETFROM:-0600
TZOFFSETTO:-0500
TZNAME:CDT
DTSTART:20240310T080000
END:DAYLIGHT
BEGIN:STANDARD
TZOFFSETFROM:-0500
TZOFFSETTO:-0600
TZNAME:CST
DTSTART:20241103T070000
END:STANDARD
BEGIN:DAYLIGHT
TZOFFSETFROM:-0600
TZOFFSETTO:-0500
TZNAME:CDT
DTSTART:20250309T080000
END:DAYLIGHT
BEGIN:STANDARD
TZOFFSETFROM:-0500
TZOFFSETTO:-0600
TZNAME:CST
DTSTART:20251102T070000
END:STANDARD
BEGIN:DAYLIGHT
TZOFFSETFROM:-0600
TZOFFSETTO:-0500
TZNAME:CDT
DTSTART:20260308T080000
END:DAYLIGHT
BEGIN:STANDARD
TZOFFSETFROM:-0500
TZOFFSETTO:-0600
TZNAME:CST
DTSTART:20261101T070000
END:STANDARD
END:VTIMEZONE
BEGIN:VEVENT
DTSTART;TZID=America/Chicago:20251126T093000
DTEND;TZID=America/Chicago:20251126T104500
DTSTAMP:20260421T062854
CREATED:20251105T160440Z
LAST-MODIFIED:20251105T160440Z
UID:10008989-1764149400-1764153900@www.blackrivercountry.net
SUMMARY:Intro to the Fitness Center @ Lunda Community Center
DESCRIPTION:
URL:https://www.blackrivercountry.net/event/intro-to-the-fitness-center-lunda-community-center/2025-11-26/
END:VEVENT
BEGIN:VEVENT
DTSTART;TZID=America/Chicago:20251125T190000
DTEND;TZID=America/Chicago:20251125T190000
DTSTAMP:20260421T062854
CREATED:20241212T175224Z
LAST-MODIFIED:20241226T163439Z
UID:10006573-1764097200-1764097200@www.blackrivercountry.net
SUMMARY:Tuesday Trivia @ Rozarios
DESCRIPTION:Cold drinks. Hot food. Tons of fun. Trivia starts at 7:15 pm. So get your team together and come on down. Free to play.
URL:https://www.blackrivercountry.net/event/tuesday-trivia-rozario/2025-11-25/
ATTACH;FMTTYPE=image/jpeg:https://www.blackrivercountry.net/wp-content/uploads/415519650_858493506278630_1467434810096093052_n-1.jpg
END:VEVENT
BEGIN:VEVENT
DTSTART;TZID=America/Chicago:20251122T200000
DTEND;TZID=America/Chicago:20251122T235900
DTSTAMP:20260421T062854
CREATED:20251111T214908Z
LAST-MODIFIED:20251111T214908Z
UID:10009025-1763841600-1763855940@www.blackrivercountry.net
SUMMARY:Zac Matthews Band @Ho-Chunk Gaming BRF
DESCRIPTION:Live music on our casino bar stage!
URL:https://www.blackrivercountry.net/event/zac-matthews-band-ho-chunk-gaming-brf/
END:VEVENT
BEGIN:VEVENT
DTSTART;TZID=America/Chicago:20251122T170000
DTEND;TZID=America/Chicago:20251122T200000
DTSTAMP:20260421T062854
CREATED:20251107T182153Z
LAST-MODIFIED:20251107T182153Z
UID:10008993-1763830800-1763841600@www.blackrivercountry.net
SUMMARY:Pizza Party with Live Music @ Skyline Golf Club
DESCRIPTION:
URL:https://www.blackrivercountry.net/event/pizza-party-with-live-music-skyline-golf-club/
END:VEVENT
BEGIN:VEVENT
DTSTART;TZID=America/Chicago:20251122T090000
DTEND;TZID=America/Chicago:20251122T120000
DTSTAMP:20260421T062854
CREATED:20251015T164235Z
LAST-MODIFIED:20251017T203322Z
UID:10008695-1763802000-1763812800@www.blackrivercountry.net
SUMMARY:Jackson County Winter Farmers Market
DESCRIPTION:Have you missed us? Great news! We’re back tomorrow with our first indoor market of the winter season. You can find us at the Miles-Hagen American Legion on Hwy 54 in Black River Falls – just on the other side of the Lunda Community Center from our outdoor/summer location. We’ll be there from 9am until noon\, with plenty of goodies for sale.\n\n\nImportant notes: If you have WIC or Senior Market vouchers\, they will expire at the end of October\, so bring them to the winter market to use them up this Saturday or next.\n\n\nIf you have tokens left over from the summer market\, you can still use them at any winter market\, or save them until next summer – they have no expiration date.\n\n\nSNAP and credit/debit tokens will be available at the winter market.\n\n\nWe will have gift certificate booklets available for the 2026 season\, but they won’t be ready for tomorrow’s market\, so stay tuned for those for the following markets.
URL:https://www.blackrivercountry.net/event/jackson-county-winter-farmers-market/2025-11-22/
ATTACH;FMTTYPE=image/png:https://www.blackrivercountry.net/wp-content/uploads/560174924_1361491672645634_5864646081287741057_n.png
END:VEVENT
BEGIN:VEVENT
DTSTART;TZID=America/Chicago:20251122T080000
DTEND;TZID=America/Chicago:20251205T170000
DTSTAMP:20260421T062854
CREATED:20251119T215200Z
LAST-MODIFIED:20251119T215200Z
UID:10009036-1763798400-1764954000@www.blackrivercountry.net
SUMMARY:Moe Hardware & Sporting Goods Youth Hunting Photo Contest.
DESCRIPTION:Moe Hardware & Sporting Goods has partnered with Winchester to host the youth hunting photo contest. One fortunate young participant will receive a Winchester XPR 243win. To enter\, simply submit a photo of youth and deer from the 2025 gun deer season. Entries will be accepted from November 22nd through December 5th. Good Luck to all participants!
URL:https://www.blackrivercountry.net/event/moe-hardware-sporting-goods-youth-hunting-photo-contest/
ATTACH;FMTTYPE=image/png:https://www.blackrivercountry.net/wp-content/uploads/Screenshot-2025-11-19-155056.png
END:VEVENT
BEGIN:VEVENT
DTSTART;TZID=America/Chicago:20251121T213000
DTEND;TZID=America/Chicago:20251122T023000
DTSTAMP:20260421T062854
CREATED:20250401T152018Z
LAST-MODIFIED:20250401T152018Z
UID:10007489-1763760600-1763778600@www.blackrivercountry.net
SUMMARY:Karaoke at Sunset Tavern 9:30pm - Close
DESCRIPTION:Karaoke at Sunset Tavern with your karaoke host Derek and bartenders Josie\, Shayla\, Alyssa and the crew!Cold beer\, awesome mixed drinks\, amazing atmosphere and karaoke with me your creatively dressed host.
URL:https://www.blackrivercountry.net/event/karaoke-at-sunset-tavern-930pm-close-2/2025-11-21/
ATTACH;FMTTYPE=image/png:https://www.blackrivercountry.net/wp-content/uploads/sunset-karaoje.PNG
END:VEVENT
BEGIN:VEVENT
DTSTART;TZID=America/Chicago:20251121T173000
DTEND;TZID=America/Chicago:20251121T190000
DTSTAMP:20260421T062854
CREATED:20250827T203349Z
LAST-MODIFIED:20250827T203349Z
UID:10008560-1763746200-1763751600@www.blackrivercountry.net
SUMMARY:Make Your Own Wine Bottle Bouquet @ Creekside Winery
DESCRIPTION:
URL:https://www.blackrivercountry.net/event/make-your-own-wine-bottle-bouquet-creekside-winery/
END:VEVENT
BEGIN:VEVENT
DTSTART;TZID=America/Chicago:20251121T163000
DTEND;TZID=America/Chicago:20251122T210000
DTSTAMP:20260421T062854
CREATED:20251107T163243Z
LAST-MODIFIED:20251107T163243Z
UID:10008992-1763742600-1763845200@www.blackrivercountry.net
SUMMARY:Opening Weekend @ Castle Hill Supper Club
DESCRIPTION:Opening Weekend of Deer Hunting will be here before we know it and along with that comes a special Castle Hill Prime Rib buffet! \n\n\nWe will start serving at 4:30pm on November 21st and 22nd! \n\n\nCall 715-333-5901 to make your reservations today and good luck preparing for the big hunt!
URL:https://www.blackrivercountry.net/event/opening-weekend-castle-hill-supper-club/
END:VEVENT
BEGIN:VEVENT
DTSTART;TZID=America/Chicago:20251121T160000
DTEND;TZID=America/Chicago:20251121T190000
DTSTAMP:20260421T062854
CREATED:20251104T160219Z
LAST-MODIFIED:20251104T160219Z
UID:10008972-1763740800-1763751600@www.blackrivercountry.net
SUMMARY:Ladies on the Loose with Sunset Lumi
DESCRIPTION:Excited to join in on the fun for LADIES ON THE LOOSE! While the men are at deer camp shop local and support all the amazing small businesses in our community! Treat yourself or do some Christmas shopping! Gift certificates will be available…more details to come!
URL:https://www.blackrivercountry.net/event/ladies-on-the-loose-with-sunset-lumi/
ATTACH;FMTTYPE=image/jpeg:https://www.blackrivercountry.net/wp-content/uploads/573332473_18030341540743682_3787042567658009914_n.jpg
END:VEVENT
BEGIN:VEVENT
DTSTART;TZID=America/Chicago:20251121T140000
DTEND;TZID=America/Chicago:20251121T160000
DTSTAMP:20260421T062854
CREATED:20251110T204200Z
LAST-MODIFIED:20251110T204200Z
UID:10008999-1763733600-1763740800@www.blackrivercountry.net
SUMMARY:Caregiver Burnout Bingo
DESCRIPTION:
URL:https://www.blackrivercountry.net/event/caregiver-burnout-bingo/
END:VEVENT
BEGIN:VEVENT
DTSTART;TZID=America/Chicago:20251121T110000
DTEND;TZID=America/Chicago:20251121T180000
DTSTAMP:20260421T062854
CREATED:20251111T185900Z
LAST-MODIFIED:20251111T185900Z
UID:10009021-1763722800-1763748000@www.blackrivercountry.net
SUMMARY:Jackson County Veterans Service Bake Sale at Theisen's
DESCRIPTION:
URL:https://www.blackrivercountry.net/event/jackson-county-veterans-service-bake-sale-at-theisens/
END:VEVENT
BEGIN:VEVENT
DTSTART;VALUE=DATE:20251121
DTEND;VALUE=DATE:20251219
DTSTAMP:20260421T062854
CREATED:20251121T173641Z
LAST-MODIFIED:20251121T173641Z
UID:10009054-1763694000-1766026799@www.blackrivercountry.net
SUMMARY:Black River Falls Public Library Angel Tree
DESCRIPTION:
URL:https://www.blackrivercountry.net/event/black-river-falls-public-library-angel-tree/
END:VEVENT
BEGIN:VEVENT
DTSTART;TZID=America/Chicago:20251120T180000
DTEND;TZID=America/Chicago:20251120T200000
DTSTAMP:20260421T062854
CREATED:20251024T191912Z
LAST-MODIFIED:20251024T191912Z
UID:10008829-1763661600-1763668800@www.blackrivercountry.net
SUMMARY:New Moon Meditation @ Holistic Intentions
DESCRIPTION:Depth & TransformationWith the Moon in Scorpio\, this lunation invites you into deeper emotional waters—into what’s hidden\, what’s beneath the surface\, what has been simmering rather than being shown.\nIt’s less about surface-change\, more about inner metamorphosis: letting old layers fall away so something raw and authentic can emerge.\nShadow Work & ReleaseScorpio rules the unseen: what we suppress\, what we share\, how we transform through crisis or intensity. This New Moon is a perfect time to name what you’ve been avoiding\, and gently begin to release it.\nBecause Mercury is retrograde\, the “new start” here is not necessarily a bright\, shiny fresh launch—but a re-set from what’s been. Revisiting\, reflecting\, rewriting old narratives.\n\nPower\, Control\, ResourcesThe Scorpio energy also touches themes of shared resources\, power dynamics\, intimacy\, transformation via others or via what we share.\n\nQuestions like: “What am I holding on to that gives me power (or takes it away)?” “Where do I need to trust or let go of control?” become highlighted.\nA Quiet New CycleUnlike a loud\, action-oriented new moon\, this one invites stillness and trust that change is happening beneath the surface. The shift may feel subtle but potent.\n\n Intention Prompts & Reflection Questions\n“I allow what needs to transform to release gently and wholly.”\n“I surrender control where it serves me no longer\, and embrace true inner power.”\n“I look beneath the surface: what am I hiding from myself that seeks expression?”\nReflection questions:\nWhat old emotional pattern am I ready to name and let go of?\nIn what area of my life am I resisting transformation because it feels too intense or unknown?\nWhat do I share (emotionally\, materially\, energetically) that needs to be surrendered or realigned?\nHow can I make space for the new version of me that’s quietly forming?\n Ritual Suggestions\nQuiet journal session: Sit in the calm of evening. Ask your inner self: “What part of me needs to die so that a new part may live?” Let the first answer arise without judgment.\nShadow invocation: In a safe space\, light a candle. Speak (or write) the parts of you you have hidden—fear\, shame\, vulnerability—and then symbolically close the page/fold the paper\, releasing it to the flame.\nIntentional water release: Scorpio is a water sign. Find a bowl of water (or let water run) and visualize letting your old self-stories flow out with the current. Then place a clear glass of water nearby and silently invite the new impression you wish to embody.\nMercury retrograde-gentle approach: Because Mercury is retrograde during this lunation\, instead of starting something brand new\, use the time to revisit something you began earlier but didn’t finish\, or to introspect rather than push outward action.\nHow This Might Feel\nYou may feel more introspective than usual\, drawn to solitude or to revealing something you’ve hidden. There might be a soft pull to examine your emotional undercurrents\, attachments\, what you value deeply (especially in shared resources or intimate relationships). Because of the intensity\, you might also feel restless or impatient with old forms; but the way forward is through surrender\, not force.\nKeep in mind: this is a cycle starter—not to leap into major outward launches willy-nilly\, but to plant seeds of internal renewal that will grow over the coming weeks.
URL:https://www.blackrivercountry.net/event/new-moon-meditation-holistic-intentions/
END:VEVENT
BEGIN:VEVENT
DTSTART;TZID=America/Chicago:20251120T173000
DTEND;TZID=America/Chicago:20251120T193000
DTSTAMP:20260421T062854
CREATED:20250919T163737Z
LAST-MODIFIED:20251104T171836Z
UID:10008645-1763659800-1763667000@www.blackrivercountry.net
SUMMARY:In The Kitchen @ Lunda Community Center
DESCRIPTION:
URL:https://www.blackrivercountry.net/event/in-the-kitchen-lunda-community-center/2025-11-20/
END:VEVENT
BEGIN:VEVENT
DTSTART;TZID=America/Chicago:20251120T173000
DTEND;TZID=America/Chicago:20251120T190000
DTSTAMP:20260421T062854
CREATED:20251017T164616Z
LAST-MODIFIED:20251017T164616Z
UID:10008816-1763659800-1763665200@www.blackrivercountry.net
SUMMARY:Mindfulness for Mothers @ Lunda Community Center
DESCRIPTION:  \nCommunity in motherhood can be a sancuatry. Bethany has created this support group to uplift mothers in their journey of motherhood. Where the world can have so much noise\, and advice\, Bethany intentionally creates an enviroment to return to the mother within. To listen to the instincts and wisdom all caregivers carry. This is a place to feel a sense of community\, and refill your always giving cup. The evening takes place every third Thursday of the month. We begin with a topic of discussion\, breathing excersie\, then Bethany leads the group into a guided meditation with energy healing. We end support group with open discussion. Mindfulness for Moms will meet in Studio D at the Lunda Community Center.\n\nThere is child watch on site through the Lunda Center from 5-7pm for ages 18mo -8 year. ($3 non members & $2 members)\nwww.amarishealing.com\n 
URL:https://www.blackrivercountry.net/event/mindfulness-for-mothers-lunda-community-center/2025-11-20/
END:VEVENT
BEGIN:VEVENT
DTSTART;TZID=America/Chicago:20251120T100000
DTEND;TZID=America/Chicago:20251120T150000
DTSTAMP:20260421T062854
CREATED:20251017T150813Z
LAST-MODIFIED:20251017T150813Z
UID:10008758-1763632800-1763650800@www.blackrivercountry.net
SUMMARY:Holiday Tea @ Black River Health
DESCRIPTION:
URL:https://www.blackrivercountry.net/event/holiday-tea-black-river-health/
END:VEVENT
BEGIN:VEVENT
DTSTART;TZID=America/Chicago:20251119T173000
DTEND;TZID=America/Chicago:20251119T193000
DTSTAMP:20260421T062854
CREATED:20241227T162211Z
LAST-MODIFIED:20260414T212427Z
UID:10008134-1763573400-1763580600@www.blackrivercountry.net
SUMMARY:Game Night @Lunda Community Center
DESCRIPTION:
URL:https://www.blackrivercountry.net/event/game-night-all-day-lunda-community-center/2025-11-19/
LOCATION:Lunda Community Center\, 405 WI-54 Trunk\, Black River Falls\, WI\, 54615\, United States
ATTACH;FMTTYPE=image/jpeg:https://www.blackrivercountry.net/wp-content/uploads/669355474_1431586712098600_7873493393374273283_n.jpg
GEO:44.2909017;-90.8632686
X-APPLE-STRUCTURED-LOCATION;VALUE=URI;X-ADDRESS=Lunda Community Center 405 WI-54 Trunk Black River Falls WI 54615 United States;X-APPLE-RADIUS=500;X-TITLE=405 WI-54 Trunk:geo:-90.8632686,44.2909017
END:VEVENT
BEGIN:VEVENT
DTSTART;TZID=America/Chicago:20251119T173000
DTEND;TZID=America/Chicago:20251119T183000
DTSTAMP:20260421T062854
CREATED:20250617T154837Z
LAST-MODIFIED:20260203T152031Z
UID:10007852-1763573400-1763577000@www.blackrivercountry.net
SUMMARY:Dinner Church Hosted By Black River Falls Methodist Church.
DESCRIPTION:
URL:https://www.blackrivercountry.net/event/dinner-church-hosted-by-black-river-falls-methodist-church/2025-11-19/
ATTACH;FMTTYPE=image/jpeg:https://www.blackrivercountry.net/wp-content/uploads/488889400_1081195334051804_805918472982756091_n.jpg
END:VEVENT
BEGIN:VEVENT
DTSTART;TZID=America/Chicago:20251118T190000
DTEND;TZID=America/Chicago:20251118T190000
DTSTAMP:20260421T062854
CREATED:20241212T175224Z
LAST-MODIFIED:20241226T163439Z
UID:10006572-1763492400-1763492400@www.blackrivercountry.net
SUMMARY:Tuesday Trivia @ Rozarios
DESCRIPTION:Cold drinks. Hot food. Tons of fun. Trivia starts at 7:15 pm. So get your team together and come on down. Free to play.
URL:https://www.blackrivercountry.net/event/tuesday-trivia-rozario/2025-11-18/
ATTACH;FMTTYPE=image/jpeg:https://www.blackrivercountry.net/wp-content/uploads/415519650_858493506278630_1467434810096093052_n-1.jpg
END:VEVENT
BEGIN:VEVENT
DTSTART;TZID=America/Chicago:20251118T133000
DTEND;TZID=America/Chicago:20251118T150000
DTSTAMP:20260421T062854
CREATED:20250916T140940Z
LAST-MODIFIED:20260203T152811Z
UID:10008612-1763472600-1763478000@www.blackrivercountry.net
SUMMARY:Parkinson's Support Group
DESCRIPTION:
URL:https://www.blackrivercountry.net/event/parkinsons-support-group/2025-11-18/
ATTACH;FMTTYPE=image/png:https://www.blackrivercountry.net/wp-content/uploads/Parkinsons-group.png
END:VEVENT
BEGIN:VEVENT
DTSTART;TZID=America/Chicago:20251118T130000
DTEND;TZID=America/Chicago:20251118T150000
DTSTAMP:20260421T062854
CREATED:20251029T155335Z
LAST-MODIFIED:20251029T155335Z
UID:10008956-1763470800-1763478000@www.blackrivercountry.net
SUMMARY:Wine\, Women\, & Dementia @ Lunda Community Center.
DESCRIPTION:November is National Family Caregiver Month! Please join us for a viewing of Wine\, Women\, & Dementia on November 18th at the Lunda Community Center.“Seeking healing and comfort in community\, a dementia family caregiver roadtrips the U.S. to swap caregiver stories of love\, humor\, devotion\, and death with other dementia caregivers who share this hilariously heartbreaking end-of-life journey.Wine\, Women\, & Dementia tells the tale of dementia life through the lens of the family caregivers who strive to accept the beauty and the brutality\, the hilarious and the horrific – for themselves and their dementia person.​It a celebrates family caregivers while exploring themes of familial duty\, perseverance\, the power of surrender\, the aftermath of healing\, and most importantly\, how to honor LIFE on the long road to death.”https://www.winewomenanddementia.com/trailer
URL:https://www.blackrivercountry.net/event/wine-women-dementia-lunda-community-center/
END:VEVENT
BEGIN:VEVENT
DTSTART;TZID=America/Chicago:20251118T120000
DTEND;TZID=America/Chicago:20251118T163000
DTSTAMP:20260421T062854
CREATED:20251002T165544Z
LAST-MODIFIED:20251002T165544Z
UID:10008674-1763467200-1763483400@www.blackrivercountry.net
SUMMARY:Support Our Veterans Through Blood Donation
DESCRIPTION:
URL:https://www.blackrivercountry.net/event/support-our-veterans-through-blood-donation/
END:VEVENT
BEGIN:VEVENT
DTSTART;TZID=America/Chicago:20251118T120000
DTEND;TZID=America/Chicago:20251118T131500
DTSTAMP:20260421T062854
CREATED:20251105T160440Z
LAST-MODIFIED:20251105T160440Z
UID:10008988-1763467200-1763471700@www.blackrivercountry.net
SUMMARY:Intro to the Fitness Center @ Lunda Community Center
DESCRIPTION:
URL:https://www.blackrivercountry.net/event/intro-to-the-fitness-center-lunda-community-center/2025-11-18/
END:VEVENT
BEGIN:VEVENT
DTSTART;TZID=America/Chicago:20251117T153000
DTEND;TZID=America/Chicago:20251117T170000
DTSTAMP:20260421T062854
CREATED:20251110T172236Z
LAST-MODIFIED:20251110T172236Z
UID:10008998-1763393400-1763398800@www.blackrivercountry.net
SUMMARY:Deck the Shelves! with Friends of the Black River Falls Public Library
DESCRIPTION:The season is drawing near\, which means it’s time to Deck the Shelves! Join Friends members as we get the library decorated and festive for the holidays. Community members are welcome to join us on Monday\, Nov. 17 at 3:30 p.m. for this fun annual experience! We hope to see you – and we’ll be happy to share more about becoming a Friends member\, too.
URL:https://www.blackrivercountry.net/event/deck-the-shelves-with-friends-of-the-black-river-falls-public-library/
END:VEVENT
BEGIN:VEVENT
DTSTART;TZID=America/Chicago:20251116T130000
DTEND;TZID=America/Chicago:20251116T160000
DTSTAMP:20260421T062854
CREATED:20250414T151701Z
LAST-MODIFIED:20250929T162103Z
UID:10008421-1763298000-1763308800@www.blackrivercountry.net
SUMMARY:Live Music at Creekside Winery
DESCRIPTION:
URL:https://www.blackrivercountry.net/event/live-music-at-creekside-winery/2025-11-16/
END:VEVENT
BEGIN:VEVENT
DTSTART;TZID=America/Chicago:20251116T103000
DTEND;TZID=America/Chicago:20251116T120000
DTSTAMP:20260421T062854
CREATED:20251027T174345Z
LAST-MODIFIED:20251030T202401Z
UID:10008831-1763289000-1763294400@www.blackrivercountry.net
SUMMARY:Sound Bath @ Creekside Winery
DESCRIPTION:A gentle reset for your mind\, body & soul…\nJoin us for a 90 minute session to reset and realign your energy. Lynz & Jenna intuitively lead you through this session of guided meditation\, chakra singing bowls\, sacred drumming\, aromatherapy and reflection to help you find balance and harmony within.\nSurrounded by nature\, this stunning space features floor-to-ceiling windows and an open layout that lets us experience the beauty of the creek without braving the chill.\nSunday\, November 16th from 10:30-NoonAt Creekside WineryN3969 County Road X\, Black River Falls\, WI\nEarly bird pricing ($40) is available through Sunday\, Nov 9 — after that\, tickets are $50. Don’t wait\, friend — your nervous system will thank you later!\nLearn more & register today: https://designthelifeyoulovelynz.myflodesk.com/soundbathnov\n 
URL:https://www.blackrivercountry.net/event/sound-bath-creekside-winery/
END:VEVENT
BEGIN:VEVENT
DTSTART;TZID=America/Chicago:20251115T200000
DTEND;TZID=America/Chicago:20251115T233000
DTSTAMP:20260421T062854
CREATED:20250825T163828Z
LAST-MODIFIED:20250825T163828Z
UID:10008546-1763236800-1763249400@www.blackrivercountry.net
SUMMARY:Static Echo @ Ho-Chunk Gaming Black River Falls
DESCRIPTION:We are back Rockin the slots. Get your room and spend some moldy cash\, rock to some Static Echo…..maybe you’ll hit the Jack Pot!!!
URL:https://www.blackrivercountry.net/event/static-echo-ho-chunk-gaming-black-river-falls-3/
END:VEVENT
BEGIN:VEVENT
DTSTART;TZID=America/Chicago:20251115T190000
DTEND;TZID=America/Chicago:20251115T200000
DTSTAMP:20260421T062854
CREATED:20251104T175046Z
LAST-MODIFIED:20251104T175046Z
UID:10008974-1763233200-1763236800@www.blackrivercountry.net
SUMMARY:Community Sound Journey @ The Yoga Studio
DESCRIPTION:Been meaning to make it to a sound journey or haven’t been in a while? Here is your chance. Come join us\, relax and reset with one or all 5 of these journeys through the winter season.\nJourneys are free to all local communities. First come\, first serve. PLEASE BRING WHAT YOU NEED TO BE COMFORTABLE. A yoga mat\, blanket\, pillow or zero gravity chair. They will not be provided at this event. Register in advance to assure your spot. Walk in’s welcome.
URL:https://www.blackrivercountry.net/event/community-sound-journey-the-yoga-studio/2025-11-15/
ATTACH;FMTTYPE=image/jpeg:https://www.blackrivercountry.net/wp-content/uploads/571205505_810135925285108_5039467688747323529_n.jpg
END:VEVENT
BEGIN:VEVENT
DTSTART;TZID=America/Chicago:20251115T150000
DTEND;TZID=America/Chicago:20251115T170000
DTSTAMP:20260421T062854
CREATED:20251104T180231Z
LAST-MODIFIED:20251105T184250Z
UID:10008980-1763218800-1763226000@www.blackrivercountry.net
SUMMARY:Warmer in Winter Wellness Series with The Yoga Studio
DESCRIPTION:Nurture your mind. Soothe your soul. Warm your heart.\nJoin us for one or all of our Warmer in Winter wellness series.\nEach month we will embark on a 2-hour journey that prioritizes self-compassion and wellness. We will begin with a deeply restorative yoga practice followed by an immersive sound journey and end the evening with connection and reflection along like-minded souls over complementary tea.\nThis journey will help to relax the nervous system\, help reset your energy\, connect to inner self\, promote stress management\, help you stay grounded\, promote good sleep and invite in deep rest and relaxation. Just to name a few benefits.\nTackle the winter\, cold and darker days by giving yourself compassion and time you need to recharge.
URL:https://www.blackrivercountry.net/event/warmer-in-winter-wellness-series-with-the-yoga-studio/2025-11-15/
ATTACH;FMTTYPE=image/jpeg:https://www.blackrivercountry.net/wp-content/uploads/571275741_810042175294483_5230632270752915238_n.jpg
END:VEVENT
END:VCALENDAR