BEGIN:VCALENDAR
VERSION:2.0
PRODID:-//Black River Area Chamber of Commerce - ECPv6.15.20//NONSGML v1.0//EN
CALSCALE:GREGORIAN
METHOD:PUBLISH
X-ORIGINAL-URL:https://www.blackrivercountry.net
X-WR-CALDESC:Events for Black River Area Chamber of Commerce
REFRESH-INTERVAL;VALUE=DURATION:PT1H
X-Robots-Tag:noindex
X-PUBLISHED-TTL:PT1H
BEGIN:VTIMEZONE
TZID:America/Chicago
BEGIN:DAYLIGHT
TZOFFSETFROM:-0600
TZOFFSETTO:-0500
TZNAME:CDT
DTSTART:20240310T080000
END:DAYLIGHT
BEGIN:STANDARD
TZOFFSETFROM:-0500
TZOFFSETTO:-0600
TZNAME:CST
DTSTART:20241103T070000
END:STANDARD
BEGIN:DAYLIGHT
TZOFFSETFROM:-0600
TZOFFSETTO:-0500
TZNAME:CDT
DTSTART:20250309T080000
END:DAYLIGHT
BEGIN:STANDARD
TZOFFSETFROM:-0500
TZOFFSETTO:-0600
TZNAME:CST
DTSTART:20251102T070000
END:STANDARD
BEGIN:DAYLIGHT
TZOFFSETFROM:-0600
TZOFFSETTO:-0500
TZNAME:CDT
DTSTART:20260308T080000
END:DAYLIGHT
BEGIN:STANDARD
TZOFFSETFROM:-0500
TZOFFSETTO:-0600
TZNAME:CST
DTSTART:20261101T070000
END:STANDARD
END:VTIMEZONE
BEGIN:VEVENT
DTSTART;TZID=America/Chicago:20250605T080000
DTEND;TZID=America/Chicago:20250607T170000
DTSTAMP:20260421T153404
CREATED:20250422T151905Z
LAST-MODIFIED:20250422T151905Z
UID:10007583-1749110400-1749315600@www.blackrivercountry.net
SUMMARY:Black River Falls City Wide Garage Sales
DESCRIPTION:
URL:https://www.blackrivercountry.net/event/black-river-falls-city-wide-garage-sales/
END:VEVENT
BEGIN:VEVENT
DTSTART;TZID=America/Chicago:20250604T180000
DTEND;TZID=America/Chicago:20250604T190000
DTSTAMP:20260421T153404
CREATED:20250602T151440Z
LAST-MODIFIED:20250602T151440Z
UID:10007770-1749060000-1749063600@www.blackrivercountry.net
SUMMARY:How to Apply for the $10k Verizon Business Grant - Webinars
DESCRIPTION:APPLY TODAY – $10\,000 grant opportunities sponsored by Verizon Small Business Digital Ready are now available! \nYou must complete two short courses in order to unlock the grant application. All applications are due by 11:59 PM PT on June 30\, 2025. Click here to learn more and register. \nHow to Apply for the $10k Verizon Business Grant – Webinars \nWednesday\, June 4 | 6 – 7 PM \nWednesday\, June 11 | 12 – 1 PM \nWednesday\, June 18 | 6 – 7 PM \nWednesday\, June 25 | 12 – 1 PM \nCost: Free \nREGISTER HERE \nFAQ Sheet English (PDF) \nFAQ Sheet Spanish (PDF) \nMost popular marketing & finance courses: \n\nCalculating the salary you deserve\nFind the right financing for your business\nSetting smart prices\nStrengthen your loan application readiness\nDefining your brand: connecting to customers\n\n\n\n\n\n\n\n\n\n\n\n\n\n\n\n\n\n\n\n\nAPPLY NOW
URL:https://www.blackrivercountry.net/event/how-to-apply-for-the-10k-verizon-business-grant-webinars/2025-06-04/
ATTACH;FMTTYPE=image/jpeg:https://www.blackrivercountry.net/wp-content/uploads/WesternWBC-2.jpg
END:VEVENT
BEGIN:VEVENT
DTSTART;TZID=America/Chicago:20250604T180000
DTEND;TZID=America/Chicago:20250604T180000
DTSTAMP:20260421T153404
CREATED:20250523T162942Z
LAST-MODIFIED:20250523T162942Z
UID:10007712-1749060000-1749060000@www.blackrivercountry.net
SUMMARY:St. John's Lutheran Homeschool Co-op Ice Cream Social
DESCRIPTION:
URL:https://www.blackrivercountry.net/event/st-johns-lutheran-homeschool-co-op-ice-cream-social/
END:VEVENT
BEGIN:VEVENT
DTSTART;TZID=America/Chicago:20250604T140000
DTEND;TZID=America/Chicago:20250604T180000
DTSTAMP:20260421T153404
CREATED:20250331T154210Z
LAST-MODIFIED:20250407T151137Z
UID:10007279-1749045600-1749060000@www.blackrivercountry.net
SUMMARY:Jackson County Farmer's Market
DESCRIPTION:https://jacksoncountyfarmersmarketwi.com/
URL:https://www.blackrivercountry.net/event/jackson-county-farmers-market/2025-06-04/
ATTACH;FMTTYPE=image/jpeg:https://www.blackrivercountry.net/wp-content/uploads/486556373_1194120882716048_2855142741931307268_n.jpg
END:VEVENT
BEGIN:VEVENT
DTSTART;TZID=America/Chicago:20250604T130000
DTEND;TZID=America/Chicago:20250604T150000
DTSTAMP:20260421T153404
CREATED:20250508T165323Z
LAST-MODIFIED:20250508T165323Z
UID:10007632-1749042000-1749049200@www.blackrivercountry.net
SUMMARY:Jackson Burgau @ The Hub
DESCRIPTION:
URL:https://www.blackrivercountry.net/event/jackson-burgau-the-hub/
END:VEVENT
BEGIN:VEVENT
DTSTART;TZID=America/Chicago:20250604T120000
DTEND;TZID=America/Chicago:20250604T130000
DTSTAMP:20260421T153404
CREATED:20250527T144753Z
LAST-MODIFIED:20250527T144753Z
UID:10007713-1749038400-1749042000@www.blackrivercountry.net
SUMMARY:Reframing Rejection: Turning Setbacks into Strategy for Small Business Success
DESCRIPTION:Reframing Rejection: Turning Setbacks into Strategy for Small Business Success \nWednesday\, June 4 | 12-1 PM \nLocation: Online \nCost: Free \nREGISTER HERE
URL:https://www.blackrivercountry.net/event/reframing-rejection-turning-setbacks-into-strategy-for-small-business-success/
ATTACH;FMTTYPE=image/jpeg:https://www.blackrivercountry.net/wp-content/uploads/WesternWBC-2.jpg
END:VEVENT
BEGIN:VEVENT
DTSTART;TZID=America/Chicago:20250604T113000
DTEND;TZID=America/Chicago:20250604T130000
DTSTAMP:20260421T153404
CREATED:20250529T202610Z
LAST-MODIFIED:20250529T202610Z
UID:10007755-1749036600-1749042000@www.blackrivercountry.net
SUMMARY:Understanding Alzheimer's and Dementia
DESCRIPTION:
URL:https://www.blackrivercountry.net/event/understanding-alzheimers-and-dementia/
END:VEVENT
BEGIN:VEVENT
DTSTART;VALUE=DATE:20250604
DTEND;VALUE=DATE:20250605
DTSTAMP:20260421T153404
CREATED:20250529T193327Z
LAST-MODIFIED:20250529T194736Z
UID:10007741-1749024000-1749056400@www.blackrivercountry.net
SUMMARY:Summer Events with Lunda Community Center
DESCRIPTION:
URL:https://www.blackrivercountry.net/event/summer-mindfulness-with-lunda-community-center/2025-06-04/
END:VEVENT
BEGIN:VEVENT
DTSTART;VALUE=DATE:20250604
DTEND;VALUE=DATE:20250627
DTSTAMP:20260421T153404
CREATED:20250529T161130Z
LAST-MODIFIED:20250529T161130Z
UID:10007735-1749006000-1750906799@www.blackrivercountry.net
SUMMARY:June Dairy Month @ Black River Country Bank
DESCRIPTION:
URL:https://www.blackrivercountry.net/event/june-dairy-month-black-river-country-bank/
END:VEVENT
BEGIN:VEVENT
DTSTART;TZID=America/Chicago:20250603T190000
DTEND;TZID=America/Chicago:20250603T190000
DTSTAMP:20260421T153404
CREATED:20250513T202409Z
LAST-MODIFIED:20250513T202409Z
UID:10007639-1748977200-1748977200@www.blackrivercountry.net
SUMMARY:2025 Concerts in the Park
DESCRIPTION:
URL:https://www.blackrivercountry.net/event/2025-concerts-in-the-park/2025-06-03/
END:VEVENT
BEGIN:VEVENT
DTSTART;TZID=America/Chicago:20250603T190000
DTEND;TZID=America/Chicago:20250603T190000
DTSTAMP:20260421T153404
CREATED:20241212T175224Z
LAST-MODIFIED:20241226T163439Z
UID:10006548-1748977200-1748977200@www.blackrivercountry.net
SUMMARY:Tuesday Trivia @ Rozarios
DESCRIPTION:Cold drinks. Hot food. Tons of fun. Trivia starts at 7:15 pm. So get your team together and come on down. Free to play.
URL:https://www.blackrivercountry.net/event/tuesday-trivia-rozario/2025-06-03/
ATTACH;FMTTYPE=image/jpeg:https://www.blackrivercountry.net/wp-content/uploads/415519650_858493506278630_1467434810096093052_n-1.jpg
END:VEVENT
BEGIN:VEVENT
DTSTART;TZID=America/Chicago:20250603T160000
DTEND;TZID=America/Chicago:20250603T200000
DTSTAMP:20260421T153404
CREATED:20241202T170354Z
LAST-MODIFIED:20241202T170354Z
UID:10006092-1748966400-1748980800@www.blackrivercountry.net
SUMMARY:Open Mic Night @McSweets Irish Pub
DESCRIPTION:https://www.facebook.com/profile.php?id=100063454330338 \nCheck the link for updates
URL:https://www.blackrivercountry.net/event/open-mic-night-mcsweets-irish-pub/2025-06-03/
END:VEVENT
BEGIN:VEVENT
DTSTART;TZID=America/Chicago:20250603T080000
DTEND;TZID=America/Chicago:20250603T080000
DTSTAMP:20260421T153404
CREATED:20250529T202011Z
LAST-MODIFIED:20250529T202011Z
UID:10007754-1748937600-1748937600@www.blackrivercountry.net
SUMMARY:Weeding Day- Volunteers Needed
DESCRIPTION:🌱 Join the Karner Blue Garden Club for a Weeding Day at the Hoffman Aquatic Center on June 3rd at 8:00 am! Let’s get our hands dirty and help keep this space beautiful. See you there at 1400 Tyler St. Brf.! 🧤🦋
URL:https://www.blackrivercountry.net/event/weeding-day-volunteers-needed/
END:VEVENT
BEGIN:VEVENT
DTSTART;VALUE=DATE:20250603
DTEND;VALUE=DATE:20250618
DTSTAMP:20260421T153404
CREATED:20250603T145751Z
LAST-MODIFIED:20250603T145751Z
UID:10007779-1748919600-1750129199@www.blackrivercountry.net
SUMMARY:Summer Basketball Camp - Register Now
DESCRIPTION:
URL:https://www.blackrivercountry.net/event/summer-basketball-camp-register-now/
END:VEVENT
BEGIN:VEVENT
DTSTART;TZID=America/Chicago:20250602T100000
DTEND;TZID=America/Chicago:20250602T110000
DTSTAMP:20260421T153404
CREATED:20250131T190935Z
LAST-MODIFIED:20260203T153038Z
UID:10007098-1748858400-1748862000@www.blackrivercountry.net
SUMMARY:Mugs & Matches
DESCRIPTION:  \nWe are extending a warm welcome to Interfaith Volunteers to join together for coffee and conversation on Mondays. Coffee is served at 10 am the first Monday of each month. If you are not a fan of coffee\, no worries—we have tea\, hot chocolate\, and bottled water\, too. Come and catch up with fellow volunteers! See you Monday!
URL:https://www.blackrivercountry.net/event/mugs-matches/2025-06-02/
ATTACH;FMTTYPE=image/jpeg:https://www.blackrivercountry.net/wp-content/uploads/mugs-and-matches.jpg
END:VEVENT
BEGIN:VEVENT
DTSTART;VALUE=DATE:20250602
DTEND;VALUE=DATE:20250702
DTSTAMP:20260421T153404
CREATED:20250602T153652Z
LAST-MODIFIED:20250602T153652Z
UID:10007775-1748833200-1751338799@www.blackrivercountry.net
SUMMARY:June Harvest of the Month
DESCRIPTION:
URL:https://www.blackrivercountry.net/event/june-harvest-of-the-month-2/
END:VEVENT
BEGIN:VEVENT
DTSTART;VALUE=DATE:20250602
DTEND;VALUE=DATE:20250702
DTSTAMP:20260421T153404
CREATED:20250602T153608Z
LAST-MODIFIED:20250602T153608Z
UID:10007774-1748833200-1751338799@www.blackrivercountry.net
SUMMARY:June Harvest of the Month
DESCRIPTION:
URL:https://www.blackrivercountry.net/event/june-harvest-of-the-month/
END:VEVENT
BEGIN:VEVENT
DTSTART;VALUE=DATE:20250602
DTEND;VALUE=DATE:20250604
DTSTAMP:20260421T153404
CREATED:20250519T162518Z
LAST-MODIFIED:20250519T162518Z
UID:10007653-1748833200-1748919599@www.blackrivercountry.net
SUMMARY:Protecting Our Elders: Awareness\, Prevention & Interventio
DESCRIPTION:Protecting Our Elders: Awareness\, Prevention & Intervention will take place on Monday June 2. Two presentations\, in honor of World Elder Abuse Awareness Day\, are scheduled. The first presentation\, for Community Partners\, will take place from 2:30 to 4 p.m. at the Jackson County Department of Health & Human Services and can be attended in-person or virtually. Email aps-jc@jacksoncountywi.gov for a link to attend virtually.\nThe second presentation\, for the General Public\, will take place on Monday\, June 2 at 5 p.m. in the Black River Falls Public Library’s program room. This presentation will be in-person only. Please see the attached flyer for further information.
URL:https://www.blackrivercountry.net/event/protecting-our-elders-awareness-prevention-interventio/
END:VEVENT
BEGIN:VEVENT
DTSTART;TZID=America/Chicago:20250601T140000
DTEND;TZID=America/Chicago:20250601T180000
DTSTAMP:20260421T153404
CREATED:20250527T162709Z
LAST-MODIFIED:20250527T162709Z
UID:10007728-1748786400-1748800800@www.blackrivercountry.net
SUMMARY:Ironfest w/ Shady Glen Band @Hideaway Campground RV Park/Whiskey Jack's Saloon
DESCRIPTION:Bring your hot rod or Harley and have a great time at ironfest with the always rocking Shadyglen on the patio!!!
URL:https://www.blackrivercountry.net/event/ironfest-w-shady-glen-band-hideaway-campground-rv-park-whiskey-jacks-saloon/
ATTACH;FMTTYPE=image/jpeg:https://www.blackrivercountry.net/wp-content/uploads/500351645_999340012181877_4284521599396309705_n.jpg
END:VEVENT
BEGIN:VEVENT
DTSTART;TZID=America/Chicago:20250601T130000
DTEND;TZID=America/Chicago:20250601T160000
DTSTAMP:20260421T153404
CREATED:20250519T163755Z
LAST-MODIFIED:20250519T163755Z
UID:10007559-1748782800-1748793600@www.blackrivercountry.net
SUMMARY:Live Music at Creekside Winery
DESCRIPTION:
URL:https://www.blackrivercountry.net/event/live-music-at-creekside-winery-3/
END:VEVENT
BEGIN:VEVENT
DTSTART;TZID=America/Chicago:20250601T120000
DTEND;TZID=America/Chicago:20250601T150000
DTSTAMP:20260421T153404
CREATED:20250429T193518Z
LAST-MODIFIED:20250429T193518Z
UID:10007601-1748779200-1748790000@www.blackrivercountry.net
SUMMARY:Spring Creek Schoolhouse Museum Open
DESCRIPTION:
URL:https://www.blackrivercountry.net/event/spring-creek-schoolhouse-museum-open/2025-06-01/
END:VEVENT
BEGIN:VEVENT
DTSTART;TZID=America/Chicago:20250531T200000
DTEND;TZID=America/Chicago:20250531T235900
DTSTAMP:20260421T153404
CREATED:20250527T150440Z
LAST-MODIFIED:20250527T150440Z
UID:10007726-1748721600-1748735940@www.blackrivercountry.net
SUMMARY:Tippenback Ridge- Free Casino Stage Music @Ho-Chunk Gaming BRF
DESCRIPTION:
URL:https://www.blackrivercountry.net/event/tippenback-ridge-free-casino-stage-music-ho-chunk-gaming-brf/
END:VEVENT
BEGIN:VEVENT
DTSTART;TZID=America/Chicago:20250531T160000
DTEND;TZID=America/Chicago:20250531T180000
DTSTAMP:20260421T153404
CREATED:20250522T144043Z
LAST-MODIFIED:20250522T144144Z
UID:10007696-1748707200-1748714400@www.blackrivercountry.net
SUMMARY:Free Casino Floor Magic @Ho-Chunk Gaming BRF
DESCRIPTION:
URL:https://www.blackrivercountry.net/event/37947/2025-05-31/
END:VEVENT
BEGIN:VEVENT
DTSTART;TZID=America/Chicago:20250531T100000
DTEND;TZID=America/Chicago:20250531T140000
DTSTAMP:20260421T153404
CREATED:20250520T155252Z
LAST-MODIFIED:20250520T155252Z
UID:10007663-1748685600-1748700000@www.blackrivercountry.net
SUMMARY:Carnegie Museum open for the 2025 season
DESCRIPTION:Carnegie Museum opening for the 2025 season. Opening Friday May 2\, 2025 through September 26\, 2025. Regular hours will be Fridays & Saturdays from 10am to 2pm. Spring Creek Schoolhouse Museum will be open May through September on the first Sunday of each month from 12 (Noon) to 3pm\, opening date May 4th\, 2025 through September 7th\, 2025. Both Museums are available to open by appointment.Local history and genealogy research center can be made by appointment.
URL:https://www.blackrivercountry.net/event/carnegie-museum-open-for-the-2025-season/2025-05-31/
ATTACH;FMTTYPE=image/jpeg:https://www.blackrivercountry.net/wp-content/uploads/494150069_1225665596226231_4174473114499380994_n-1.jpg
END:VEVENT
BEGIN:VEVENT
DTSTART;TZID=America/Chicago:20250531T090000
DTEND;TZID=America/Chicago:20250531T140000
DTSTAMP:20260421T153404
CREATED:20250502T140639Z
LAST-MODIFIED:20250502T141022Z
UID:10007615-1748682000-1748700000@www.blackrivercountry.net
SUMMARY:Fundamentals of Family Child Care - Course
DESCRIPTION:CCFT: Fundamentals of Family Child Care (Revised 2024)-BLENDED\nMay 10 – 31\, 2025  |  Add to Calendar\nWestern Dairyland\, 418 Wisconsin Street\, Eau Claire\, WI 54703 \nRevised in 2024\, this Child Care Foundational Training provides foundational knowledge and skills training for individuals as they begin\, or consider\, a career in caring for children in a home setting. Content includes exploring the basics of family child care from foundational business practices to intentionally planning to support growth and development for mixed-age groups. Learners explore rules and regulations governing family child care businesses and programming. practices and strategies will be explored to reflect the diverse needs of children and families in Wisconsin. \nThis course fulfills introductory noncredit course requirements as specified in the Department of Children and Families (DCF) Chapters 202 and 250 for family child care. \nLearn More & Register
URL:https://www.blackrivercountry.net/event/fundamentals-of-family-child-care-course/2025-05-31/
ATTACH;FMTTYPE=image/png:https://www.blackrivercountry.net/wp-content/uploads/unnamed-30.png
END:VEVENT
BEGIN:VEVENT
DTSTART;TZID=America/Chicago:20250531T090000
DTEND;TZID=America/Chicago:20250531T130000
DTSTAMP:20260421T153404
CREATED:20250407T150937Z
LAST-MODIFIED:20250407T151247Z
UID:10007348-1748682000-1748696400@www.blackrivercountry.net
SUMMARY:Jackson County Farmers Market
DESCRIPTION:https://jacksoncountyfarmersmarketwi.com/
URL:https://www.blackrivercountry.net/event/jackson-county-farmers-market-2-2/2025-05-31/
ATTACH;FMTTYPE=image/jpeg:https://www.blackrivercountry.net/wp-content/uploads/486556373_1194120882716048_2855142741931307268_n.jpg
END:VEVENT
BEGIN:VEVENT
DTSTART;TZID=America/Chicago:20250530T213000
DTEND;TZID=America/Chicago:20250531T023000
DTSTAMP:20260421T153404
CREATED:20250401T153224Z
LAST-MODIFIED:20250401T153224Z
UID:10007500-1748640600-1748658600@www.blackrivercountry.net
SUMMARY:Karaoke at Sunset Tavern 9:30pm - Close
DESCRIPTION:Karaoke at Sunset Tavern with your karaoke host Derek and bartenders Josie\, Shayla\, Alyssa and the crew!Cold beer\, awesome mixed drinks\, amazing atmosphere and karaoke with me your creatively dressed host.
URL:https://www.blackrivercountry.net/event/karaoke-at-sunset-tavern-930pm-close-3/2025-05-30/
ATTACH;FMTTYPE=image/png:https://www.blackrivercountry.net/wp-content/uploads/sunset-karaoje.PNG
END:VEVENT
BEGIN:VEVENT
DTSTART;TZID=America/Chicago:20250530T180000
DTEND;TZID=America/Chicago:20250530T220000
DTSTAMP:20260421T153404
CREATED:20250512T200129Z
LAST-MODIFIED:20250522T152828Z
UID:10007636-1748628000-1748642400@www.blackrivercountry.net
SUMMARY:May Bike Night with Uncle Ron @McSweets Irish Pub
DESCRIPTION:Trophies\, music and a few biker games…great way to start the weekend! Cantina 5 Mexican food available. See you the last Friday of May!
URL:https://www.blackrivercountry.net/event/may-bike-night-with-uncle-ron/
END:VEVENT
BEGIN:VEVENT
DTSTART;TZID=America/Chicago:20250530T173000
DTEND;TZID=America/Chicago:20250530T193000
DTSTAMP:20260421T153404
CREATED:20250417T150918Z
LAST-MODIFIED:20250417T150918Z
UID:10007579-1748626200-1748633400@www.blackrivercountry.net
SUMMARY:BINGO NIGHT @ CREEKSIDE WINERY
DESCRIPTION:
URL:https://www.blackrivercountry.net/event/bingo-night-creekside-winery/
END:VEVENT
BEGIN:VEVENT
DTSTART;TZID=America/Chicago:20250530T100000
DTEND;TZID=America/Chicago:20250530T140000
DTSTAMP:20260421T153404
CREATED:20250520T155252Z
LAST-MODIFIED:20250520T155252Z
UID:10007662-1748599200-1748613600@www.blackrivercountry.net
SUMMARY:Carnegie Museum open for the 2025 season
DESCRIPTION:Carnegie Museum opening for the 2025 season. Opening Friday May 2\, 2025 through September 26\, 2025. Regular hours will be Fridays & Saturdays from 10am to 2pm. Spring Creek Schoolhouse Museum will be open May through September on the first Sunday of each month from 12 (Noon) to 3pm\, opening date May 4th\, 2025 through September 7th\, 2025. Both Museums are available to open by appointment.Local history and genealogy research center can be made by appointment.
URL:https://www.blackrivercountry.net/event/carnegie-museum-open-for-the-2025-season/2025-05-30/
ATTACH;FMTTYPE=image/jpeg:https://www.blackrivercountry.net/wp-content/uploads/494150069_1225665596226231_4174473114499380994_n-1.jpg
END:VEVENT
END:VCALENDAR