BEGIN:VCALENDAR
VERSION:2.0
PRODID:-//Black River Area Chamber of Commerce - ECPv6.15.20//NONSGML v1.0//EN
CALSCALE:GREGORIAN
METHOD:PUBLISH
X-ORIGINAL-URL:https://www.blackrivercountry.net
X-WR-CALDESC:Events for Black River Area Chamber of Commerce
REFRESH-INTERVAL;VALUE=DURATION:PT1H
X-Robots-Tag:noindex
X-PUBLISHED-TTL:PT1H
BEGIN:VTIMEZONE
TZID:America/Chicago
BEGIN:DAYLIGHT
TZOFFSETFROM:-0600
TZOFFSETTO:-0500
TZNAME:CDT
DTSTART:20240310T080000
END:DAYLIGHT
BEGIN:STANDARD
TZOFFSETFROM:-0500
TZOFFSETTO:-0600
TZNAME:CST
DTSTART:20241103T070000
END:STANDARD
BEGIN:DAYLIGHT
TZOFFSETFROM:-0600
TZOFFSETTO:-0500
TZNAME:CDT
DTSTART:20250309T080000
END:DAYLIGHT
BEGIN:STANDARD
TZOFFSETFROM:-0500
TZOFFSETTO:-0600
TZNAME:CST
DTSTART:20251102T070000
END:STANDARD
BEGIN:DAYLIGHT
TZOFFSETFROM:-0600
TZOFFSETTO:-0500
TZNAME:CDT
DTSTART:20260308T080000
END:DAYLIGHT
BEGIN:STANDARD
TZOFFSETFROM:-0500
TZOFFSETTO:-0600
TZNAME:CST
DTSTART:20261101T070000
END:STANDARD
END:VTIMEZONE
BEGIN:VEVENT
DTSTART;TZID=America/Chicago:20250524T160000
DTEND;TZID=America/Chicago:20250524T190000
DTSTAMP:20260421T170929
CREATED:20250120T172848Z
LAST-MODIFIED:20250120T172848Z
UID:10007078-1748102400-1748113200@www.blackrivercountry.net
SUMMARY:Annual BRF High School Alumni Association Banquet
DESCRIPTION:When: Saturday\, May 24\, 2025\nWhere: Commons Area of BRF High School\nCost: The event is sponsored by David and Judith Lund\, John and Sharon Lund\, and Gerald Schunke. \nSchedule:\n• Social hour: 4 p.m. – 6 p.m.\n• Dinner: 6 p.m.\n• Anniversary-year photos (25-year\, 30-year\, etc.): 5:30 p.m. in designated meeting rooms \nAdditional Information:\n• The event is open to all BRFHS alumni and their guests.\n• Reservations must be made by May 15\, 2025.\n• Please include your name\, class year\, mailing and e-mail address\, name of guest (class year if applicable)\, and phone number.\n• Email your reservation to brfalumni2025@yahoo.com\, call 715-284-4072\, or mail your reservation to Clarice Hanson Franke\, BRF Alumni Assn. Secretary/Treasurer\, W11552 Spaulding Rd\, Black River Falls WI 54615.\n• Confirmation of your reservation will be made by phone call or email.\n• The alumni association awards $2\,000 scholarships to BRFHS graduates. Donations are appreciated to help support the scholarship program. Donations can be made at the banquet\, mailed to Franke (checks should be made payable to the BRF Area Foundation)\, or made directly online at brfareafoundation.org (click on “Donate” and then the “Tiger wearing a graduation hat”). \nContact Information:\n• Steve Peterson\, President: 715-299-7383\n• Grace Hanson Nordahl\, Vice President/Scholarship Committee Advisor: 715-963-2151\n• Clarice Hanson Franke\, Secretary/Treasurer: 715-284-4072
URL:https://www.blackrivercountry.net/event/annual-brf-high-school-alumni-association-banquet/
END:VEVENT
BEGIN:VEVENT
DTSTART;TZID=America/Chicago:20250524T160000
DTEND;TZID=America/Chicago:20250524T180000
DTSTAMP:20260421T170929
CREATED:20250522T144043Z
LAST-MODIFIED:20250522T144144Z
UID:10007695-1748102400-1748109600@www.blackrivercountry.net
SUMMARY:Free Casino Floor Magic @Ho-Chunk Gaming BRF
DESCRIPTION:
URL:https://www.blackrivercountry.net/event/37947/2025-05-24/
END:VEVENT
BEGIN:VEVENT
DTSTART;TZID=America/Chicago:20250524T100000
DTEND;TZID=America/Chicago:20250524T140000
DTSTAMP:20260421T170929
CREATED:20250520T155252Z
LAST-MODIFIED:20250520T155252Z
UID:10007661-1748080800-1748095200@www.blackrivercountry.net
SUMMARY:Carnegie Museum open for the 2025 season
DESCRIPTION:Carnegie Museum opening for the 2025 season. Opening Friday May 2\, 2025 through September 26\, 2025. Regular hours will be Fridays & Saturdays from 10am to 2pm. Spring Creek Schoolhouse Museum will be open May through September on the first Sunday of each month from 12 (Noon) to 3pm\, opening date May 4th\, 2025 through September 7th\, 2025. Both Museums are available to open by appointment.Local history and genealogy research center can be made by appointment.
URL:https://www.blackrivercountry.net/event/carnegie-museum-open-for-the-2025-season/2025-05-24/
ATTACH;FMTTYPE=image/jpeg:https://www.blackrivercountry.net/wp-content/uploads/494150069_1225665596226231_4174473114499380994_n-1.jpg
END:VEVENT
BEGIN:VEVENT
DTSTART;TZID=America/Chicago:20250524T070000
DTEND;TZID=America/Chicago:20250524T110000
DTSTAMP:20260421T170929
CREATED:20250512T145134Z
LAST-MODIFIED:20250512T145134Z
UID:10007635-1748070000-1748084400@www.blackrivercountry.net
SUMMARY:Hatfield Fire & Rescue Annual Pancake Breakfast
DESCRIPTION:
URL:https://www.blackrivercountry.net/event/hatfield-fire-rescue-annual-pancake-breakfast/
END:VEVENT
BEGIN:VEVENT
DTSTART;VALUE=DATE:20250524
DTEND;VALUE=DATE:20250528
DTSTAMP:20260421T170929
CREATED:20250522T144408Z
LAST-MODIFIED:20250522T144408Z
UID:10007697-1748055600-1748314799@www.blackrivercountry.net
SUMMARY:Memorial Day POW WOW
DESCRIPTION:
URL:https://www.blackrivercountry.net/event/memorial-day-pow-wow/
END:VEVENT
BEGIN:VEVENT
DTSTART;TZID=America/Chicago:20250523T100000
DTEND;TZID=America/Chicago:20250523T140000
DTSTAMP:20260421T170929
CREATED:20250520T155252Z
LAST-MODIFIED:20250520T155252Z
UID:10007660-1747994400-1748008800@www.blackrivercountry.net
SUMMARY:Carnegie Museum open for the 2025 season
DESCRIPTION:Carnegie Museum opening for the 2025 season. Opening Friday May 2\, 2025 through September 26\, 2025. Regular hours will be Fridays & Saturdays from 10am to 2pm. Spring Creek Schoolhouse Museum will be open May through September on the first Sunday of each month from 12 (Noon) to 3pm\, opening date May 4th\, 2025 through September 7th\, 2025. Both Museums are available to open by appointment.Local history and genealogy research center can be made by appointment.
URL:https://www.blackrivercountry.net/event/carnegie-museum-open-for-the-2025-season/2025-05-23/2/
ATTACH;FMTTYPE=image/jpeg:https://www.blackrivercountry.net/wp-content/uploads/494150069_1225665596226231_4174473114499380994_n-1.jpg
END:VEVENT
BEGIN:VEVENT
DTSTART;TZID=America/Chicago:20250523T080000
DTEND;TZID=America/Chicago:20250525T170000
DTSTAMP:20260421T170929
CREATED:20250109T163336Z
LAST-MODIFIED:20250225T192657Z
UID:10007037-1747987200-1748192400@www.blackrivercountry.net
SUMMARY:THE VILLAGE PEDDLER OF HIXTON. LLC 2025 FLEA MARKET SCHEDULE
DESCRIPTION:
URL:https://www.blackrivercountry.net/event/the-village-peddler-of-hixton-llc-2025-flea-market-schedule/2025-05-23/
END:VEVENT
BEGIN:VEVENT
DTSTART;TZID=America/Chicago:20250523T080000
DTEND;TZID=America/Chicago:20250523T170000
DTSTAMP:20260421T170929
CREATED:20250520T155252Z
LAST-MODIFIED:20250520T155252Z
UID:10007659-1747987200-1748019600@www.blackrivercountry.net
SUMMARY:Carnegie Museum open for the 2025 season
DESCRIPTION:Carnegie Museum opening for the 2025 season. Opening Friday May 2\, 2025 through September 26\, 2025. Regular hours will be Fridays & Saturdays from 10am to 2pm. Spring Creek Schoolhouse Museum will be open May through September on the first Sunday of each month from 12 (Noon) to 3pm\, opening date May 4th\, 2025 through September 7th\, 2025. Both Museums are available to open by appointment.Local history and genealogy research center can be made by appointment.
URL:https://www.blackrivercountry.net/event/carnegie-museum-open-for-the-2025-season/2025-05-23/1/
ATTACH;FMTTYPE=image/jpeg:https://www.blackrivercountry.net/wp-content/uploads/494150069_1225665596226231_4174473114499380994_n-1.jpg
END:VEVENT
BEGIN:VEVENT
DTSTART;TZID=America/Chicago:20250522T170000
DTEND;TZID=America/Chicago:20250522T170000
DTSTAMP:20260421T170929
CREATED:20250422T191814Z
LAST-MODIFIED:20250422T191814Z
UID:10007585-1747933200-1747933200@www.blackrivercountry.net
SUMMARY:BINGO night @ McSweet's Irish Pub- Jackson County Humane Society Fundraiser
DESCRIPTION:Save the date! More details to come. \nFacebook Details \n 
URL:https://www.blackrivercountry.net/event/bingo-night-mcsweets-irish-pub-jackson-county-humane-society-fundraiser/
ATTACH;FMTTYPE=image/jpeg:https://www.blackrivercountry.net/wp-content/uploads/491161082_982155544085146_8565562961445693543_n.jpg
END:VEVENT
BEGIN:VEVENT
DTSTART;TZID=America/Chicago:20250522T153000
DTEND;TZID=America/Chicago:20250522T173000
DTSTAMP:20260421T170929
CREATED:20250403T151444Z
LAST-MODIFIED:20250403T151444Z
UID:10007529-1747927800-1747935000@www.blackrivercountry.net
SUMMARY:Gardening Work Shops With Joe Williams
DESCRIPTION:
URL:https://www.blackrivercountry.net/event/gardening-work-shops-with-joe-williams/2025-05-22/
END:VEVENT
BEGIN:VEVENT
DTSTART;TZID=America/Chicago:20250521T160000
DTEND;TZID=America/Chicago:20250521T200000
DTSTAMP:20260421T170929
CREATED:20250430T161511Z
LAST-MODIFIED:20250430T161511Z
UID:10007609-1747843200-1747857600@www.blackrivercountry.net
SUMMARY:Millston Area Museum- OPEN TODAY
DESCRIPTION:The  museum will be open Sunday\, May 18\, from 1 to 3 p.m.; Wednesday\, May 21\, from 4 to 8 p.m.; Sunday\, May 25\, from 11 a.m. to 1 p.m.\, and Wednesday\, May 28\, from 4 to 8 p.m. \nTours are also available by appointment. \nhttps://millstonareamuseum.com/
URL:https://www.blackrivercountry.net/event/millston-area-museum-open-today/2025-05-21/
ATTACH;FMTTYPE=image/png:https://www.blackrivercountry.net/wp-content/uploads/Screenshot-2025-04-30-111258.png
END:VEVENT
BEGIN:VEVENT
DTSTART;TZID=America/Chicago:20250521T110000
DTEND;TZID=America/Chicago:20250521T120000
DTSTAMP:20260421T170929
CREATED:20250414T142450Z
LAST-MODIFIED:20250414T142450Z
UID:10007547-1747825200-1747828800@www.blackrivercountry.net
SUMMARY:Understanding Credit
DESCRIPTION:Understanding Credit\nWednesday\, May 21  |  11 AM – 12 PM\nWhere: Online\nWhen: Wednesday\, May 21\, 2025  |  11 AM to 12 PM\nTopic: Business Basics \n  \nCredit affects so many things in our lives! In this class\, current or prospective business owners will learn what information is on a credit report and how to request theirs; who looks at credit reports and why; what credit scores are and how they are calculated; and what habits will help build their credit. Note: All our webinars and events are open to women and men. \nABOUT JORDAN POSPISHIL\nWith fifteen years of experience in financial services\, Jordan brings a wealth of expertise to Royal Credit Union’s business banking team and is excited to help finance start-ups and support existing businesses. Her career journey began as a high school teller\, leading her to diverse roles at Royal where she worked as a Financial Service Representative and in Member Loans. She later transitioned to a credit analyst role where she discovered her passion for business lending. Jordan went on to serve as the lending specialist for the Regional Business Fund\, helping small businesses in West Central Wisconsin\, and gained hands-on operational experience offering tailored lending solutions that foster business growth. Jordan holds a bachelor’s degree in economics from UW-Eau Claire and completed the Commercial Lending School foundational course with the American Bankers Association. She’s actively involved in her community as a board member for the Chippewa County EDC\, Chair of the Revolving Loan Fund Committee\, and a dedicated volunteer with Junior Achievement. \nABOUT COOPER LARSON\nCooper has worked in the credit union movement for over 11 years. She connects Royal Credit Union with the communities it serves by forming impactful partnerships focused on financial education delivery. She leads Royal’s correctional facility education program serves as President of the Royal Young Professional’s Group\, is a member of the Wisconsin Credit Union League Young Professional Advisory Board and serves on the Financial Stability Advisory Council for the United Way of the Greater Chippewa Valley. She is also a co-host of Royal’s award-winning Money Donuts podcast. In her free time\, you can find her working on graduate school courses and going on adventures with her Labrador Retriever\, Coco. \nNOTE: By signing up for this webinar\, you agree to be automatically subscribed to our (bi)weekly newsletter. You are able to unsubscribe at any point. Thank you for your interest in our webinars and events!\nSpeaker: Jordan Pospishil and Cooper Larson\, www.rcu.org \nFee: No Cost \nRegister Now
URL:https://www.blackrivercountry.net/event/understanding-credit/
ATTACH;FMTTYPE=image/jpeg:https://www.blackrivercountry.net/wp-content/uploads/WesternWBC-2.jpg
END:VEVENT
BEGIN:VEVENT
DTSTART;TZID=America/Chicago:20250521T090000
DTEND;TZID=America/Chicago:20250521T150000
DTSTAMP:20260421T170929
CREATED:20250428T154729Z
LAST-MODIFIED:20250428T154729Z
UID:10007595-1747818000-1747839600@www.blackrivercountry.net
SUMMARY:Aging Gracefully Planning with Purpose @ Interfaith
DESCRIPTION:
URL:https://www.blackrivercountry.net/event/aging-gracefully-planning-with-purpose-interfaith/
ATTACH;FMTTYPE=image/png:https://www.blackrivercountry.net/wp-content/uploads/Screenshot-2025-04-28-104656.png
END:VEVENT
BEGIN:VEVENT
DTSTART;TZID=America/Chicago:20250520T190000
DTEND;TZID=America/Chicago:20250520T210000
DTSTAMP:20260421T170929
CREATED:20250507T152121Z
LAST-MODIFIED:20250507T152121Z
UID:10007625-1747767600-1747774800@www.blackrivercountry.net
SUMMARY:The Lion King Jr. is hitting the stage at the Lunda Theater
DESCRIPTION:  \nGet ready to roar with excitement—The Lion King Jr. is hitting the stage at the Lunda Theater on May 20th at 7:00 PM! Join us for a wild adventure full of music\, dancing\, and unforgettable characters. Save the date\, grab your seats\, and come experience the magic of the Pride Lands—this is one show you don’t want to miss!
URL:https://www.blackrivercountry.net/event/the-lion-king-jr-is-hitting-the-stage-at-the-lunda-theater/
END:VEVENT
BEGIN:VEVENT
DTSTART;TZID=America/Chicago:20250520T190000
DTEND;TZID=America/Chicago:20250520T190000
DTSTAMP:20260421T170929
CREATED:20241212T175224Z
LAST-MODIFIED:20241226T163439Z
UID:10006546-1747767600-1747767600@www.blackrivercountry.net
SUMMARY:Tuesday Trivia @ Rozarios
DESCRIPTION:Cold drinks. Hot food. Tons of fun. Trivia starts at 7:15 pm. So get your team together and come on down. Free to play.
URL:https://www.blackrivercountry.net/event/tuesday-trivia-rozario/2025-05-20/
ATTACH;FMTTYPE=image/jpeg:https://www.blackrivercountry.net/wp-content/uploads/415519650_858493506278630_1467434810096093052_n-1.jpg
END:VEVENT
BEGIN:VEVENT
DTSTART;TZID=America/Chicago:20250520T160000
DTEND;TZID=America/Chicago:20250520T200000
DTSTAMP:20260421T170929
CREATED:20241202T170354Z
LAST-MODIFIED:20241202T170354Z
UID:10006091-1747756800-1747771200@www.blackrivercountry.net
SUMMARY:Open Mic Night @McSweets Irish Pub
DESCRIPTION:https://www.facebook.com/profile.php?id=100063454330338 \nCheck the link for updates
URL:https://www.blackrivercountry.net/event/open-mic-night-mcsweets-irish-pub/2025-05-20/
END:VEVENT
BEGIN:VEVENT
DTSTART;VALUE=DATE:20250519
DTEND;VALUE=DATE:20250616
DTSTAMP:20260421T170929
CREATED:20250519T164130Z
LAST-MODIFIED:20250519T164130Z
UID:10007656-1747623600-1749956399@www.blackrivercountry.net
SUMMARY:Win a Freezer at Corner Store It Is
DESCRIPTION:
URL:https://www.blackrivercountry.net/event/win-a-freezer-at-corner-store-it-is/
END:VEVENT
BEGIN:VEVENT
DTSTART;VALUE=DATE:20250519
DTEND;VALUE=DATE:20250521
DTSTAMP:20260421T170929
CREATED:20250502T143159Z
LAST-MODIFIED:20250502T143609Z
UID:10007617-1747623600-1747709999@www.blackrivercountry.net
SUMMARY:Jackson County HCE Spring Meeting
DESCRIPTION:Monday\, May 19  is our Jackson County HCE Spring meeting. \nNew Members Welcome – If you are interested in joining please reach out to Rita at 715-333-2222
URL:https://www.blackrivercountry.net/event/jackson-county-hce-spring-meeting/
ATTACH;FMTTYPE=image/png:https://www.blackrivercountry.net/wp-content/uploads/HCE-1.png
END:VEVENT
BEGIN:VEVENT
DTSTART;TZID=America/Chicago:20250518T130000
DTEND;TZID=America/Chicago:20250518T150000
DTSTAMP:20260421T170929
CREATED:20250430T161511Z
LAST-MODIFIED:20250430T161511Z
UID:10007608-1747573200-1747580400@www.blackrivercountry.net
SUMMARY:Millston Area Museum- OPEN TODAY
DESCRIPTION:The  museum will be open Sunday\, May 18\, from 1 to 3 p.m.; Wednesday\, May 21\, from 4 to 8 p.m.; Sunday\, May 25\, from 11 a.m. to 1 p.m.\, and Wednesday\, May 28\, from 4 to 8 p.m. \nTours are also available by appointment. \nhttps://millstonareamuseum.com/
URL:https://www.blackrivercountry.net/event/millston-area-museum-open-today/2025-05-18/
ATTACH;FMTTYPE=image/png:https://www.blackrivercountry.net/wp-content/uploads/Screenshot-2025-04-30-111258.png
END:VEVENT
BEGIN:VEVENT
DTSTART;TZID=America/Chicago:20250518T100000
DTEND;TZID=America/Chicago:20250518T170000
DTSTAMP:20260421T170929
CREATED:20250313T165355Z
LAST-MODIFIED:20250313T165355Z
UID:10007237-1747562400-1747587600@www.blackrivercountry.net
SUMMARY:Beginners Psychic MediumShip Development @ Rainbow Rock Reiki Wellness Center
DESCRIPTION:More than just a workshop – here you will learn the history of mediumship\, energy\, the senses & which is your strength\, and how to develop them with exercises taught & practiced in the workshop. By the end of the day\, you will be doing mini-readings.\nThis and so\, so\, so much more.\nBring drinks & snacks\, there will be a half-hour lunch break. Cost: $100 paid by May 1st on venmo @DeEtte-Ranae or paypal mysticforrestnymph@hotmail.com. If these payment methods are not available to you\, reach out to Beth or Dawn to make arrangements.\n**DeEtte is an internationally known psychic medium! She teaches with fun and enthusiasm! You will leave amazed at the skills you possess! Beth and Dawn have both gone through all levels of DeEtte’s classes and became certified psychic mediums through her program. If you have questions\, you can ask us!\nTo sign up message Young Intentions or Holistic Works or text 608-769-0858 or 715-457-5045.\nMust have minimum of 6 participants.
URL:https://www.blackrivercountry.net/event/beginners-psychic-mediumship-development-rainbow-rock-reiki-wellness-center/
END:VEVENT
BEGIN:VEVENT
DTSTART;TZID=America/Chicago:20250517T080000
DTEND;TZID=America/Chicago:20250517T120000
DTSTAMP:20260421T170929
CREATED:20250326T195054Z
LAST-MODIFIED:20250326T195054Z
UID:10007265-1747468800-1747483200@www.blackrivercountry.net
SUMMARY:Tire Round-Up
DESCRIPTION:Tire Round-Up \nMay 17th\, 2025 from 8:00 a.m. to 12:00 p.m. \nN5661 State Hwy 54\, Black River Falls (Jackson County Hwy 54 Shop)\n\nJackson County Recycling subsidizes the cost of this round up\, so only residents or landowners in Jackson County may bring tires to these round-ups for disposal.  Various sizes of tires are accepted but all tires MUST be off the rim.  No tires on rims will be accepted.   Pricing subject to change based on disposal costs.  Current cost per Passenger/Light Truck tires 18″ or smaller in size is $5.00.  Cost per tire for Commercial/Heavy Duty Truck\, Implement (skid steer\, forklift\, etc.)\, Semi-Trailer or Truck tires greater than 19.5 inches in size is $20.00.  Tractor and any other tires over 20.5 x 46 are $75.00 each.\n\nTownships that collect tires from residents throughout the year may contact the Recycling Department to setup a time/date for tire drop-off.\n\nTires collected during the round up will be shredded and utilized as fuel in environmentally safe boilers or used as filler in road construction materials.  Improperly discarding or disposal of tires are a breeding ground for mosquitoes and are a health or fire hazard.
URL:https://www.blackrivercountry.net/event/tire-round-up/
END:VEVENT
BEGIN:VEVENT
DTSTART;TZID=America/Chicago:20250517T080000
DTEND;TZID=America/Chicago:20250517T110000
DTSTAMP:20260421T170929
CREATED:20241202T164114Z
LAST-MODIFIED:20250227T155035Z
UID:10005326-1747468800-1747479600@www.blackrivercountry.net
SUMMARY:Pace & Pedal
DESCRIPTION:The 2025 Pace & Pedal will be held May\, 17\, 2025. This annual event includes a duathlon (4.6 mile trail run and 10.3 mile on-road bike)\, 5k color fun run/walk\, and 1 mile youth color run. Visit our website for more details!\n\nhttps://www.jacksoninaction.org/pace-and-pedal
URL:https://www.blackrivercountry.net/event/pace-pedal/
END:VEVENT
BEGIN:VEVENT
DTSTART;TZID=America/Chicago:20250516T213000
DTEND;TZID=America/Chicago:20250517T023000
DTSTAMP:20260421T170929
CREATED:20250401T152018Z
LAST-MODIFIED:20250401T152018Z
UID:10007483-1747431000-1747449000@www.blackrivercountry.net
SUMMARY:Karaoke at Sunset Tavern 9:30pm - Close
DESCRIPTION:Karaoke at Sunset Tavern with your karaoke host Derek and bartenders Josie\, Shayla\, Alyssa and the crew!Cold beer\, awesome mixed drinks\, amazing atmosphere and karaoke with me your creatively dressed host.
URL:https://www.blackrivercountry.net/event/karaoke-at-sunset-tavern-930pm-close-2/2025-05-16/
ATTACH;FMTTYPE=image/png:https://www.blackrivercountry.net/wp-content/uploads/sunset-karaoje.PNG
END:VEVENT
BEGIN:VEVENT
DTSTART;TZID=America/Chicago:20250516T200000
DTEND;TZID=America/Chicago:20250516T233000
DTSTAMP:20260421T170929
CREATED:20250428T150749Z
LAST-MODIFIED:20250428T150808Z
UID:10007590-1747425600-1747438200@www.blackrivercountry.net
SUMMARY:Karaoke Night @ Orange Moose Bar
DESCRIPTION:
URL:https://www.blackrivercountry.net/event/karaoke-night-orange-moose-bar/
END:VEVENT
BEGIN:VEVENT
DTSTART;TZID=America/Chicago:20250516T120000
DTEND;TZID=America/Chicago:20250516T160000
DTSTAMP:20260421T170929
CREATED:20250414T144512Z
LAST-MODIFIED:20250414T184305Z
UID:10007554-1747396800-1747411200@www.blackrivercountry.net
SUMMARY:Making Tough Choices - Poverty Simulation
DESCRIPTION:We will be hosting a poverty simulation open to the community on May 16 at D1CC. If you (or your organization/group) are interested in participating in this impactful experience\, RSVP to Vicki Michalski or send us a message! Please note: participants must be present for the full 3 hour simulation and must RSVP to reserve a spot. \n  \nhttps://www.facebook.com/events/s/making-tough-choices-poverty-s/642442825229594/?mibextid=9VsGKo&rdid=mPBq4GAAfqitduh2&share_url=https%3A%2F%2Fwww.facebook.com%2Fshare%2F1EqezUicLy%2F%3Fmibextid%3D9VsGKo#
URL:https://www.blackrivercountry.net/event/making-rough-choices-poverty-simulation/
END:VEVENT
BEGIN:VEVENT
DTSTART;TZID=America/Chicago:20250515T180000
DTEND;TZID=America/Chicago:20250515T190000
DTSTAMP:20260421T170929
CREATED:20250310T152032Z
LAST-MODIFIED:20250310T152032Z
UID:10007221-1747332000-1747335600@www.blackrivercountry.net
SUMMARY:QuickBooks Online
DESCRIPTION:QuickBooks Online \nThursday\, May 15 | 6 – 7 PM \nLocation: Online \nCost: Free \nREGISTER HERE \n  \n 
URL:https://www.blackrivercountry.net/event/quickbooks-online/
ATTACH;FMTTYPE=image/png:https://www.blackrivercountry.net/wp-content/uploads/unnamed-6-4.png
END:VEVENT
BEGIN:VEVENT
DTSTART;TZID=America/Chicago:20250515T120000
DTEND;TZID=America/Chicago:20250515T130000
DTSTAMP:20260421T170929
CREATED:20250430T152326Z
LAST-MODIFIED:20250521T151132Z
UID:10007605-1747310400-1747314000@www.blackrivercountry.net
SUMMARY:Mental Health Awareness
DESCRIPTION:https://lcc.recdesk.com/Community/Program/Detail?programId=16877
URL:https://www.blackrivercountry.net/event/mental-health-awareness/2025-05-15/
END:VEVENT
BEGIN:VEVENT
DTSTART;TZID=America/Chicago:20250514T183000
DTEND;TZID=America/Chicago:20250514T203000
DTSTAMP:20260421T170929
CREATED:20250502T150214Z
LAST-MODIFIED:20250502T150214Z
UID:10007621-1747247400-1747254600@www.blackrivercountry.net
SUMMARY:Rock Art in the Driftless Region
DESCRIPTION:
URL:https://www.blackrivercountry.net/event/rock-art-in-the-driftless-region/
END:VEVENT
BEGIN:VEVENT
DTSTART;TZID=America/Chicago:20250514T170000
DTEND;TZID=America/Chicago:20250514T190000
DTSTAMP:20260421T170929
CREATED:20250508T153252Z
LAST-MODIFIED:20250508T153252Z
UID:10007630-1747242000-1747249200@www.blackrivercountry.net
SUMMARY:May Business After 5 at Waumandee State Bank!
DESCRIPTION:
URL:https://www.blackrivercountry.net/event/may-business-after-5-at-waumandee-state-bank/
LOCATION:Waumandee State Bank\, 203 Main Street\, Black River Falls\, WI\, 54615\, United States
GEO:44.2951946;-90.850022
X-APPLE-STRUCTURED-LOCATION;VALUE=URI;X-ADDRESS=Waumandee State Bank 203 Main Street Black River Falls WI 54615 United States;X-APPLE-RADIUS=500;X-TITLE=203 Main Street:geo:-90.850022,44.2951946
END:VEVENT
BEGIN:VEVENT
DTSTART;TZID=America/Chicago:20250514T163000
DTEND;TZID=America/Chicago:20250514T193000
DTSTAMP:20260421T170929
CREATED:20250203T173047Z
LAST-MODIFIED:20250430T184539Z
UID:10007117-1747240200-1747251000@www.blackrivercountry.net
SUMMARY:3rd Annual Wellness Extravaganza
DESCRIPTION:
URL:https://www.blackrivercountry.net/event/save-the-date-3rd-annual-wellness-extravaganza/
END:VEVENT
END:VCALENDAR