BEGIN:VCALENDAR
VERSION:2.0
PRODID:-//Black River Area Chamber of Commerce - ECPv6.15.20//NONSGML v1.0//EN
CALSCALE:GREGORIAN
METHOD:PUBLISH
X-WR-CALNAME:Black River Area Chamber of Commerce
X-ORIGINAL-URL:https://www.blackrivercountry.net
X-WR-CALDESC:Events for Black River Area Chamber of Commerce
REFRESH-INTERVAL;VALUE=DURATION:PT1H
X-Robots-Tag:noindex
X-PUBLISHED-TTL:PT1H
BEGIN:VTIMEZONE
TZID:America/Chicago
BEGIN:DAYLIGHT
TZOFFSETFROM:-0600
TZOFFSETTO:-0500
TZNAME:CDT
DTSTART:20250309T080000
END:DAYLIGHT
BEGIN:STANDARD
TZOFFSETFROM:-0500
TZOFFSETTO:-0600
TZNAME:CST
DTSTART:20251102T070000
END:STANDARD
BEGIN:DAYLIGHT
TZOFFSETFROM:-0600
TZOFFSETTO:-0500
TZNAME:CDT
DTSTART:20260308T080000
END:DAYLIGHT
BEGIN:STANDARD
TZOFFSETFROM:-0500
TZOFFSETTO:-0600
TZNAME:CST
DTSTART:20261101T070000
END:STANDARD
BEGIN:DAYLIGHT
TZOFFSETFROM:-0600
TZOFFSETTO:-0500
TZNAME:CDT
DTSTART:20270314T080000
END:DAYLIGHT
BEGIN:STANDARD
TZOFFSETFROM:-0500
TZOFFSETTO:-0600
TZNAME:CST
DTSTART:20271107T070000
END:STANDARD
END:VTIMEZONE
BEGIN:VEVENT
DTSTART;VALUE=DATE:20260413
DTEND;VALUE=DATE:20260616
DTSTAMP:20260422T071854
CREATED:20260413T202728Z
LAST-MODIFIED:20260413T202728Z
UID:10010581-1776049200-1781492399@www.blackrivercountry.net
SUMMARY:Sign up now - Boys & Girls Club Summer Camp
DESCRIPTION:
URL:https://www.blackrivercountry.net/event/sign-up-now-boys-girls-club-summer-camp/
LOCATION:Lunda Community Center\, 405 WI-54 Trunk\, Black River Falls\, WI\, 54615\, United States
ATTACH;FMTTYPE=image/jpeg:https://www.blackrivercountry.net/wp-content/uploads/672680373_122131567425046611_5845073317891966813_n.jpg
GEO:44.2909017;-90.8632686
X-APPLE-STRUCTURED-LOCATION;VALUE=URI;X-ADDRESS=Lunda Community Center 405 WI-54 Trunk Black River Falls WI 54615 United States;X-APPLE-RADIUS=500;X-TITLE=405 WI-54 Trunk:geo:-90.8632686,44.2909017
END:VEVENT
BEGIN:VEVENT
DTSTART;TZID=America/Chicago:20260422T093000
DTEND;TZID=America/Chicago:20260422T120000
DTSTAMP:20260422T071854
CREATED:20260323T191922Z
LAST-MODIFIED:20260418T132605Z
UID:10010306-1776850200-1776859200@www.blackrivercountry.net
SUMMARY:Watercolor and Sketching Class and Event @ Lunda Community Center
DESCRIPTION:
URL:https://www.blackrivercountry.net/event/watercolor-and-sketching-class-and-event-lunda-community-center/
LOCATION:Lunda Community Center\, 405 WI-54 Trunk\, Black River Falls\, WI\, 54615\, United States
ATTACH;FMTTYPE=image/jpeg:https://www.blackrivercountry.net/wp-content/uploads/657142551_1417905313466740_6829683297522986646_n.jpg
GEO:44.2909017;-90.8632686
X-APPLE-STRUCTURED-LOCATION;VALUE=URI;X-ADDRESS=Lunda Community Center 405 WI-54 Trunk Black River Falls WI 54615 United States;X-APPLE-RADIUS=500;X-TITLE=405 WI-54 Trunk:geo:-90.8632686,44.2909017
END:VEVENT
BEGIN:VEVENT
DTSTART;TZID=America/Chicago:20260422T150000
DTEND;TZID=America/Chicago:20260422T173000
DTSTAMP:20260422T071854
CREATED:20260414T212310Z
LAST-MODIFIED:20260414T212312Z
UID:10010027-1776870000-1776879000@www.blackrivercountry.net
SUMMARY:Games After School @ Lunda Community Center
DESCRIPTION:
URL:https://www.blackrivercountry.net/event/games-after-school-lunda-community-center-2/2026-04-22/
LOCATION:Lunda Community Center\, 405 WI-54 Trunk\, Black River Falls\, WI\, 54615\, United States
ATTACH;FMTTYPE=image/jpeg:https://www.blackrivercountry.net/wp-content/uploads/641463348_1396069665650305_4539250192707957092_n.jpg
GEO:44.2909017;-90.8632686
X-APPLE-STRUCTURED-LOCATION;VALUE=URI;X-ADDRESS=Lunda Community Center 405 WI-54 Trunk Black River Falls WI 54615 United States;X-APPLE-RADIUS=500;X-TITLE=405 WI-54 Trunk:geo:-90.8632686,44.2909017
END:VEVENT
BEGIN:VEVENT
DTSTART;TZID=America/Chicago:20260422T173000
DTEND;TZID=America/Chicago:20260422T193000
DTSTAMP:20260422T071854
CREATED:20241227T162211Z
LAST-MODIFIED:20260414T212427Z
UID:10008156-1776879000-1776886200@www.blackrivercountry.net
SUMMARY:Game Night @Lunda Community Center
DESCRIPTION:
URL:https://www.blackrivercountry.net/event/game-night-all-day-lunda-community-center/2026-04-22/
LOCATION:Lunda Community Center\, 405 WI-54 Trunk\, Black River Falls\, WI\, 54615\, United States
ATTACH;FMTTYPE=image/jpeg:https://www.blackrivercountry.net/wp-content/uploads/669355474_1431586712098600_7873493393374273283_n.jpg
GEO:44.2909017;-90.8632686
X-APPLE-STRUCTURED-LOCATION;VALUE=URI;X-ADDRESS=Lunda Community Center 405 WI-54 Trunk Black River Falls WI 54615 United States;X-APPLE-RADIUS=500;X-TITLE=405 WI-54 Trunk:geo:-90.8632686,44.2909017
END:VEVENT
BEGIN:VEVENT
DTSTART;TZID=America/Chicago:20260424T083000
DTEND;TZID=America/Chicago:20260424T093000
DTSTAMP:20260422T071854
CREATED:20260410T202657Z
LAST-MODIFIED:20260414T213618Z
UID:10010518-1777019400-1777023000@www.blackrivercountry.net
SUMMARY:Vinyasa Power Yoga
DESCRIPTION:
URL:https://www.blackrivercountry.net/event/vinyasa-power-yoga/2026-04-24/
LOCATION:Lunda Community Center\, 405 WI-54 Trunk\, Black River Falls\, WI\, 54615\, United States
ATTACH;FMTTYPE=image/png:https://www.blackrivercountry.net/wp-content/uploads/Vinyasa-Power-Yoga.png
GEO:44.2909017;-90.8632686
X-APPLE-STRUCTURED-LOCATION;VALUE=URI;X-ADDRESS=Lunda Community Center 405 WI-54 Trunk Black River Falls WI 54615 United States;X-APPLE-RADIUS=500;X-TITLE=405 WI-54 Trunk:geo:-90.8632686,44.2909017
END:VEVENT
BEGIN:VEVENT
DTSTART;TZID=America/Chicago:20260425T100000
DTEND;TZID=America/Chicago:20260425T110000
DTSTAMP:20260422T071854
CREATED:20260319T180537Z
LAST-MODIFIED:20260418T132545Z
UID:10010292-1777111200-1777114800@www.blackrivercountry.net
SUMMARY:5 Week Beginner Yoga Series @ Lunda Community Center
DESCRIPTION:
URL:https://www.blackrivercountry.net/event/5-week-beginner-yoga-series-lunda-community-center/2026-04-25/
LOCATION:Lunda Community Center\, 405 WI-54 Trunk\, Black River Falls\, WI\, 54615\, United States
ATTACH;FMTTYPE=image/jpeg:https://www.blackrivercountry.net/wp-content/uploads/Beginner-Yoga-April-2026.jpg
GEO:44.2909017;-90.8632686
X-APPLE-STRUCTURED-LOCATION;VALUE=URI;X-ADDRESS=Lunda Community Center 405 WI-54 Trunk Black River Falls WI 54615 United States;X-APPLE-RADIUS=500;X-TITLE=405 WI-54 Trunk:geo:-90.8632686,44.2909017
END:VEVENT
BEGIN:VEVENT
DTSTART;TZID=America/Chicago:20260427T170000
DTEND;TZID=America/Chicago:20260427T173000
DTSTAMP:20260422T071854
CREATED:20260326T150817Z
LAST-MODIFIED:20260418T132644Z
UID:10010387-1777309200-1777311000@www.blackrivercountry.net
SUMMARY:Adult Swimming with Victoria @ Lunda Community Center.
DESCRIPTION:
URL:https://www.blackrivercountry.net/event/adult-swimming-with-victoria-lunda-community-center/2026-04-27/
LOCATION:Lunda Community Center\, 405 WI-54 Trunk\, Black River Falls\, WI\, 54615\, United States
ATTACH;FMTTYPE=image/jpeg:https://www.blackrivercountry.net/wp-content/uploads/656427866_1418104643446807_2314081011575444778_n.jpg
GEO:44.2909017;-90.8632686
X-APPLE-STRUCTURED-LOCATION;VALUE=URI;X-ADDRESS=Lunda Community Center 405 WI-54 Trunk Black River Falls WI 54615 United States;X-APPLE-RADIUS=500;X-TITLE=405 WI-54 Trunk:geo:-90.8632686,44.2909017
END:VEVENT
BEGIN:VEVENT
DTSTART;TZID=America/Chicago:20260429T150000
DTEND;TZID=America/Chicago:20260429T173000
DTSTAMP:20260422T071854
CREATED:20260414T212310Z
LAST-MODIFIED:20260414T212312Z
UID:10010028-1777474800-1777483800@www.blackrivercountry.net
SUMMARY:Games After School @ Lunda Community Center
DESCRIPTION:
URL:https://www.blackrivercountry.net/event/games-after-school-lunda-community-center-2/2026-04-29/
LOCATION:Lunda Community Center\, 405 WI-54 Trunk\, Black River Falls\, WI\, 54615\, United States
ATTACH;FMTTYPE=image/jpeg:https://www.blackrivercountry.net/wp-content/uploads/641463348_1396069665650305_4539250192707957092_n.jpg
GEO:44.2909017;-90.8632686
X-APPLE-STRUCTURED-LOCATION;VALUE=URI;X-ADDRESS=Lunda Community Center 405 WI-54 Trunk Black River Falls WI 54615 United States;X-APPLE-RADIUS=500;X-TITLE=405 WI-54 Trunk:geo:-90.8632686,44.2909017
END:VEVENT
BEGIN:VEVENT
DTSTART;TZID=America/Chicago:20260429T173000
DTEND;TZID=America/Chicago:20260429T193000
DTSTAMP:20260422T071854
CREATED:20241227T162211Z
LAST-MODIFIED:20260414T212427Z
UID:10008157-1777483800-1777491000@www.blackrivercountry.net
SUMMARY:Game Night @Lunda Community Center
DESCRIPTION:
URL:https://www.blackrivercountry.net/event/game-night-all-day-lunda-community-center/2026-04-29/
LOCATION:Lunda Community Center\, 405 WI-54 Trunk\, Black River Falls\, WI\, 54615\, United States
ATTACH;FMTTYPE=image/jpeg:https://www.blackrivercountry.net/wp-content/uploads/669355474_1431586712098600_7873493393374273283_n.jpg
GEO:44.2909017;-90.8632686
X-APPLE-STRUCTURED-LOCATION;VALUE=URI;X-ADDRESS=Lunda Community Center 405 WI-54 Trunk Black River Falls WI 54615 United States;X-APPLE-RADIUS=500;X-TITLE=405 WI-54 Trunk:geo:-90.8632686,44.2909017
END:VEVENT
BEGIN:VEVENT
DTSTART;TZID=America/Chicago:20260501T083000
DTEND;TZID=America/Chicago:20260501T093000
DTSTAMP:20260422T071854
CREATED:20260410T202657Z
LAST-MODIFIED:20260414T213618Z
UID:10010519-1777624200-1777627800@www.blackrivercountry.net
SUMMARY:Vinyasa Power Yoga
DESCRIPTION:
URL:https://www.blackrivercountry.net/event/vinyasa-power-yoga/2026-05-01/
LOCATION:Lunda Community Center\, 405 WI-54 Trunk\, Black River Falls\, WI\, 54615\, United States
ATTACH;FMTTYPE=image/png:https://www.blackrivercountry.net/wp-content/uploads/Vinyasa-Power-Yoga.png
GEO:44.2909017;-90.8632686
X-APPLE-STRUCTURED-LOCATION;VALUE=URI;X-ADDRESS=Lunda Community Center 405 WI-54 Trunk Black River Falls WI 54615 United States;X-APPLE-RADIUS=500;X-TITLE=405 WI-54 Trunk:geo:-90.8632686,44.2909017
END:VEVENT
BEGIN:VEVENT
DTSTART;TZID=America/Chicago:20260504T090000
DTEND;TZID=America/Chicago:20260504T160000
DTSTAMP:20260422T071854
CREATED:20260319T153052Z
LAST-MODIFIED:20260418T132709Z
UID:10010289-1777885200-1777910400@www.blackrivercountry.net
SUMMARY:Roman's Wrap Event @ Lunda Community Center
DESCRIPTION:
URL:https://www.blackrivercountry.net/event/romans-wrap-event-lunda-community-center/
LOCATION:Lunda Community Center\, 405 WI-54 Trunk\, Black River Falls\, WI\, 54615\, United States
ATTACH;FMTTYPE=image/jpeg:https://www.blackrivercountry.net/wp-content/uploads/652895763_1412038647386740_4950168057615849726_n.jpg
GEO:44.2909017;-90.8632686
X-APPLE-STRUCTURED-LOCATION;VALUE=URI;X-ADDRESS=Lunda Community Center 405 WI-54 Trunk Black River Falls WI 54615 United States;X-APPLE-RADIUS=500;X-TITLE=405 WI-54 Trunk:geo:-90.8632686,44.2909017
END:VEVENT
BEGIN:VEVENT
DTSTART;TZID=America/Chicago:20260506T150000
DTEND;TZID=America/Chicago:20260506T173000
DTSTAMP:20260422T071854
CREATED:20260414T212310Z
LAST-MODIFIED:20260414T212312Z
UID:10010029-1778079600-1778088600@www.blackrivercountry.net
SUMMARY:Games After School @ Lunda Community Center
DESCRIPTION:
URL:https://www.blackrivercountry.net/event/games-after-school-lunda-community-center-2/2026-05-06/
LOCATION:Lunda Community Center\, 405 WI-54 Trunk\, Black River Falls\, WI\, 54615\, United States
ATTACH;FMTTYPE=image/jpeg:https://www.blackrivercountry.net/wp-content/uploads/641463348_1396069665650305_4539250192707957092_n.jpg
GEO:44.2909017;-90.8632686
X-APPLE-STRUCTURED-LOCATION;VALUE=URI;X-ADDRESS=Lunda Community Center 405 WI-54 Trunk Black River Falls WI 54615 United States;X-APPLE-RADIUS=500;X-TITLE=405 WI-54 Trunk:geo:-90.8632686,44.2909017
END:VEVENT
BEGIN:VEVENT
DTSTART;TZID=America/Chicago:20260506T173000
DTEND;TZID=America/Chicago:20260506T193000
DTSTAMP:20260422T071854
CREATED:20241227T162211Z
LAST-MODIFIED:20260414T212427Z
UID:10008158-1778088600-1778095800@www.blackrivercountry.net
SUMMARY:Game Night @Lunda Community Center
DESCRIPTION:
URL:https://www.blackrivercountry.net/event/game-night-all-day-lunda-community-center/2026-05-06/
LOCATION:Lunda Community Center\, 405 WI-54 Trunk\, Black River Falls\, WI\, 54615\, United States
ATTACH;FMTTYPE=image/jpeg:https://www.blackrivercountry.net/wp-content/uploads/669355474_1431586712098600_7873493393374273283_n.jpg
GEO:44.2909017;-90.8632686
X-APPLE-STRUCTURED-LOCATION;VALUE=URI;X-ADDRESS=Lunda Community Center 405 WI-54 Trunk Black River Falls WI 54615 United States;X-APPLE-RADIUS=500;X-TITLE=405 WI-54 Trunk:geo:-90.8632686,44.2909017
END:VEVENT
BEGIN:VEVENT
DTSTART;TZID=America/Chicago:20260508T083000
DTEND;TZID=America/Chicago:20260508T093000
DTSTAMP:20260422T071854
CREATED:20260410T202657Z
LAST-MODIFIED:20260414T213618Z
UID:10010520-1778229000-1778232600@www.blackrivercountry.net
SUMMARY:Vinyasa Power Yoga
DESCRIPTION:
URL:https://www.blackrivercountry.net/event/vinyasa-power-yoga/2026-05-08/
LOCATION:Lunda Community Center\, 405 WI-54 Trunk\, Black River Falls\, WI\, 54615\, United States
ATTACH;FMTTYPE=image/png:https://www.blackrivercountry.net/wp-content/uploads/Vinyasa-Power-Yoga.png
GEO:44.2909017;-90.8632686
X-APPLE-STRUCTURED-LOCATION;VALUE=URI;X-ADDRESS=Lunda Community Center 405 WI-54 Trunk Black River Falls WI 54615 United States;X-APPLE-RADIUS=500;X-TITLE=405 WI-54 Trunk:geo:-90.8632686,44.2909017
END:VEVENT
BEGIN:VEVENT
DTSTART;TZID=America/Chicago:20260509T100000
DTEND;TZID=America/Chicago:20260509T110000
DTSTAMP:20260422T071854
CREATED:20260319T180537Z
LAST-MODIFIED:20260418T132545Z
UID:10010293-1778320800-1778324400@www.blackrivercountry.net
SUMMARY:5 Week Beginner Yoga Series @ Lunda Community Center
DESCRIPTION:
URL:https://www.blackrivercountry.net/event/5-week-beginner-yoga-series-lunda-community-center/2026-05-09/
LOCATION:Lunda Community Center\, 405 WI-54 Trunk\, Black River Falls\, WI\, 54615\, United States
ATTACH;FMTTYPE=image/jpeg:https://www.blackrivercountry.net/wp-content/uploads/Beginner-Yoga-April-2026.jpg
GEO:44.2909017;-90.8632686
X-APPLE-STRUCTURED-LOCATION;VALUE=URI;X-ADDRESS=Lunda Community Center 405 WI-54 Trunk Black River Falls WI 54615 United States;X-APPLE-RADIUS=500;X-TITLE=405 WI-54 Trunk:geo:-90.8632686,44.2909017
END:VEVENT
BEGIN:VEVENT
DTSTART;TZID=America/Chicago:20260512T113000
DTEND;TZID=America/Chicago:20260512T133000
DTSTAMP:20260422T071854
CREATED:20260310T174715Z
LAST-MODIFIED:20260418T132728Z
UID:10010218-1778585400-1778592600@www.blackrivercountry.net
SUMMARY:Delicious Italian Desserts @ Lunda Community Center
DESCRIPTION:
URL:https://www.blackrivercountry.net/event/delicious-italian-desserts-lunda-community-center-2/
LOCATION:Lunda Community Center\, 405 WI-54 Trunk\, Black River Falls\, WI\, 54615\, United States
ATTACH;FMTTYPE=image/jpeg:https://www.blackrivercountry.net/wp-content/uploads/648737660_1406443697946235_2271277732002470794_n.jpg
GEO:44.2909017;-90.8632686
X-APPLE-STRUCTURED-LOCATION;VALUE=URI;X-ADDRESS=Lunda Community Center 405 WI-54 Trunk Black River Falls WI 54615 United States;X-APPLE-RADIUS=500;X-TITLE=405 WI-54 Trunk:geo:-90.8632686,44.2909017
END:VEVENT
BEGIN:VEVENT
DTSTART;TZID=America/Chicago:20260513T130000
DTEND;TZID=America/Chicago:20260513T140000
DTSTAMP:20260422T071854
CREATED:20260310T193155Z
LAST-MODIFIED:20260418T132747Z
UID:10010233-1778677200-1778680800@www.blackrivercountry.net
SUMMARY:Hub Guest Speaker Dave Olson @ Lunda Community Center
DESCRIPTION:
URL:https://www.blackrivercountry.net/event/hub-guest-speaker-dave-olson-lunda-community-center/
LOCATION:Lunda Community Center\, 405 WI-54 Trunk\, Black River Falls\, WI\, 54615\, United States
ATTACH;FMTTYPE=image/png:https://www.blackrivercountry.net/wp-content/uploads/WEDNESDAY-MAY-13-1PM.png
GEO:44.2909017;-90.8632686
X-APPLE-STRUCTURED-LOCATION;VALUE=URI;X-ADDRESS=Lunda Community Center 405 WI-54 Trunk Black River Falls WI 54615 United States;X-APPLE-RADIUS=500;X-TITLE=405 WI-54 Trunk:geo:-90.8632686,44.2909017
END:VEVENT
BEGIN:VEVENT
DTSTART;TZID=America/Chicago:20260513T150000
DTEND;TZID=America/Chicago:20260513T173000
DTSTAMP:20260422T071854
CREATED:20260414T212310Z
LAST-MODIFIED:20260414T212312Z
UID:10010030-1778684400-1778693400@www.blackrivercountry.net
SUMMARY:Games After School @ Lunda Community Center
DESCRIPTION:
URL:https://www.blackrivercountry.net/event/games-after-school-lunda-community-center-2/2026-05-13/
LOCATION:Lunda Community Center\, 405 WI-54 Trunk\, Black River Falls\, WI\, 54615\, United States
ATTACH;FMTTYPE=image/jpeg:https://www.blackrivercountry.net/wp-content/uploads/641463348_1396069665650305_4539250192707957092_n.jpg
GEO:44.2909017;-90.8632686
X-APPLE-STRUCTURED-LOCATION;VALUE=URI;X-ADDRESS=Lunda Community Center 405 WI-54 Trunk Black River Falls WI 54615 United States;X-APPLE-RADIUS=500;X-TITLE=405 WI-54 Trunk:geo:-90.8632686,44.2909017
END:VEVENT
BEGIN:VEVENT
DTSTART;TZID=America/Chicago:20260513T173000
DTEND;TZID=America/Chicago:20260513T193000
DTSTAMP:20260422T071854
CREATED:20241227T162211Z
LAST-MODIFIED:20260414T212427Z
UID:10008159-1778693400-1778700600@www.blackrivercountry.net
SUMMARY:Game Night @Lunda Community Center
DESCRIPTION:
URL:https://www.blackrivercountry.net/event/game-night-all-day-lunda-community-center/2026-05-13/
LOCATION:Lunda Community Center\, 405 WI-54 Trunk\, Black River Falls\, WI\, 54615\, United States
ATTACH;FMTTYPE=image/jpeg:https://www.blackrivercountry.net/wp-content/uploads/669355474_1431586712098600_7873493393374273283_n.jpg
GEO:44.2909017;-90.8632686
X-APPLE-STRUCTURED-LOCATION;VALUE=URI;X-ADDRESS=Lunda Community Center 405 WI-54 Trunk Black River Falls WI 54615 United States;X-APPLE-RADIUS=500;X-TITLE=405 WI-54 Trunk:geo:-90.8632686,44.2909017
END:VEVENT
BEGIN:VEVENT
DTSTART;TZID=America/Chicago:20260515T083000
DTEND;TZID=America/Chicago:20260515T093000
DTSTAMP:20260422T071854
CREATED:20260410T202657Z
LAST-MODIFIED:20260414T213618Z
UID:10010521-1778833800-1778837400@www.blackrivercountry.net
SUMMARY:Vinyasa Power Yoga
DESCRIPTION:
URL:https://www.blackrivercountry.net/event/vinyasa-power-yoga/2026-05-15/
LOCATION:Lunda Community Center\, 405 WI-54 Trunk\, Black River Falls\, WI\, 54615\, United States
ATTACH;FMTTYPE=image/png:https://www.blackrivercountry.net/wp-content/uploads/Vinyasa-Power-Yoga.png
GEO:44.2909017;-90.8632686
X-APPLE-STRUCTURED-LOCATION;VALUE=URI;X-ADDRESS=Lunda Community Center 405 WI-54 Trunk Black River Falls WI 54615 United States;X-APPLE-RADIUS=500;X-TITLE=405 WI-54 Trunk:geo:-90.8632686,44.2909017
END:VEVENT
BEGIN:VEVENT
DTSTART;TZID=America/Chicago:20260516T100000
DTEND;TZID=America/Chicago:20260516T110000
DTSTAMP:20260422T071854
CREATED:20260319T180537Z
LAST-MODIFIED:20260418T132545Z
UID:10010294-1778925600-1778929200@www.blackrivercountry.net
SUMMARY:5 Week Beginner Yoga Series @ Lunda Community Center
DESCRIPTION:
URL:https://www.blackrivercountry.net/event/5-week-beginner-yoga-series-lunda-community-center/2026-05-16/
LOCATION:Lunda Community Center\, 405 WI-54 Trunk\, Black River Falls\, WI\, 54615\, United States
ATTACH;FMTTYPE=image/jpeg:https://www.blackrivercountry.net/wp-content/uploads/Beginner-Yoga-April-2026.jpg
GEO:44.2909017;-90.8632686
X-APPLE-STRUCTURED-LOCATION;VALUE=URI;X-ADDRESS=Lunda Community Center 405 WI-54 Trunk Black River Falls WI 54615 United States;X-APPLE-RADIUS=500;X-TITLE=405 WI-54 Trunk:geo:-90.8632686,44.2909017
END:VEVENT
BEGIN:VEVENT
DTSTART;TZID=America/Chicago:20260519T173000
DTEND;TZID=America/Chicago:20260519T183000
DTSTAMP:20260422T071854
CREATED:20260313T154243Z
LAST-MODIFIED:20260418T132834Z
UID:10010280-1779211800-1779215400@www.blackrivercountry.net
SUMMARY:Mommy Meet Up @ Lunda Center Hub
DESCRIPTION:
URL:https://www.blackrivercountry.net/event/mommy-meet-up-lunda-center-hub-2/
LOCATION:Lunda Community Center\, 405 WI-54 Trunk\, Black River Falls\, WI\, 54615\, United States
ATTACH;FMTTYPE=image/png:https://www.blackrivercountry.net/wp-content/uploads/Diverse-Mothers-on-Sage-Green-Rug-1.png
GEO:44.2909017;-90.8632686
X-APPLE-STRUCTURED-LOCATION;VALUE=URI;X-ADDRESS=Lunda Community Center 405 WI-54 Trunk Black River Falls WI 54615 United States;X-APPLE-RADIUS=500;X-TITLE=405 WI-54 Trunk:geo:-90.8632686,44.2909017
END:VEVENT
BEGIN:VEVENT
DTSTART;TZID=America/Chicago:20260520T150000
DTEND;TZID=America/Chicago:20260520T173000
DTSTAMP:20260422T071854
CREATED:20260414T212310Z
LAST-MODIFIED:20260414T212312Z
UID:10010031-1779289200-1779298200@www.blackrivercountry.net
SUMMARY:Games After School @ Lunda Community Center
DESCRIPTION:
URL:https://www.blackrivercountry.net/event/games-after-school-lunda-community-center-2/2026-05-20/
LOCATION:Lunda Community Center\, 405 WI-54 Trunk\, Black River Falls\, WI\, 54615\, United States
ATTACH;FMTTYPE=image/jpeg:https://www.blackrivercountry.net/wp-content/uploads/641463348_1396069665650305_4539250192707957092_n.jpg
GEO:44.2909017;-90.8632686
X-APPLE-STRUCTURED-LOCATION;VALUE=URI;X-ADDRESS=Lunda Community Center 405 WI-54 Trunk Black River Falls WI 54615 United States;X-APPLE-RADIUS=500;X-TITLE=405 WI-54 Trunk:geo:-90.8632686,44.2909017
END:VEVENT
BEGIN:VEVENT
DTSTART;TZID=America/Chicago:20260520T173000
DTEND;TZID=America/Chicago:20260520T193000
DTSTAMP:20260422T071854
CREATED:20241227T162211Z
LAST-MODIFIED:20260414T212427Z
UID:10008160-1779298200-1779305400@www.blackrivercountry.net
SUMMARY:Game Night @Lunda Community Center
DESCRIPTION:
URL:https://www.blackrivercountry.net/event/game-night-all-day-lunda-community-center/2026-05-20/
LOCATION:Lunda Community Center\, 405 WI-54 Trunk\, Black River Falls\, WI\, 54615\, United States
ATTACH;FMTTYPE=image/jpeg:https://www.blackrivercountry.net/wp-content/uploads/669355474_1431586712098600_7873493393374273283_n.jpg
GEO:44.2909017;-90.8632686
X-APPLE-STRUCTURED-LOCATION;VALUE=URI;X-ADDRESS=Lunda Community Center 405 WI-54 Trunk Black River Falls WI 54615 United States;X-APPLE-RADIUS=500;X-TITLE=405 WI-54 Trunk:geo:-90.8632686,44.2909017
END:VEVENT
BEGIN:VEVENT
DTSTART;TZID=America/Chicago:20260521T173000
DTEND;TZID=America/Chicago:20260521T190000
DTSTAMP:20260422T071854
CREATED:20260217T184702Z
LAST-MODIFIED:20260414T212814Z
UID:10009865-1779384600-1779390000@www.blackrivercountry.net
SUMMARY:Mindfulness For Moms @ Lunda Community Center
DESCRIPTION:Community in motherhood can be a sancuatry. Bethany has created this support group to uplift mothers in their journey of motherhood. Where the world can have so much noise\, and advice\, Bethany intentionally creates an enviroment to return to the mother within. To listen to the instincts and wisdom all caregivers carry. This is a place to feel a sense of community\, and refill your always giving cup. The evening takes place every third Thursday of the month. We begin with a topic of discussion\, breathing excersie\, then Bethany leads the group into a guided meditation with energy healing. We end support group with open discussion. Mindfulness for Moms will meet in Studio D at the Lunda Community Center.\n\nThere is child watch on site through the Lunda Center from 5-7pm for ages 18mo -8 year. ($3 non members & $2 members)\nDrop in $15Join all sessions $50
URL:https://www.blackrivercountry.net/event/mindfulness-for-moms-lunda-community-center/2026-05-21/
LOCATION:Lunda Community Center\, 405 WI-54 Trunk\, Black River Falls\, WI\, 54615\, United States
ATTACH;FMTTYPE=image/jpeg:https://www.blackrivercountry.net/wp-content/uploads/633516069_849758658111948_5979684875804977500_n.jpg
GEO:44.2909017;-90.8632686
X-APPLE-STRUCTURED-LOCATION;VALUE=URI;X-ADDRESS=Lunda Community Center 405 WI-54 Trunk Black River Falls WI 54615 United States;X-APPLE-RADIUS=500;X-TITLE=405 WI-54 Trunk:geo:-90.8632686,44.2909017
END:VEVENT
BEGIN:VEVENT
DTSTART;TZID=America/Chicago:20260522T083000
DTEND;TZID=America/Chicago:20260522T093000
DTSTAMP:20260422T071854
CREATED:20260410T202657Z
LAST-MODIFIED:20260414T213618Z
UID:10010522-1779438600-1779442200@www.blackrivercountry.net
SUMMARY:Vinyasa Power Yoga
DESCRIPTION:
URL:https://www.blackrivercountry.net/event/vinyasa-power-yoga/2026-05-22/
LOCATION:Lunda Community Center\, 405 WI-54 Trunk\, Black River Falls\, WI\, 54615\, United States
ATTACH;FMTTYPE=image/png:https://www.blackrivercountry.net/wp-content/uploads/Vinyasa-Power-Yoga.png
GEO:44.2909017;-90.8632686
X-APPLE-STRUCTURED-LOCATION;VALUE=URI;X-ADDRESS=Lunda Community Center 405 WI-54 Trunk Black River Falls WI 54615 United States;X-APPLE-RADIUS=500;X-TITLE=405 WI-54 Trunk:geo:-90.8632686,44.2909017
END:VEVENT
BEGIN:VEVENT
DTSTART;TZID=America/Chicago:20260523T100000
DTEND;TZID=America/Chicago:20260523T110000
DTSTAMP:20260422T071854
CREATED:20260302T165658Z
LAST-MODIFIED:20260418T132905Z
UID:10010092-1779530400-1779534000@www.blackrivercountry.net
SUMMARY:Blossom and Breathe Family Yoga @ Lunda Community Center
DESCRIPTION:Join Bethany for a family centered yoga practice where we move our bodies and cultivate mindfulness in a playful way. Great for the whole family\, especially little ones. \n\n\nRegister at the link below\, or at the front desk!\n\nhttps://lcc.recdesk.com/Community/Program/Detail…
URL:https://www.blackrivercountry.net/event/blossom-and-breath-family-yoga-lunda-community-center/2026-05-23/
LOCATION:Lunda Community Center\, 405 WI-54 Trunk\, Black River Falls\, WI\, 54615\, United States
ATTACH;FMTTYPE=image/jpeg:https://www.blackrivercountry.net/wp-content/uploads/641332408_1397800838810521_2597893624035659451_n.jpg
GEO:44.2909017;-90.8632686
X-APPLE-STRUCTURED-LOCATION;VALUE=URI;X-ADDRESS=Lunda Community Center 405 WI-54 Trunk Black River Falls WI 54615 United States;X-APPLE-RADIUS=500;X-TITLE=405 WI-54 Trunk:geo:-90.8632686,44.2909017
END:VEVENT
BEGIN:VEVENT
DTSTART;TZID=America/Chicago:20260527T150000
DTEND;TZID=America/Chicago:20260527T173000
DTSTAMP:20260422T071854
CREATED:20260414T212310Z
LAST-MODIFIED:20260414T212312Z
UID:10010032-1779894000-1779903000@www.blackrivercountry.net
SUMMARY:Games After School @ Lunda Community Center
DESCRIPTION:
URL:https://www.blackrivercountry.net/event/games-after-school-lunda-community-center-2/2026-05-27/
LOCATION:Lunda Community Center\, 405 WI-54 Trunk\, Black River Falls\, WI\, 54615\, United States
ATTACH;FMTTYPE=image/jpeg:https://www.blackrivercountry.net/wp-content/uploads/641463348_1396069665650305_4539250192707957092_n.jpg
GEO:44.2909017;-90.8632686
X-APPLE-STRUCTURED-LOCATION;VALUE=URI;X-ADDRESS=Lunda Community Center 405 WI-54 Trunk Black River Falls WI 54615 United States;X-APPLE-RADIUS=500;X-TITLE=405 WI-54 Trunk:geo:-90.8632686,44.2909017
END:VEVENT
BEGIN:VEVENT
DTSTART;TZID=America/Chicago:20260527T173000
DTEND;TZID=America/Chicago:20260527T193000
DTSTAMP:20260422T071854
CREATED:20241227T162211Z
LAST-MODIFIED:20260414T212427Z
UID:10008161-1779903000-1779910200@www.blackrivercountry.net
SUMMARY:Game Night @Lunda Community Center
DESCRIPTION:
URL:https://www.blackrivercountry.net/event/game-night-all-day-lunda-community-center/2026-05-27/
LOCATION:Lunda Community Center\, 405 WI-54 Trunk\, Black River Falls\, WI\, 54615\, United States
ATTACH;FMTTYPE=image/jpeg:https://www.blackrivercountry.net/wp-content/uploads/669355474_1431586712098600_7873493393374273283_n.jpg
GEO:44.2909017;-90.8632686
X-APPLE-STRUCTURED-LOCATION;VALUE=URI;X-ADDRESS=Lunda Community Center 405 WI-54 Trunk Black River Falls WI 54615 United States;X-APPLE-RADIUS=500;X-TITLE=405 WI-54 Trunk:geo:-90.8632686,44.2909017
END:VEVENT
BEGIN:VEVENT
DTSTART;TZID=America/Chicago:20260529T083000
DTEND;TZID=America/Chicago:20260529T093000
DTSTAMP:20260422T071854
CREATED:20260410T202657Z
LAST-MODIFIED:20260414T213618Z
UID:10010523-1780043400-1780047000@www.blackrivercountry.net
SUMMARY:Vinyasa Power Yoga
DESCRIPTION:
URL:https://www.blackrivercountry.net/event/vinyasa-power-yoga/2026-05-29/
LOCATION:Lunda Community Center\, 405 WI-54 Trunk\, Black River Falls\, WI\, 54615\, United States
ATTACH;FMTTYPE=image/png:https://www.blackrivercountry.net/wp-content/uploads/Vinyasa-Power-Yoga.png
GEO:44.2909017;-90.8632686
X-APPLE-STRUCTURED-LOCATION;VALUE=URI;X-ADDRESS=Lunda Community Center 405 WI-54 Trunk Black River Falls WI 54615 United States;X-APPLE-RADIUS=500;X-TITLE=405 WI-54 Trunk:geo:-90.8632686,44.2909017
END:VEVENT
END:VCALENDAR