BEGIN:VCALENDAR
VERSION:2.0
PRODID:-//Black River Area Chamber of Commerce - ECPv6.15.20//NONSGML v1.0//EN
CALSCALE:GREGORIAN
METHOD:PUBLISH
X-WR-CALNAME:Black River Area Chamber of Commerce
X-ORIGINAL-URL:https://www.blackrivercountry.net
X-WR-CALDESC:Events for Black River Area Chamber of Commerce
REFRESH-INTERVAL;VALUE=DURATION:PT1H
X-Robots-Tag:noindex
X-PUBLISHED-TTL:PT1H
BEGIN:VTIMEZONE
TZID:America/Chicago
BEGIN:DAYLIGHT
TZOFFSETFROM:-0600
TZOFFSETTO:-0500
TZNAME:CDT
DTSTART:20250309T080000
END:DAYLIGHT
BEGIN:STANDARD
TZOFFSETFROM:-0500
TZOFFSETTO:-0600
TZNAME:CST
DTSTART:20251102T070000
END:STANDARD
BEGIN:DAYLIGHT
TZOFFSETFROM:-0600
TZOFFSETTO:-0500
TZNAME:CDT
DTSTART:20260308T080000
END:DAYLIGHT
BEGIN:STANDARD
TZOFFSETFROM:-0500
TZOFFSETTO:-0600
TZNAME:CST
DTSTART:20261101T070000
END:STANDARD
BEGIN:DAYLIGHT
TZOFFSETFROM:-0600
TZOFFSETTO:-0500
TZNAME:CDT
DTSTART:20270314T080000
END:DAYLIGHT
BEGIN:STANDARD
TZOFFSETFROM:-0500
TZOFFSETTO:-0600
TZNAME:CST
DTSTART:20271107T070000
END:STANDARD
BEGIN:DAYLIGHT
TZOFFSETFROM:-0600
TZOFFSETTO:-0500
TZNAME:CDT
DTSTART:20280312T080000
END:DAYLIGHT
BEGIN:STANDARD
TZOFFSETFROM:-0500
TZOFFSETTO:-0600
TZNAME:CST
DTSTART:20281105T070000
END:STANDARD
END:VTIMEZONE
BEGIN:VEVENT
DTSTART;TZID=America/Chicago:20261106T083000
DTEND;TZID=America/Chicago:20261106T093000
DTSTAMP:20260422T085646
CREATED:20260410T202657Z
LAST-MODIFIED:20260414T213618Z
UID:10010546-1793953800-1793957400@www.blackrivercountry.net
SUMMARY:Vinyasa Power Yoga
DESCRIPTION:
URL:https://www.blackrivercountry.net/event/vinyasa-power-yoga/2026-11-06/
LOCATION:Lunda Community Center\, 405 WI-54 Trunk\, Black River Falls\, WI\, 54615\, United States
ATTACH;FMTTYPE=image/png:https://www.blackrivercountry.net/wp-content/uploads/Vinyasa-Power-Yoga.png
GEO:44.2909017;-90.8632686
X-APPLE-STRUCTURED-LOCATION;VALUE=URI;X-ADDRESS=Lunda Community Center 405 WI-54 Trunk Black River Falls WI 54615 United States;X-APPLE-RADIUS=500;X-TITLE=405 WI-54 Trunk:geo:-90.8632686,44.2909017
END:VEVENT
BEGIN:VEVENT
DTSTART;TZID=America/Chicago:20261111T150000
DTEND;TZID=America/Chicago:20261111T173000
DTSTAMP:20260422T085646
CREATED:20260414T212310Z
LAST-MODIFIED:20260414T212312Z
UID:10010056-1794409200-1794418200@www.blackrivercountry.net
SUMMARY:Games After School @ Lunda Community Center
DESCRIPTION:
URL:https://www.blackrivercountry.net/event/games-after-school-lunda-community-center-2/2026-11-11/
LOCATION:Lunda Community Center\, 405 WI-54 Trunk\, Black River Falls\, WI\, 54615\, United States
ATTACH;FMTTYPE=image/jpeg:https://www.blackrivercountry.net/wp-content/uploads/641463348_1396069665650305_4539250192707957092_n.jpg
GEO:44.2909017;-90.8632686
X-APPLE-STRUCTURED-LOCATION;VALUE=URI;X-ADDRESS=Lunda Community Center 405 WI-54 Trunk Black River Falls WI 54615 United States;X-APPLE-RADIUS=500;X-TITLE=405 WI-54 Trunk:geo:-90.8632686,44.2909017
END:VEVENT
BEGIN:VEVENT
DTSTART;TZID=America/Chicago:20261111T173000
DTEND;TZID=America/Chicago:20261111T193000
DTSTAMP:20260422T085646
CREATED:20241227T162211Z
LAST-MODIFIED:20260414T212427Z
UID:10008185-1794418200-1794425400@www.blackrivercountry.net
SUMMARY:Game Night @Lunda Community Center
DESCRIPTION:
URL:https://www.blackrivercountry.net/event/game-night-all-day-lunda-community-center/2026-11-11/
LOCATION:Lunda Community Center\, 405 WI-54 Trunk\, Black River Falls\, WI\, 54615\, United States
ATTACH;FMTTYPE=image/jpeg:https://www.blackrivercountry.net/wp-content/uploads/669355474_1431586712098600_7873493393374273283_n.jpg
GEO:44.2909017;-90.8632686
X-APPLE-STRUCTURED-LOCATION;VALUE=URI;X-ADDRESS=Lunda Community Center 405 WI-54 Trunk Black River Falls WI 54615 United States;X-APPLE-RADIUS=500;X-TITLE=405 WI-54 Trunk:geo:-90.8632686,44.2909017
END:VEVENT
BEGIN:VEVENT
DTSTART;TZID=America/Chicago:20261113T083000
DTEND;TZID=America/Chicago:20261113T093000
DTSTAMP:20260422T085646
CREATED:20260410T202657Z
LAST-MODIFIED:20260414T213618Z
UID:10010547-1794558600-1794562200@www.blackrivercountry.net
SUMMARY:Vinyasa Power Yoga
DESCRIPTION:
URL:https://www.blackrivercountry.net/event/vinyasa-power-yoga/2026-11-13/
LOCATION:Lunda Community Center\, 405 WI-54 Trunk\, Black River Falls\, WI\, 54615\, United States
ATTACH;FMTTYPE=image/png:https://www.blackrivercountry.net/wp-content/uploads/Vinyasa-Power-Yoga.png
GEO:44.2909017;-90.8632686
X-APPLE-STRUCTURED-LOCATION;VALUE=URI;X-ADDRESS=Lunda Community Center 405 WI-54 Trunk Black River Falls WI 54615 United States;X-APPLE-RADIUS=500;X-TITLE=405 WI-54 Trunk:geo:-90.8632686,44.2909017
END:VEVENT
BEGIN:VEVENT
DTSTART;TZID=America/Chicago:20261118T150000
DTEND;TZID=America/Chicago:20261118T173000
DTSTAMP:20260422T085646
CREATED:20260414T212310Z
LAST-MODIFIED:20260414T212312Z
UID:10010057-1795014000-1795023000@www.blackrivercountry.net
SUMMARY:Games After School @ Lunda Community Center
DESCRIPTION:
URL:https://www.blackrivercountry.net/event/games-after-school-lunda-community-center-2/2026-11-18/
LOCATION:Lunda Community Center\, 405 WI-54 Trunk\, Black River Falls\, WI\, 54615\, United States
ATTACH;FMTTYPE=image/jpeg:https://www.blackrivercountry.net/wp-content/uploads/641463348_1396069665650305_4539250192707957092_n.jpg
GEO:44.2909017;-90.8632686
X-APPLE-STRUCTURED-LOCATION;VALUE=URI;X-ADDRESS=Lunda Community Center 405 WI-54 Trunk Black River Falls WI 54615 United States;X-APPLE-RADIUS=500;X-TITLE=405 WI-54 Trunk:geo:-90.8632686,44.2909017
END:VEVENT
BEGIN:VEVENT
DTSTART;TZID=America/Chicago:20261118T173000
DTEND;TZID=America/Chicago:20261118T193000
DTSTAMP:20260422T085646
CREATED:20241227T162211Z
LAST-MODIFIED:20260414T212427Z
UID:10008186-1795023000-1795030200@www.blackrivercountry.net
SUMMARY:Game Night @Lunda Community Center
DESCRIPTION:
URL:https://www.blackrivercountry.net/event/game-night-all-day-lunda-community-center/2026-11-18/
LOCATION:Lunda Community Center\, 405 WI-54 Trunk\, Black River Falls\, WI\, 54615\, United States
ATTACH;FMTTYPE=image/jpeg:https://www.blackrivercountry.net/wp-content/uploads/669355474_1431586712098600_7873493393374273283_n.jpg
GEO:44.2909017;-90.8632686
X-APPLE-STRUCTURED-LOCATION;VALUE=URI;X-ADDRESS=Lunda Community Center 405 WI-54 Trunk Black River Falls WI 54615 United States;X-APPLE-RADIUS=500;X-TITLE=405 WI-54 Trunk:geo:-90.8632686,44.2909017
END:VEVENT
BEGIN:VEVENT
DTSTART;TZID=America/Chicago:20261120T083000
DTEND;TZID=America/Chicago:20261120T093000
DTSTAMP:20260422T085646
CREATED:20260410T202657Z
LAST-MODIFIED:20260414T213618Z
UID:10010548-1795163400-1795167000@www.blackrivercountry.net
SUMMARY:Vinyasa Power Yoga
DESCRIPTION:
URL:https://www.blackrivercountry.net/event/vinyasa-power-yoga/2026-11-20/
LOCATION:Lunda Community Center\, 405 WI-54 Trunk\, Black River Falls\, WI\, 54615\, United States
ATTACH;FMTTYPE=image/png:https://www.blackrivercountry.net/wp-content/uploads/Vinyasa-Power-Yoga.png
GEO:44.2909017;-90.8632686
X-APPLE-STRUCTURED-LOCATION;VALUE=URI;X-ADDRESS=Lunda Community Center 405 WI-54 Trunk Black River Falls WI 54615 United States;X-APPLE-RADIUS=500;X-TITLE=405 WI-54 Trunk:geo:-90.8632686,44.2909017
END:VEVENT
BEGIN:VEVENT
DTSTART;TZID=America/Chicago:20261125T150000
DTEND;TZID=America/Chicago:20261125T173000
DTSTAMP:20260422T085646
CREATED:20260414T212310Z
LAST-MODIFIED:20260414T212312Z
UID:10010058-1795618800-1795627800@www.blackrivercountry.net
SUMMARY:Games After School @ Lunda Community Center
DESCRIPTION:
URL:https://www.blackrivercountry.net/event/games-after-school-lunda-community-center-2/2026-11-25/
LOCATION:Lunda Community Center\, 405 WI-54 Trunk\, Black River Falls\, WI\, 54615\, United States
ATTACH;FMTTYPE=image/jpeg:https://www.blackrivercountry.net/wp-content/uploads/641463348_1396069665650305_4539250192707957092_n.jpg
GEO:44.2909017;-90.8632686
X-APPLE-STRUCTURED-LOCATION;VALUE=URI;X-ADDRESS=Lunda Community Center 405 WI-54 Trunk Black River Falls WI 54615 United States;X-APPLE-RADIUS=500;X-TITLE=405 WI-54 Trunk:geo:-90.8632686,44.2909017
END:VEVENT
BEGIN:VEVENT
DTSTART;TZID=America/Chicago:20261125T173000
DTEND;TZID=America/Chicago:20261125T193000
DTSTAMP:20260422T085646
CREATED:20241227T162211Z
LAST-MODIFIED:20260414T212427Z
UID:10008187-1795627800-1795635000@www.blackrivercountry.net
SUMMARY:Game Night @Lunda Community Center
DESCRIPTION:
URL:https://www.blackrivercountry.net/event/game-night-all-day-lunda-community-center/2026-11-25/
LOCATION:Lunda Community Center\, 405 WI-54 Trunk\, Black River Falls\, WI\, 54615\, United States
ATTACH;FMTTYPE=image/jpeg:https://www.blackrivercountry.net/wp-content/uploads/669355474_1431586712098600_7873493393374273283_n.jpg
GEO:44.2909017;-90.8632686
X-APPLE-STRUCTURED-LOCATION;VALUE=URI;X-ADDRESS=Lunda Community Center 405 WI-54 Trunk Black River Falls WI 54615 United States;X-APPLE-RADIUS=500;X-TITLE=405 WI-54 Trunk:geo:-90.8632686,44.2909017
END:VEVENT
BEGIN:VEVENT
DTSTART;TZID=America/Chicago:20261127T083000
DTEND;TZID=America/Chicago:20261127T093000
DTSTAMP:20260422T085646
CREATED:20260410T202657Z
LAST-MODIFIED:20260414T213618Z
UID:10010549-1795768200-1795771800@www.blackrivercountry.net
SUMMARY:Vinyasa Power Yoga
DESCRIPTION:
URL:https://www.blackrivercountry.net/event/vinyasa-power-yoga/2026-11-27/
LOCATION:Lunda Community Center\, 405 WI-54 Trunk\, Black River Falls\, WI\, 54615\, United States
ATTACH;FMTTYPE=image/png:https://www.blackrivercountry.net/wp-content/uploads/Vinyasa-Power-Yoga.png
GEO:44.2909017;-90.8632686
X-APPLE-STRUCTURED-LOCATION;VALUE=URI;X-ADDRESS=Lunda Community Center 405 WI-54 Trunk Black River Falls WI 54615 United States;X-APPLE-RADIUS=500;X-TITLE=405 WI-54 Trunk:geo:-90.8632686,44.2909017
END:VEVENT
BEGIN:VEVENT
DTSTART;TZID=America/Chicago:20261202T150000
DTEND;TZID=America/Chicago:20261202T173000
DTSTAMP:20260422T085646
CREATED:20260414T212310Z
LAST-MODIFIED:20260414T212312Z
UID:10010059-1796223600-1796232600@www.blackrivercountry.net
SUMMARY:Games After School @ Lunda Community Center
DESCRIPTION:
URL:https://www.blackrivercountry.net/event/games-after-school-lunda-community-center-2/2026-12-02/
LOCATION:Lunda Community Center\, 405 WI-54 Trunk\, Black River Falls\, WI\, 54615\, United States
ATTACH;FMTTYPE=image/jpeg:https://www.blackrivercountry.net/wp-content/uploads/641463348_1396069665650305_4539250192707957092_n.jpg
GEO:44.2909017;-90.8632686
X-APPLE-STRUCTURED-LOCATION;VALUE=URI;X-ADDRESS=Lunda Community Center 405 WI-54 Trunk Black River Falls WI 54615 United States;X-APPLE-RADIUS=500;X-TITLE=405 WI-54 Trunk:geo:-90.8632686,44.2909017
END:VEVENT
BEGIN:VEVENT
DTSTART;TZID=America/Chicago:20261202T173000
DTEND;TZID=America/Chicago:20261202T193000
DTSTAMP:20260422T085646
CREATED:20241227T162211Z
LAST-MODIFIED:20260414T212427Z
UID:10008188-1796232600-1796239800@www.blackrivercountry.net
SUMMARY:Game Night @Lunda Community Center
DESCRIPTION:
URL:https://www.blackrivercountry.net/event/game-night-all-day-lunda-community-center/2026-12-02/
LOCATION:Lunda Community Center\, 405 WI-54 Trunk\, Black River Falls\, WI\, 54615\, United States
ATTACH;FMTTYPE=image/jpeg:https://www.blackrivercountry.net/wp-content/uploads/669355474_1431586712098600_7873493393374273283_n.jpg
GEO:44.2909017;-90.8632686
X-APPLE-STRUCTURED-LOCATION;VALUE=URI;X-ADDRESS=Lunda Community Center 405 WI-54 Trunk Black River Falls WI 54615 United States;X-APPLE-RADIUS=500;X-TITLE=405 WI-54 Trunk:geo:-90.8632686,44.2909017
END:VEVENT
BEGIN:VEVENT
DTSTART;TZID=America/Chicago:20261204T083000
DTEND;TZID=America/Chicago:20261204T093000
DTSTAMP:20260422T085646
CREATED:20260410T202657Z
LAST-MODIFIED:20260414T213618Z
UID:10010550-1796373000-1796376600@www.blackrivercountry.net
SUMMARY:Vinyasa Power Yoga
DESCRIPTION:
URL:https://www.blackrivercountry.net/event/vinyasa-power-yoga/2026-12-04/
LOCATION:Lunda Community Center\, 405 WI-54 Trunk\, Black River Falls\, WI\, 54615\, United States
ATTACH;FMTTYPE=image/png:https://www.blackrivercountry.net/wp-content/uploads/Vinyasa-Power-Yoga.png
GEO:44.2909017;-90.8632686
X-APPLE-STRUCTURED-LOCATION;VALUE=URI;X-ADDRESS=Lunda Community Center 405 WI-54 Trunk Black River Falls WI 54615 United States;X-APPLE-RADIUS=500;X-TITLE=405 WI-54 Trunk:geo:-90.8632686,44.2909017
END:VEVENT
BEGIN:VEVENT
DTSTART;TZID=America/Chicago:20261209T150000
DTEND;TZID=America/Chicago:20261209T173000
DTSTAMP:20260422T085646
CREATED:20260414T212310Z
LAST-MODIFIED:20260414T212312Z
UID:10010060-1796828400-1796837400@www.blackrivercountry.net
SUMMARY:Games After School @ Lunda Community Center
DESCRIPTION:
URL:https://www.blackrivercountry.net/event/games-after-school-lunda-community-center-2/2026-12-09/
LOCATION:Lunda Community Center\, 405 WI-54 Trunk\, Black River Falls\, WI\, 54615\, United States
ATTACH;FMTTYPE=image/jpeg:https://www.blackrivercountry.net/wp-content/uploads/641463348_1396069665650305_4539250192707957092_n.jpg
GEO:44.2909017;-90.8632686
X-APPLE-STRUCTURED-LOCATION;VALUE=URI;X-ADDRESS=Lunda Community Center 405 WI-54 Trunk Black River Falls WI 54615 United States;X-APPLE-RADIUS=500;X-TITLE=405 WI-54 Trunk:geo:-90.8632686,44.2909017
END:VEVENT
BEGIN:VEVENT
DTSTART;TZID=America/Chicago:20261209T173000
DTEND;TZID=America/Chicago:20261209T193000
DTSTAMP:20260422T085646
CREATED:20241227T162211Z
LAST-MODIFIED:20260414T212427Z
UID:10008189-1796837400-1796844600@www.blackrivercountry.net
SUMMARY:Game Night @Lunda Community Center
DESCRIPTION:
URL:https://www.blackrivercountry.net/event/game-night-all-day-lunda-community-center/2026-12-09/
LOCATION:Lunda Community Center\, 405 WI-54 Trunk\, Black River Falls\, WI\, 54615\, United States
ATTACH;FMTTYPE=image/jpeg:https://www.blackrivercountry.net/wp-content/uploads/669355474_1431586712098600_7873493393374273283_n.jpg
GEO:44.2909017;-90.8632686
X-APPLE-STRUCTURED-LOCATION;VALUE=URI;X-ADDRESS=Lunda Community Center 405 WI-54 Trunk Black River Falls WI 54615 United States;X-APPLE-RADIUS=500;X-TITLE=405 WI-54 Trunk:geo:-90.8632686,44.2909017
END:VEVENT
BEGIN:VEVENT
DTSTART;TZID=America/Chicago:20261211T083000
DTEND;TZID=America/Chicago:20261211T093000
DTSTAMP:20260422T085646
CREATED:20260410T202657Z
LAST-MODIFIED:20260414T213618Z
UID:10010551-1796977800-1796981400@www.blackrivercountry.net
SUMMARY:Vinyasa Power Yoga
DESCRIPTION:
URL:https://www.blackrivercountry.net/event/vinyasa-power-yoga/2026-12-11/
LOCATION:Lunda Community Center\, 405 WI-54 Trunk\, Black River Falls\, WI\, 54615\, United States
ATTACH;FMTTYPE=image/png:https://www.blackrivercountry.net/wp-content/uploads/Vinyasa-Power-Yoga.png
GEO:44.2909017;-90.8632686
X-APPLE-STRUCTURED-LOCATION;VALUE=URI;X-ADDRESS=Lunda Community Center 405 WI-54 Trunk Black River Falls WI 54615 United States;X-APPLE-RADIUS=500;X-TITLE=405 WI-54 Trunk:geo:-90.8632686,44.2909017
END:VEVENT
BEGIN:VEVENT
DTSTART;TZID=America/Chicago:20261216T150000
DTEND;TZID=America/Chicago:20261216T173000
DTSTAMP:20260422T085646
CREATED:20260414T212310Z
LAST-MODIFIED:20260414T212312Z
UID:10010061-1797433200-1797442200@www.blackrivercountry.net
SUMMARY:Games After School @ Lunda Community Center
DESCRIPTION:
URL:https://www.blackrivercountry.net/event/games-after-school-lunda-community-center-2/2026-12-16/
LOCATION:Lunda Community Center\, 405 WI-54 Trunk\, Black River Falls\, WI\, 54615\, United States
ATTACH;FMTTYPE=image/jpeg:https://www.blackrivercountry.net/wp-content/uploads/641463348_1396069665650305_4539250192707957092_n.jpg
GEO:44.2909017;-90.8632686
X-APPLE-STRUCTURED-LOCATION;VALUE=URI;X-ADDRESS=Lunda Community Center 405 WI-54 Trunk Black River Falls WI 54615 United States;X-APPLE-RADIUS=500;X-TITLE=405 WI-54 Trunk:geo:-90.8632686,44.2909017
END:VEVENT
BEGIN:VEVENT
DTSTART;TZID=America/Chicago:20261216T173000
DTEND;TZID=America/Chicago:20261216T193000
DTSTAMP:20260422T085646
CREATED:20241227T162211Z
LAST-MODIFIED:20260414T212427Z
UID:10008190-1797442200-1797449400@www.blackrivercountry.net
SUMMARY:Game Night @Lunda Community Center
DESCRIPTION:
URL:https://www.blackrivercountry.net/event/game-night-all-day-lunda-community-center/2026-12-16/
LOCATION:Lunda Community Center\, 405 WI-54 Trunk\, Black River Falls\, WI\, 54615\, United States
ATTACH;FMTTYPE=image/jpeg:https://www.blackrivercountry.net/wp-content/uploads/669355474_1431586712098600_7873493393374273283_n.jpg
GEO:44.2909017;-90.8632686
X-APPLE-STRUCTURED-LOCATION;VALUE=URI;X-ADDRESS=Lunda Community Center 405 WI-54 Trunk Black River Falls WI 54615 United States;X-APPLE-RADIUS=500;X-TITLE=405 WI-54 Trunk:geo:-90.8632686,44.2909017
END:VEVENT
BEGIN:VEVENT
DTSTART;TZID=America/Chicago:20261218T083000
DTEND;TZID=America/Chicago:20261218T093000
DTSTAMP:20260422T085646
CREATED:20260410T202657Z
LAST-MODIFIED:20260414T213618Z
UID:10010552-1797582600-1797586200@www.blackrivercountry.net
SUMMARY:Vinyasa Power Yoga
DESCRIPTION:
URL:https://www.blackrivercountry.net/event/vinyasa-power-yoga/2026-12-18/
LOCATION:Lunda Community Center\, 405 WI-54 Trunk\, Black River Falls\, WI\, 54615\, United States
ATTACH;FMTTYPE=image/png:https://www.blackrivercountry.net/wp-content/uploads/Vinyasa-Power-Yoga.png
GEO:44.2909017;-90.8632686
X-APPLE-STRUCTURED-LOCATION;VALUE=URI;X-ADDRESS=Lunda Community Center 405 WI-54 Trunk Black River Falls WI 54615 United States;X-APPLE-RADIUS=500;X-TITLE=405 WI-54 Trunk:geo:-90.8632686,44.2909017
END:VEVENT
BEGIN:VEVENT
DTSTART;TZID=America/Chicago:20261223T150000
DTEND;TZID=America/Chicago:20261223T173000
DTSTAMP:20260422T085646
CREATED:20260414T212310Z
LAST-MODIFIED:20260414T212312Z
UID:10010062-1798038000-1798047000@www.blackrivercountry.net
SUMMARY:Games After School @ Lunda Community Center
DESCRIPTION:
URL:https://www.blackrivercountry.net/event/games-after-school-lunda-community-center-2/2026-12-23/
LOCATION:Lunda Community Center\, 405 WI-54 Trunk\, Black River Falls\, WI\, 54615\, United States
ATTACH;FMTTYPE=image/jpeg:https://www.blackrivercountry.net/wp-content/uploads/641463348_1396069665650305_4539250192707957092_n.jpg
GEO:44.2909017;-90.8632686
X-APPLE-STRUCTURED-LOCATION;VALUE=URI;X-ADDRESS=Lunda Community Center 405 WI-54 Trunk Black River Falls WI 54615 United States;X-APPLE-RADIUS=500;X-TITLE=405 WI-54 Trunk:geo:-90.8632686,44.2909017
END:VEVENT
BEGIN:VEVENT
DTSTART;TZID=America/Chicago:20261223T173000
DTEND;TZID=America/Chicago:20261223T193000
DTSTAMP:20260422T085646
CREATED:20241227T162211Z
LAST-MODIFIED:20260414T212427Z
UID:10008191-1798047000-1798054200@www.blackrivercountry.net
SUMMARY:Game Night @Lunda Community Center
DESCRIPTION:
URL:https://www.blackrivercountry.net/event/game-night-all-day-lunda-community-center/2026-12-23/
LOCATION:Lunda Community Center\, 405 WI-54 Trunk\, Black River Falls\, WI\, 54615\, United States
ATTACH;FMTTYPE=image/jpeg:https://www.blackrivercountry.net/wp-content/uploads/669355474_1431586712098600_7873493393374273283_n.jpg
GEO:44.2909017;-90.8632686
X-APPLE-STRUCTURED-LOCATION;VALUE=URI;X-ADDRESS=Lunda Community Center 405 WI-54 Trunk Black River Falls WI 54615 United States;X-APPLE-RADIUS=500;X-TITLE=405 WI-54 Trunk:geo:-90.8632686,44.2909017
END:VEVENT
BEGIN:VEVENT
DTSTART;TZID=America/Chicago:20261225T083000
DTEND;TZID=America/Chicago:20261225T093000
DTSTAMP:20260422T085646
CREATED:20260410T202657Z
LAST-MODIFIED:20260414T213618Z
UID:10010553-1798187400-1798191000@www.blackrivercountry.net
SUMMARY:Vinyasa Power Yoga
DESCRIPTION:
URL:https://www.blackrivercountry.net/event/vinyasa-power-yoga/2026-12-25/
LOCATION:Lunda Community Center\, 405 WI-54 Trunk\, Black River Falls\, WI\, 54615\, United States
ATTACH;FMTTYPE=image/png:https://www.blackrivercountry.net/wp-content/uploads/Vinyasa-Power-Yoga.png
GEO:44.2909017;-90.8632686
X-APPLE-STRUCTURED-LOCATION;VALUE=URI;X-ADDRESS=Lunda Community Center 405 WI-54 Trunk Black River Falls WI 54615 United States;X-APPLE-RADIUS=500;X-TITLE=405 WI-54 Trunk:geo:-90.8632686,44.2909017
END:VEVENT
BEGIN:VEVENT
DTSTART;TZID=America/Chicago:20261230T150000
DTEND;TZID=America/Chicago:20261230T173000
DTSTAMP:20260422T085646
CREATED:20260414T212310Z
LAST-MODIFIED:20260414T212312Z
UID:10010063-1798642800-1798651800@www.blackrivercountry.net
SUMMARY:Games After School @ Lunda Community Center
DESCRIPTION:
URL:https://www.blackrivercountry.net/event/games-after-school-lunda-community-center-2/2026-12-30/
LOCATION:Lunda Community Center\, 405 WI-54 Trunk\, Black River Falls\, WI\, 54615\, United States
ATTACH;FMTTYPE=image/jpeg:https://www.blackrivercountry.net/wp-content/uploads/641463348_1396069665650305_4539250192707957092_n.jpg
GEO:44.2909017;-90.8632686
X-APPLE-STRUCTURED-LOCATION;VALUE=URI;X-ADDRESS=Lunda Community Center 405 WI-54 Trunk Black River Falls WI 54615 United States;X-APPLE-RADIUS=500;X-TITLE=405 WI-54 Trunk:geo:-90.8632686,44.2909017
END:VEVENT
BEGIN:VEVENT
DTSTART;TZID=America/Chicago:20261230T173000
DTEND;TZID=America/Chicago:20261230T193000
DTSTAMP:20260422T085646
CREATED:20241227T162211Z
LAST-MODIFIED:20260414T212427Z
UID:10008192-1798651800-1798659000@www.blackrivercountry.net
SUMMARY:Game Night @Lunda Community Center
DESCRIPTION:
URL:https://www.blackrivercountry.net/event/game-night-all-day-lunda-community-center/2026-12-30/
LOCATION:Lunda Community Center\, 405 WI-54 Trunk\, Black River Falls\, WI\, 54615\, United States
ATTACH;FMTTYPE=image/jpeg:https://www.blackrivercountry.net/wp-content/uploads/669355474_1431586712098600_7873493393374273283_n.jpg
GEO:44.2909017;-90.8632686
X-APPLE-STRUCTURED-LOCATION;VALUE=URI;X-ADDRESS=Lunda Community Center 405 WI-54 Trunk Black River Falls WI 54615 United States;X-APPLE-RADIUS=500;X-TITLE=405 WI-54 Trunk:geo:-90.8632686,44.2909017
END:VEVENT
BEGIN:VEVENT
DTSTART;TZID=America/Chicago:20270101T083000
DTEND;TZID=America/Chicago:20270101T093000
DTSTAMP:20260422T085646
CREATED:20260410T202657Z
LAST-MODIFIED:20260414T213618Z
UID:10010554-1798792200-1798795800@www.blackrivercountry.net
SUMMARY:Vinyasa Power Yoga
DESCRIPTION:
URL:https://www.blackrivercountry.net/event/vinyasa-power-yoga/2027-01-01/
LOCATION:Lunda Community Center\, 405 WI-54 Trunk\, Black River Falls\, WI\, 54615\, United States
ATTACH;FMTTYPE=image/png:https://www.blackrivercountry.net/wp-content/uploads/Vinyasa-Power-Yoga.png
GEO:44.2909017;-90.8632686
X-APPLE-STRUCTURED-LOCATION;VALUE=URI;X-ADDRESS=Lunda Community Center 405 WI-54 Trunk Black River Falls WI 54615 United States;X-APPLE-RADIUS=500;X-TITLE=405 WI-54 Trunk:geo:-90.8632686,44.2909017
END:VEVENT
BEGIN:VEVENT
DTSTART;TZID=America/Chicago:20270106T173000
DTEND;TZID=America/Chicago:20270106T193000
DTSTAMP:20260422T085646
CREATED:20241227T162211Z
LAST-MODIFIED:20260414T212427Z
UID:10008193-1799256600-1799263800@www.blackrivercountry.net
SUMMARY:Game Night @Lunda Community Center
DESCRIPTION:
URL:https://www.blackrivercountry.net/event/game-night-all-day-lunda-community-center/2027-01-06/
LOCATION:Lunda Community Center\, 405 WI-54 Trunk\, Black River Falls\, WI\, 54615\, United States
ATTACH;FMTTYPE=image/jpeg:https://www.blackrivercountry.net/wp-content/uploads/669355474_1431586712098600_7873493393374273283_n.jpg
GEO:44.2909017;-90.8632686
X-APPLE-STRUCTURED-LOCATION;VALUE=URI;X-ADDRESS=Lunda Community Center 405 WI-54 Trunk Black River Falls WI 54615 United States;X-APPLE-RADIUS=500;X-TITLE=405 WI-54 Trunk:geo:-90.8632686,44.2909017
END:VEVENT
BEGIN:VEVENT
DTSTART;TZID=America/Chicago:20270108T083000
DTEND;TZID=America/Chicago:20270108T093000
DTSTAMP:20260422T085646
CREATED:20260410T202657Z
LAST-MODIFIED:20260414T213618Z
UID:10010555-1799397000-1799400600@www.blackrivercountry.net
SUMMARY:Vinyasa Power Yoga
DESCRIPTION:
URL:https://www.blackrivercountry.net/event/vinyasa-power-yoga/2027-01-08/
LOCATION:Lunda Community Center\, 405 WI-54 Trunk\, Black River Falls\, WI\, 54615\, United States
ATTACH;FMTTYPE=image/png:https://www.blackrivercountry.net/wp-content/uploads/Vinyasa-Power-Yoga.png
GEO:44.2909017;-90.8632686
X-APPLE-STRUCTURED-LOCATION;VALUE=URI;X-ADDRESS=Lunda Community Center 405 WI-54 Trunk Black River Falls WI 54615 United States;X-APPLE-RADIUS=500;X-TITLE=405 WI-54 Trunk:geo:-90.8632686,44.2909017
END:VEVENT
BEGIN:VEVENT
DTSTART;TZID=America/Chicago:20270113T173000
DTEND;TZID=America/Chicago:20270113T193000
DTSTAMP:20260422T085646
CREATED:20241227T162211Z
LAST-MODIFIED:20260414T212427Z
UID:10008194-1799861400-1799868600@www.blackrivercountry.net
SUMMARY:Game Night @Lunda Community Center
DESCRIPTION:
URL:https://www.blackrivercountry.net/event/game-night-all-day-lunda-community-center/2027-01-13/
LOCATION:Lunda Community Center\, 405 WI-54 Trunk\, Black River Falls\, WI\, 54615\, United States
ATTACH;FMTTYPE=image/jpeg:https://www.blackrivercountry.net/wp-content/uploads/669355474_1431586712098600_7873493393374273283_n.jpg
GEO:44.2909017;-90.8632686
X-APPLE-STRUCTURED-LOCATION;VALUE=URI;X-ADDRESS=Lunda Community Center 405 WI-54 Trunk Black River Falls WI 54615 United States;X-APPLE-RADIUS=500;X-TITLE=405 WI-54 Trunk:geo:-90.8632686,44.2909017
END:VEVENT
BEGIN:VEVENT
DTSTART;TZID=America/Chicago:20270115T083000
DTEND;TZID=America/Chicago:20270115T093000
DTSTAMP:20260422T085646
CREATED:20260410T202657Z
LAST-MODIFIED:20260414T213618Z
UID:10010556-1800001800-1800005400@www.blackrivercountry.net
SUMMARY:Vinyasa Power Yoga
DESCRIPTION:
URL:https://www.blackrivercountry.net/event/vinyasa-power-yoga/2027-01-15/
LOCATION:Lunda Community Center\, 405 WI-54 Trunk\, Black River Falls\, WI\, 54615\, United States
ATTACH;FMTTYPE=image/png:https://www.blackrivercountry.net/wp-content/uploads/Vinyasa-Power-Yoga.png
GEO:44.2909017;-90.8632686
X-APPLE-STRUCTURED-LOCATION;VALUE=URI;X-ADDRESS=Lunda Community Center 405 WI-54 Trunk Black River Falls WI 54615 United States;X-APPLE-RADIUS=500;X-TITLE=405 WI-54 Trunk:geo:-90.8632686,44.2909017
END:VEVENT
BEGIN:VEVENT
DTSTART;TZID=America/Chicago:20270120T173000
DTEND;TZID=America/Chicago:20270120T193000
DTSTAMP:20260422T085646
CREATED:20241227T162211Z
LAST-MODIFIED:20260414T212427Z
UID:10008195-1800466200-1800473400@www.blackrivercountry.net
SUMMARY:Game Night @Lunda Community Center
DESCRIPTION:
URL:https://www.blackrivercountry.net/event/game-night-all-day-lunda-community-center/2027-01-20/
LOCATION:Lunda Community Center\, 405 WI-54 Trunk\, Black River Falls\, WI\, 54615\, United States
ATTACH;FMTTYPE=image/jpeg:https://www.blackrivercountry.net/wp-content/uploads/669355474_1431586712098600_7873493393374273283_n.jpg
GEO:44.2909017;-90.8632686
X-APPLE-STRUCTURED-LOCATION;VALUE=URI;X-ADDRESS=Lunda Community Center 405 WI-54 Trunk Black River Falls WI 54615 United States;X-APPLE-RADIUS=500;X-TITLE=405 WI-54 Trunk:geo:-90.8632686,44.2909017
END:VEVENT
END:VCALENDAR