BEGIN:VCALENDAR
VERSION:2.0
PRODID:-//Black River Area Chamber of Commerce - ECPv6.15.20//NONSGML v1.0//EN
CALSCALE:GREGORIAN
METHOD:PUBLISH
X-WR-CALNAME:Black River Area Chamber of Commerce
X-ORIGINAL-URL:https://www.blackrivercountry.net
X-WR-CALDESC:Events for Black River Area Chamber of Commerce
REFRESH-INTERVAL;VALUE=DURATION:PT1H
X-Robots-Tag:noindex
X-PUBLISHED-TTL:PT1H
BEGIN:VTIMEZONE
TZID:America/Chicago
BEGIN:DAYLIGHT
TZOFFSETFROM:-0600
TZOFFSETTO:-0500
TZNAME:CDT
DTSTART:20290311T080000
END:DAYLIGHT
BEGIN:STANDARD
TZOFFSETFROM:-0500
TZOFFSETTO:-0600
TZNAME:CST
DTSTART:20291104T070000
END:STANDARD
BEGIN:DAYLIGHT
TZOFFSETFROM:-0600
TZOFFSETTO:-0500
TZNAME:CDT
DTSTART:20300310T080000
END:DAYLIGHT
BEGIN:STANDARD
TZOFFSETFROM:-0500
TZOFFSETTO:-0600
TZNAME:CST
DTSTART:20301103T070000
END:STANDARD
BEGIN:DAYLIGHT
TZOFFSETFROM:-0600
TZOFFSETTO:-0500
TZNAME:CDT
DTSTART:20310309T080000
END:DAYLIGHT
BEGIN:STANDARD
TZOFFSETFROM:-0500
TZOFFSETTO:-0600
TZNAME:CST
DTSTART:20311102T070000
END:STANDARD
END:VTIMEZONE
BEGIN:VEVENT
DTSTART;TZID=America/Chicago:20300130T173000
DTEND;TZID=America/Chicago:20300130T193000
DTSTAMP:20260422T155931
CREATED:20241227T162211Z
LAST-MODIFIED:20260414T212427Z
UID:10008353-1896024600-1896031800@www.blackrivercountry.net
SUMMARY:Game Night @Lunda Community Center
DESCRIPTION:
URL:https://www.blackrivercountry.net/event/game-night-all-day-lunda-community-center/2030-01-30/
LOCATION:Lunda Community Center\, 405 WI-54 Trunk\, Black River Falls\, WI\, 54615\, United States
ATTACH;FMTTYPE=image/jpeg:https://www.blackrivercountry.net/wp-content/uploads/669355474_1431586712098600_7873493393374273283_n.jpg
GEO:44.2909017;-90.8632686
X-APPLE-STRUCTURED-LOCATION;VALUE=URI;X-ADDRESS=Lunda Community Center 405 WI-54 Trunk Black River Falls WI 54615 United States;X-APPLE-RADIUS=500;X-TITLE=405 WI-54 Trunk:geo:-90.8632686,44.2909017
END:VEVENT
BEGIN:VEVENT
DTSTART;TZID=America/Chicago:20300206T173000
DTEND;TZID=America/Chicago:20300206T193000
DTSTAMP:20260422T155931
CREATED:20241227T162211Z
LAST-MODIFIED:20260414T212427Z
UID:10008354-1896629400-1896636600@www.blackrivercountry.net
SUMMARY:Game Night @Lunda Community Center
DESCRIPTION:
URL:https://www.blackrivercountry.net/event/game-night-all-day-lunda-community-center/2030-02-06/
LOCATION:Lunda Community Center\, 405 WI-54 Trunk\, Black River Falls\, WI\, 54615\, United States
ATTACH;FMTTYPE=image/jpeg:https://www.blackrivercountry.net/wp-content/uploads/669355474_1431586712098600_7873493393374273283_n.jpg
GEO:44.2909017;-90.8632686
X-APPLE-STRUCTURED-LOCATION;VALUE=URI;X-ADDRESS=Lunda Community Center 405 WI-54 Trunk Black River Falls WI 54615 United States;X-APPLE-RADIUS=500;X-TITLE=405 WI-54 Trunk:geo:-90.8632686,44.2909017
END:VEVENT
BEGIN:VEVENT
DTSTART;TZID=America/Chicago:20300213T173000
DTEND;TZID=America/Chicago:20300213T193000
DTSTAMP:20260422T155931
CREATED:20241227T162211Z
LAST-MODIFIED:20260414T212427Z
UID:10008355-1897234200-1897241400@www.blackrivercountry.net
SUMMARY:Game Night @Lunda Community Center
DESCRIPTION:
URL:https://www.blackrivercountry.net/event/game-night-all-day-lunda-community-center/2030-02-13/
LOCATION:Lunda Community Center\, 405 WI-54 Trunk\, Black River Falls\, WI\, 54615\, United States
ATTACH;FMTTYPE=image/jpeg:https://www.blackrivercountry.net/wp-content/uploads/669355474_1431586712098600_7873493393374273283_n.jpg
GEO:44.2909017;-90.8632686
X-APPLE-STRUCTURED-LOCATION;VALUE=URI;X-ADDRESS=Lunda Community Center 405 WI-54 Trunk Black River Falls WI 54615 United States;X-APPLE-RADIUS=500;X-TITLE=405 WI-54 Trunk:geo:-90.8632686,44.2909017
END:VEVENT
BEGIN:VEVENT
DTSTART;TZID=America/Chicago:20300220T173000
DTEND;TZID=America/Chicago:20300220T193000
DTSTAMP:20260422T155931
CREATED:20241227T162211Z
LAST-MODIFIED:20260414T212427Z
UID:10008356-1897839000-1897846200@www.blackrivercountry.net
SUMMARY:Game Night @Lunda Community Center
DESCRIPTION:
URL:https://www.blackrivercountry.net/event/game-night-all-day-lunda-community-center/2030-02-20/
LOCATION:Lunda Community Center\, 405 WI-54 Trunk\, Black River Falls\, WI\, 54615\, United States
ATTACH;FMTTYPE=image/jpeg:https://www.blackrivercountry.net/wp-content/uploads/669355474_1431586712098600_7873493393374273283_n.jpg
GEO:44.2909017;-90.8632686
X-APPLE-STRUCTURED-LOCATION;VALUE=URI;X-ADDRESS=Lunda Community Center 405 WI-54 Trunk Black River Falls WI 54615 United States;X-APPLE-RADIUS=500;X-TITLE=405 WI-54 Trunk:geo:-90.8632686,44.2909017
END:VEVENT
BEGIN:VEVENT
DTSTART;TZID=America/Chicago:20300227T173000
DTEND;TZID=America/Chicago:20300227T193000
DTSTAMP:20260422T155931
CREATED:20241227T162211Z
LAST-MODIFIED:20260414T212427Z
UID:10008357-1898443800-1898451000@www.blackrivercountry.net
SUMMARY:Game Night @Lunda Community Center
DESCRIPTION:
URL:https://www.blackrivercountry.net/event/game-night-all-day-lunda-community-center/2030-02-27/
LOCATION:Lunda Community Center\, 405 WI-54 Trunk\, Black River Falls\, WI\, 54615\, United States
ATTACH;FMTTYPE=image/jpeg:https://www.blackrivercountry.net/wp-content/uploads/669355474_1431586712098600_7873493393374273283_n.jpg
GEO:44.2909017;-90.8632686
X-APPLE-STRUCTURED-LOCATION;VALUE=URI;X-ADDRESS=Lunda Community Center 405 WI-54 Trunk Black River Falls WI 54615 United States;X-APPLE-RADIUS=500;X-TITLE=405 WI-54 Trunk:geo:-90.8632686,44.2909017
END:VEVENT
BEGIN:VEVENT
DTSTART;TZID=America/Chicago:20300306T173000
DTEND;TZID=America/Chicago:20300306T193000
DTSTAMP:20260422T155931
CREATED:20241227T162211Z
LAST-MODIFIED:20260414T212427Z
UID:10008358-1899048600-1899055800@www.blackrivercountry.net
SUMMARY:Game Night @Lunda Community Center
DESCRIPTION:
URL:https://www.blackrivercountry.net/event/game-night-all-day-lunda-community-center/2030-03-06/
LOCATION:Lunda Community Center\, 405 WI-54 Trunk\, Black River Falls\, WI\, 54615\, United States
ATTACH;FMTTYPE=image/jpeg:https://www.blackrivercountry.net/wp-content/uploads/669355474_1431586712098600_7873493393374273283_n.jpg
GEO:44.2909017;-90.8632686
X-APPLE-STRUCTURED-LOCATION;VALUE=URI;X-ADDRESS=Lunda Community Center 405 WI-54 Trunk Black River Falls WI 54615 United States;X-APPLE-RADIUS=500;X-TITLE=405 WI-54 Trunk:geo:-90.8632686,44.2909017
END:VEVENT
BEGIN:VEVENT
DTSTART;TZID=America/Chicago:20300313T173000
DTEND;TZID=America/Chicago:20300313T193000
DTSTAMP:20260422T155931
CREATED:20241227T162211Z
LAST-MODIFIED:20260414T212427Z
UID:10008359-1899653400-1899660600@www.blackrivercountry.net
SUMMARY:Game Night @Lunda Community Center
DESCRIPTION:
URL:https://www.blackrivercountry.net/event/game-night-all-day-lunda-community-center/2030-03-13/
LOCATION:Lunda Community Center\, 405 WI-54 Trunk\, Black River Falls\, WI\, 54615\, United States
ATTACH;FMTTYPE=image/jpeg:https://www.blackrivercountry.net/wp-content/uploads/669355474_1431586712098600_7873493393374273283_n.jpg
GEO:44.2909017;-90.8632686
X-APPLE-STRUCTURED-LOCATION;VALUE=URI;X-ADDRESS=Lunda Community Center 405 WI-54 Trunk Black River Falls WI 54615 United States;X-APPLE-RADIUS=500;X-TITLE=405 WI-54 Trunk:geo:-90.8632686,44.2909017
END:VEVENT
BEGIN:VEVENT
DTSTART;TZID=America/Chicago:20300320T173000
DTEND;TZID=America/Chicago:20300320T193000
DTSTAMP:20260422T155931
CREATED:20241227T162211Z
LAST-MODIFIED:20260414T212427Z
UID:10008360-1900258200-1900265400@www.blackrivercountry.net
SUMMARY:Game Night @Lunda Community Center
DESCRIPTION:
URL:https://www.blackrivercountry.net/event/game-night-all-day-lunda-community-center/2030-03-20/
LOCATION:Lunda Community Center\, 405 WI-54 Trunk\, Black River Falls\, WI\, 54615\, United States
ATTACH;FMTTYPE=image/jpeg:https://www.blackrivercountry.net/wp-content/uploads/669355474_1431586712098600_7873493393374273283_n.jpg
GEO:44.2909017;-90.8632686
X-APPLE-STRUCTURED-LOCATION;VALUE=URI;X-ADDRESS=Lunda Community Center 405 WI-54 Trunk Black River Falls WI 54615 United States;X-APPLE-RADIUS=500;X-TITLE=405 WI-54 Trunk:geo:-90.8632686,44.2909017
END:VEVENT
BEGIN:VEVENT
DTSTART;TZID=America/Chicago:20300327T173000
DTEND;TZID=America/Chicago:20300327T193000
DTSTAMP:20260422T155931
CREATED:20241227T162211Z
LAST-MODIFIED:20260414T212427Z
UID:10008361-1900863000-1900870200@www.blackrivercountry.net
SUMMARY:Game Night @Lunda Community Center
DESCRIPTION:
URL:https://www.blackrivercountry.net/event/game-night-all-day-lunda-community-center/2030-03-27/
LOCATION:Lunda Community Center\, 405 WI-54 Trunk\, Black River Falls\, WI\, 54615\, United States
ATTACH;FMTTYPE=image/jpeg:https://www.blackrivercountry.net/wp-content/uploads/669355474_1431586712098600_7873493393374273283_n.jpg
GEO:44.2909017;-90.8632686
X-APPLE-STRUCTURED-LOCATION;VALUE=URI;X-ADDRESS=Lunda Community Center 405 WI-54 Trunk Black River Falls WI 54615 United States;X-APPLE-RADIUS=500;X-TITLE=405 WI-54 Trunk:geo:-90.8632686,44.2909017
END:VEVENT
BEGIN:VEVENT
DTSTART;TZID=America/Chicago:20300403T173000
DTEND;TZID=America/Chicago:20300403T193000
DTSTAMP:20260422T155931
CREATED:20241227T162211Z
LAST-MODIFIED:20260414T212427Z
UID:10008362-1901467800-1901475000@www.blackrivercountry.net
SUMMARY:Game Night @Lunda Community Center
DESCRIPTION:
URL:https://www.blackrivercountry.net/event/game-night-all-day-lunda-community-center/2030-04-03/
LOCATION:Lunda Community Center\, 405 WI-54 Trunk\, Black River Falls\, WI\, 54615\, United States
ATTACH;FMTTYPE=image/jpeg:https://www.blackrivercountry.net/wp-content/uploads/669355474_1431586712098600_7873493393374273283_n.jpg
GEO:44.2909017;-90.8632686
X-APPLE-STRUCTURED-LOCATION;VALUE=URI;X-ADDRESS=Lunda Community Center 405 WI-54 Trunk Black River Falls WI 54615 United States;X-APPLE-RADIUS=500;X-TITLE=405 WI-54 Trunk:geo:-90.8632686,44.2909017
END:VEVENT
BEGIN:VEVENT
DTSTART;TZID=America/Chicago:20300410T173000
DTEND;TZID=America/Chicago:20300410T193000
DTSTAMP:20260422T155931
CREATED:20241227T162211Z
LAST-MODIFIED:20260414T212427Z
UID:10008363-1902072600-1902079800@www.blackrivercountry.net
SUMMARY:Game Night @Lunda Community Center
DESCRIPTION:
URL:https://www.blackrivercountry.net/event/game-night-all-day-lunda-community-center/2030-04-10/
LOCATION:Lunda Community Center\, 405 WI-54 Trunk\, Black River Falls\, WI\, 54615\, United States
ATTACH;FMTTYPE=image/jpeg:https://www.blackrivercountry.net/wp-content/uploads/669355474_1431586712098600_7873493393374273283_n.jpg
GEO:44.2909017;-90.8632686
X-APPLE-STRUCTURED-LOCATION;VALUE=URI;X-ADDRESS=Lunda Community Center 405 WI-54 Trunk Black River Falls WI 54615 United States;X-APPLE-RADIUS=500;X-TITLE=405 WI-54 Trunk:geo:-90.8632686,44.2909017
END:VEVENT
BEGIN:VEVENT
DTSTART;TZID=America/Chicago:20300417T173000
DTEND;TZID=America/Chicago:20300417T193000
DTSTAMP:20260422T155931
CREATED:20241227T162211Z
LAST-MODIFIED:20260414T212427Z
UID:10008364-1902677400-1902684600@www.blackrivercountry.net
SUMMARY:Game Night @Lunda Community Center
DESCRIPTION:
URL:https://www.blackrivercountry.net/event/game-night-all-day-lunda-community-center/2030-04-17/
LOCATION:Lunda Community Center\, 405 WI-54 Trunk\, Black River Falls\, WI\, 54615\, United States
ATTACH;FMTTYPE=image/jpeg:https://www.blackrivercountry.net/wp-content/uploads/669355474_1431586712098600_7873493393374273283_n.jpg
GEO:44.2909017;-90.8632686
X-APPLE-STRUCTURED-LOCATION;VALUE=URI;X-ADDRESS=Lunda Community Center 405 WI-54 Trunk Black River Falls WI 54615 United States;X-APPLE-RADIUS=500;X-TITLE=405 WI-54 Trunk:geo:-90.8632686,44.2909017
END:VEVENT
BEGIN:VEVENT
DTSTART;TZID=America/Chicago:20300424T173000
DTEND;TZID=America/Chicago:20300424T193000
DTSTAMP:20260422T155931
CREATED:20241227T162211Z
LAST-MODIFIED:20260414T212427Z
UID:10008365-1903282200-1903289400@www.blackrivercountry.net
SUMMARY:Game Night @Lunda Community Center
DESCRIPTION:
URL:https://www.blackrivercountry.net/event/game-night-all-day-lunda-community-center/2030-04-24/
LOCATION:Lunda Community Center\, 405 WI-54 Trunk\, Black River Falls\, WI\, 54615\, United States
ATTACH;FMTTYPE=image/jpeg:https://www.blackrivercountry.net/wp-content/uploads/669355474_1431586712098600_7873493393374273283_n.jpg
GEO:44.2909017;-90.8632686
X-APPLE-STRUCTURED-LOCATION;VALUE=URI;X-ADDRESS=Lunda Community Center 405 WI-54 Trunk Black River Falls WI 54615 United States;X-APPLE-RADIUS=500;X-TITLE=405 WI-54 Trunk:geo:-90.8632686,44.2909017
END:VEVENT
BEGIN:VEVENT
DTSTART;TZID=America/Chicago:20300501T173000
DTEND;TZID=America/Chicago:20300501T193000
DTSTAMP:20260422T155931
CREATED:20241227T162211Z
LAST-MODIFIED:20260414T212427Z
UID:10008366-1903887000-1903894200@www.blackrivercountry.net
SUMMARY:Game Night @Lunda Community Center
DESCRIPTION:
URL:https://www.blackrivercountry.net/event/game-night-all-day-lunda-community-center/2030-05-01/
LOCATION:Lunda Community Center\, 405 WI-54 Trunk\, Black River Falls\, WI\, 54615\, United States
ATTACH;FMTTYPE=image/jpeg:https://www.blackrivercountry.net/wp-content/uploads/669355474_1431586712098600_7873493393374273283_n.jpg
GEO:44.2909017;-90.8632686
X-APPLE-STRUCTURED-LOCATION;VALUE=URI;X-ADDRESS=Lunda Community Center 405 WI-54 Trunk Black River Falls WI 54615 United States;X-APPLE-RADIUS=500;X-TITLE=405 WI-54 Trunk:geo:-90.8632686,44.2909017
END:VEVENT
BEGIN:VEVENT
DTSTART;TZID=America/Chicago:20300508T173000
DTEND;TZID=America/Chicago:20300508T193000
DTSTAMP:20260422T155931
CREATED:20241227T162211Z
LAST-MODIFIED:20260414T212427Z
UID:10008367-1904491800-1904499000@www.blackrivercountry.net
SUMMARY:Game Night @Lunda Community Center
DESCRIPTION:
URL:https://www.blackrivercountry.net/event/game-night-all-day-lunda-community-center/2030-05-08/
LOCATION:Lunda Community Center\, 405 WI-54 Trunk\, Black River Falls\, WI\, 54615\, United States
ATTACH;FMTTYPE=image/jpeg:https://www.blackrivercountry.net/wp-content/uploads/669355474_1431586712098600_7873493393374273283_n.jpg
GEO:44.2909017;-90.8632686
X-APPLE-STRUCTURED-LOCATION;VALUE=URI;X-ADDRESS=Lunda Community Center 405 WI-54 Trunk Black River Falls WI 54615 United States;X-APPLE-RADIUS=500;X-TITLE=405 WI-54 Trunk:geo:-90.8632686,44.2909017
END:VEVENT
BEGIN:VEVENT
DTSTART;TZID=America/Chicago:20300515T173000
DTEND;TZID=America/Chicago:20300515T193000
DTSTAMP:20260422T155931
CREATED:20241227T162211Z
LAST-MODIFIED:20260414T212427Z
UID:10008368-1905096600-1905103800@www.blackrivercountry.net
SUMMARY:Game Night @Lunda Community Center
DESCRIPTION:
URL:https://www.blackrivercountry.net/event/game-night-all-day-lunda-community-center/2030-05-15/
LOCATION:Lunda Community Center\, 405 WI-54 Trunk\, Black River Falls\, WI\, 54615\, United States
ATTACH;FMTTYPE=image/jpeg:https://www.blackrivercountry.net/wp-content/uploads/669355474_1431586712098600_7873493393374273283_n.jpg
GEO:44.2909017;-90.8632686
X-APPLE-STRUCTURED-LOCATION;VALUE=URI;X-ADDRESS=Lunda Community Center 405 WI-54 Trunk Black River Falls WI 54615 United States;X-APPLE-RADIUS=500;X-TITLE=405 WI-54 Trunk:geo:-90.8632686,44.2909017
END:VEVENT
BEGIN:VEVENT
DTSTART;TZID=America/Chicago:20300522T173000
DTEND;TZID=America/Chicago:20300522T193000
DTSTAMP:20260422T155931
CREATED:20241227T162211Z
LAST-MODIFIED:20260414T212427Z
UID:10008369-1905701400-1905708600@www.blackrivercountry.net
SUMMARY:Game Night @Lunda Community Center
DESCRIPTION:
URL:https://www.blackrivercountry.net/event/game-night-all-day-lunda-community-center/2030-05-22/
LOCATION:Lunda Community Center\, 405 WI-54 Trunk\, Black River Falls\, WI\, 54615\, United States
ATTACH;FMTTYPE=image/jpeg:https://www.blackrivercountry.net/wp-content/uploads/669355474_1431586712098600_7873493393374273283_n.jpg
GEO:44.2909017;-90.8632686
X-APPLE-STRUCTURED-LOCATION;VALUE=URI;X-ADDRESS=Lunda Community Center 405 WI-54 Trunk Black River Falls WI 54615 United States;X-APPLE-RADIUS=500;X-TITLE=405 WI-54 Trunk:geo:-90.8632686,44.2909017
END:VEVENT
BEGIN:VEVENT
DTSTART;TZID=America/Chicago:20300529T173000
DTEND;TZID=America/Chicago:20300529T193000
DTSTAMP:20260422T155931
CREATED:20241227T162211Z
LAST-MODIFIED:20260414T212427Z
UID:10008370-1906306200-1906313400@www.blackrivercountry.net
SUMMARY:Game Night @Lunda Community Center
DESCRIPTION:
URL:https://www.blackrivercountry.net/event/game-night-all-day-lunda-community-center/2030-05-29/
LOCATION:Lunda Community Center\, 405 WI-54 Trunk\, Black River Falls\, WI\, 54615\, United States
ATTACH;FMTTYPE=image/jpeg:https://www.blackrivercountry.net/wp-content/uploads/669355474_1431586712098600_7873493393374273283_n.jpg
GEO:44.2909017;-90.8632686
X-APPLE-STRUCTURED-LOCATION;VALUE=URI;X-ADDRESS=Lunda Community Center 405 WI-54 Trunk Black River Falls WI 54615 United States;X-APPLE-RADIUS=500;X-TITLE=405 WI-54 Trunk:geo:-90.8632686,44.2909017
END:VEVENT
BEGIN:VEVENT
DTSTART;TZID=America/Chicago:20300605T173000
DTEND;TZID=America/Chicago:20300605T193000
DTSTAMP:20260422T155931
CREATED:20241227T162211Z
LAST-MODIFIED:20260414T212427Z
UID:10008371-1906911000-1906918200@www.blackrivercountry.net
SUMMARY:Game Night @Lunda Community Center
DESCRIPTION:
URL:https://www.blackrivercountry.net/event/game-night-all-day-lunda-community-center/2030-06-05/
LOCATION:Lunda Community Center\, 405 WI-54 Trunk\, Black River Falls\, WI\, 54615\, United States
ATTACH;FMTTYPE=image/jpeg:https://www.blackrivercountry.net/wp-content/uploads/669355474_1431586712098600_7873493393374273283_n.jpg
GEO:44.2909017;-90.8632686
X-APPLE-STRUCTURED-LOCATION;VALUE=URI;X-ADDRESS=Lunda Community Center 405 WI-54 Trunk Black River Falls WI 54615 United States;X-APPLE-RADIUS=500;X-TITLE=405 WI-54 Trunk:geo:-90.8632686,44.2909017
END:VEVENT
BEGIN:VEVENT
DTSTART;TZID=America/Chicago:20300612T173000
DTEND;TZID=America/Chicago:20300612T193000
DTSTAMP:20260422T155931
CREATED:20241227T162211Z
LAST-MODIFIED:20260414T212427Z
UID:10008372-1907515800-1907523000@www.blackrivercountry.net
SUMMARY:Game Night @Lunda Community Center
DESCRIPTION:
URL:https://www.blackrivercountry.net/event/game-night-all-day-lunda-community-center/2030-06-12/
LOCATION:Lunda Community Center\, 405 WI-54 Trunk\, Black River Falls\, WI\, 54615\, United States
ATTACH;FMTTYPE=image/jpeg:https://www.blackrivercountry.net/wp-content/uploads/669355474_1431586712098600_7873493393374273283_n.jpg
GEO:44.2909017;-90.8632686
X-APPLE-STRUCTURED-LOCATION;VALUE=URI;X-ADDRESS=Lunda Community Center 405 WI-54 Trunk Black River Falls WI 54615 United States;X-APPLE-RADIUS=500;X-TITLE=405 WI-54 Trunk:geo:-90.8632686,44.2909017
END:VEVENT
BEGIN:VEVENT
DTSTART;TZID=America/Chicago:20300619T173000
DTEND;TZID=America/Chicago:20300619T193000
DTSTAMP:20260422T155931
CREATED:20241227T162211Z
LAST-MODIFIED:20260414T212427Z
UID:10008373-1908120600-1908127800@www.blackrivercountry.net
SUMMARY:Game Night @Lunda Community Center
DESCRIPTION:
URL:https://www.blackrivercountry.net/event/game-night-all-day-lunda-community-center/2030-06-19/
LOCATION:Lunda Community Center\, 405 WI-54 Trunk\, Black River Falls\, WI\, 54615\, United States
ATTACH;FMTTYPE=image/jpeg:https://www.blackrivercountry.net/wp-content/uploads/669355474_1431586712098600_7873493393374273283_n.jpg
GEO:44.2909017;-90.8632686
X-APPLE-STRUCTURED-LOCATION;VALUE=URI;X-ADDRESS=Lunda Community Center 405 WI-54 Trunk Black River Falls WI 54615 United States;X-APPLE-RADIUS=500;X-TITLE=405 WI-54 Trunk:geo:-90.8632686,44.2909017
END:VEVENT
BEGIN:VEVENT
DTSTART;TZID=America/Chicago:20300626T173000
DTEND;TZID=America/Chicago:20300626T193000
DTSTAMP:20260422T155931
CREATED:20241227T162211Z
LAST-MODIFIED:20260414T212427Z
UID:10009001-1908725400-1908732600@www.blackrivercountry.net
SUMMARY:Game Night @Lunda Community Center
DESCRIPTION:
URL:https://www.blackrivercountry.net/event/game-night-all-day-lunda-community-center/2030-06-26/
LOCATION:Lunda Community Center\, 405 WI-54 Trunk\, Black River Falls\, WI\, 54615\, United States
ATTACH;FMTTYPE=image/jpeg:https://www.blackrivercountry.net/wp-content/uploads/669355474_1431586712098600_7873493393374273283_n.jpg
GEO:44.2909017;-90.8632686
X-APPLE-STRUCTURED-LOCATION;VALUE=URI;X-ADDRESS=Lunda Community Center 405 WI-54 Trunk Black River Falls WI 54615 United States;X-APPLE-RADIUS=500;X-TITLE=405 WI-54 Trunk:geo:-90.8632686,44.2909017
END:VEVENT
BEGIN:VEVENT
DTSTART;TZID=America/Chicago:20300703T173000
DTEND;TZID=America/Chicago:20300703T193000
DTSTAMP:20260422T155931
CREATED:20241227T162211Z
LAST-MODIFIED:20260414T212427Z
UID:10009002-1909330200-1909337400@www.blackrivercountry.net
SUMMARY:Game Night @Lunda Community Center
DESCRIPTION:
URL:https://www.blackrivercountry.net/event/game-night-all-day-lunda-community-center/2030-07-03/
LOCATION:Lunda Community Center\, 405 WI-54 Trunk\, Black River Falls\, WI\, 54615\, United States
ATTACH;FMTTYPE=image/jpeg:https://www.blackrivercountry.net/wp-content/uploads/669355474_1431586712098600_7873493393374273283_n.jpg
GEO:44.2909017;-90.8632686
X-APPLE-STRUCTURED-LOCATION;VALUE=URI;X-ADDRESS=Lunda Community Center 405 WI-54 Trunk Black River Falls WI 54615 United States;X-APPLE-RADIUS=500;X-TITLE=405 WI-54 Trunk:geo:-90.8632686,44.2909017
END:VEVENT
BEGIN:VEVENT
DTSTART;TZID=America/Chicago:20300710T173000
DTEND;TZID=America/Chicago:20300710T193000
DTSTAMP:20260422T155931
CREATED:20241227T162211Z
LAST-MODIFIED:20260414T212427Z
UID:10009003-1909935000-1909942200@www.blackrivercountry.net
SUMMARY:Game Night @Lunda Community Center
DESCRIPTION:
URL:https://www.blackrivercountry.net/event/game-night-all-day-lunda-community-center/2030-07-10/
LOCATION:Lunda Community Center\, 405 WI-54 Trunk\, Black River Falls\, WI\, 54615\, United States
ATTACH;FMTTYPE=image/jpeg:https://www.blackrivercountry.net/wp-content/uploads/669355474_1431586712098600_7873493393374273283_n.jpg
GEO:44.2909017;-90.8632686
X-APPLE-STRUCTURED-LOCATION;VALUE=URI;X-ADDRESS=Lunda Community Center 405 WI-54 Trunk Black River Falls WI 54615 United States;X-APPLE-RADIUS=500;X-TITLE=405 WI-54 Trunk:geo:-90.8632686,44.2909017
END:VEVENT
BEGIN:VEVENT
DTSTART;TZID=America/Chicago:20300717T173000
DTEND;TZID=America/Chicago:20300717T193000
DTSTAMP:20260422T155931
CREATED:20241227T162211Z
LAST-MODIFIED:20260414T212427Z
UID:10009004-1910539800-1910547000@www.blackrivercountry.net
SUMMARY:Game Night @Lunda Community Center
DESCRIPTION:
URL:https://www.blackrivercountry.net/event/game-night-all-day-lunda-community-center/2030-07-17/
LOCATION:Lunda Community Center\, 405 WI-54 Trunk\, Black River Falls\, WI\, 54615\, United States
ATTACH;FMTTYPE=image/jpeg:https://www.blackrivercountry.net/wp-content/uploads/669355474_1431586712098600_7873493393374273283_n.jpg
GEO:44.2909017;-90.8632686
X-APPLE-STRUCTURED-LOCATION;VALUE=URI;X-ADDRESS=Lunda Community Center 405 WI-54 Trunk Black River Falls WI 54615 United States;X-APPLE-RADIUS=500;X-TITLE=405 WI-54 Trunk:geo:-90.8632686,44.2909017
END:VEVENT
BEGIN:VEVENT
DTSTART;TZID=America/Chicago:20300724T173000
DTEND;TZID=America/Chicago:20300724T193000
DTSTAMP:20260422T155931
CREATED:20241227T162211Z
LAST-MODIFIED:20260414T212427Z
UID:10009005-1911144600-1911151800@www.blackrivercountry.net
SUMMARY:Game Night @Lunda Community Center
DESCRIPTION:
URL:https://www.blackrivercountry.net/event/game-night-all-day-lunda-community-center/2030-07-24/
LOCATION:Lunda Community Center\, 405 WI-54 Trunk\, Black River Falls\, WI\, 54615\, United States
ATTACH;FMTTYPE=image/jpeg:https://www.blackrivercountry.net/wp-content/uploads/669355474_1431586712098600_7873493393374273283_n.jpg
GEO:44.2909017;-90.8632686
X-APPLE-STRUCTURED-LOCATION;VALUE=URI;X-ADDRESS=Lunda Community Center 405 WI-54 Trunk Black River Falls WI 54615 United States;X-APPLE-RADIUS=500;X-TITLE=405 WI-54 Trunk:geo:-90.8632686,44.2909017
END:VEVENT
BEGIN:VEVENT
DTSTART;TZID=America/Chicago:20300731T173000
DTEND;TZID=America/Chicago:20300731T193000
DTSTAMP:20260422T155931
CREATED:20241227T162211Z
LAST-MODIFIED:20260414T212427Z
UID:10009006-1911749400-1911756600@www.blackrivercountry.net
SUMMARY:Game Night @Lunda Community Center
DESCRIPTION:
URL:https://www.blackrivercountry.net/event/game-night-all-day-lunda-community-center/2030-07-31/
LOCATION:Lunda Community Center\, 405 WI-54 Trunk\, Black River Falls\, WI\, 54615\, United States
ATTACH;FMTTYPE=image/jpeg:https://www.blackrivercountry.net/wp-content/uploads/669355474_1431586712098600_7873493393374273283_n.jpg
GEO:44.2909017;-90.8632686
X-APPLE-STRUCTURED-LOCATION;VALUE=URI;X-ADDRESS=Lunda Community Center 405 WI-54 Trunk Black River Falls WI 54615 United States;X-APPLE-RADIUS=500;X-TITLE=405 WI-54 Trunk:geo:-90.8632686,44.2909017
END:VEVENT
BEGIN:VEVENT
DTSTART;TZID=America/Chicago:20300807T173000
DTEND;TZID=America/Chicago:20300807T193000
DTSTAMP:20260422T155931
CREATED:20241227T162211Z
LAST-MODIFIED:20260414T212427Z
UID:10009007-1912354200-1912361400@www.blackrivercountry.net
SUMMARY:Game Night @Lunda Community Center
DESCRIPTION:
URL:https://www.blackrivercountry.net/event/game-night-all-day-lunda-community-center/2030-08-07/
LOCATION:Lunda Community Center\, 405 WI-54 Trunk\, Black River Falls\, WI\, 54615\, United States
ATTACH;FMTTYPE=image/jpeg:https://www.blackrivercountry.net/wp-content/uploads/669355474_1431586712098600_7873493393374273283_n.jpg
GEO:44.2909017;-90.8632686
X-APPLE-STRUCTURED-LOCATION;VALUE=URI;X-ADDRESS=Lunda Community Center 405 WI-54 Trunk Black River Falls WI 54615 United States;X-APPLE-RADIUS=500;X-TITLE=405 WI-54 Trunk:geo:-90.8632686,44.2909017
END:VEVENT
BEGIN:VEVENT
DTSTART;TZID=America/Chicago:20300814T173000
DTEND;TZID=America/Chicago:20300814T193000
DTSTAMP:20260422T155931
CREATED:20241227T162211Z
LAST-MODIFIED:20260414T212427Z
UID:10009008-1912959000-1912966200@www.blackrivercountry.net
SUMMARY:Game Night @Lunda Community Center
DESCRIPTION:
URL:https://www.blackrivercountry.net/event/game-night-all-day-lunda-community-center/2030-08-14/
LOCATION:Lunda Community Center\, 405 WI-54 Trunk\, Black River Falls\, WI\, 54615\, United States
ATTACH;FMTTYPE=image/jpeg:https://www.blackrivercountry.net/wp-content/uploads/669355474_1431586712098600_7873493393374273283_n.jpg
GEO:44.2909017;-90.8632686
X-APPLE-STRUCTURED-LOCATION;VALUE=URI;X-ADDRESS=Lunda Community Center 405 WI-54 Trunk Black River Falls WI 54615 United States;X-APPLE-RADIUS=500;X-TITLE=405 WI-54 Trunk:geo:-90.8632686,44.2909017
END:VEVENT
BEGIN:VEVENT
DTSTART;TZID=America/Chicago:20300821T173000
DTEND;TZID=America/Chicago:20300821T193000
DTSTAMP:20260422T155931
CREATED:20241227T162211Z
LAST-MODIFIED:20260414T212427Z
UID:10009009-1913563800-1913571000@www.blackrivercountry.net
SUMMARY:Game Night @Lunda Community Center
DESCRIPTION:
URL:https://www.blackrivercountry.net/event/game-night-all-day-lunda-community-center/2030-08-21/
LOCATION:Lunda Community Center\, 405 WI-54 Trunk\, Black River Falls\, WI\, 54615\, United States
ATTACH;FMTTYPE=image/jpeg:https://www.blackrivercountry.net/wp-content/uploads/669355474_1431586712098600_7873493393374273283_n.jpg
GEO:44.2909017;-90.8632686
X-APPLE-STRUCTURED-LOCATION;VALUE=URI;X-ADDRESS=Lunda Community Center 405 WI-54 Trunk Black River Falls WI 54615 United States;X-APPLE-RADIUS=500;X-TITLE=405 WI-54 Trunk:geo:-90.8632686,44.2909017
END:VEVENT
END:VCALENDAR