BEGIN:VCALENDAR
VERSION:2.0
PRODID:-//Black River Area Chamber of Commerce - ECPv6.15.20//NONSGML v1.0//EN
CALSCALE:GREGORIAN
METHOD:PUBLISH
X-ORIGINAL-URL:https://www.blackrivercountry.net
X-WR-CALDESC:Events for Black River Area Chamber of Commerce
REFRESH-INTERVAL;VALUE=DURATION:PT1H
X-Robots-Tag:noindex
X-PUBLISHED-TTL:PT1H
BEGIN:VTIMEZONE
TZID:America/Chicago
BEGIN:DAYLIGHT
TZOFFSETFROM:-0600
TZOFFSETTO:-0500
TZNAME:CDT
DTSTART:20250309T080000
END:DAYLIGHT
BEGIN:STANDARD
TZOFFSETFROM:-0500
TZOFFSETTO:-0600
TZNAME:CST
DTSTART:20251102T070000
END:STANDARD
BEGIN:DAYLIGHT
TZOFFSETFROM:-0600
TZOFFSETTO:-0500
TZNAME:CDT
DTSTART:20260308T080000
END:DAYLIGHT
BEGIN:STANDARD
TZOFFSETFROM:-0500
TZOFFSETTO:-0600
TZNAME:CST
DTSTART:20261101T070000
END:STANDARD
BEGIN:DAYLIGHT
TZOFFSETFROM:-0600
TZOFFSETTO:-0500
TZNAME:CDT
DTSTART:20270314T080000
END:DAYLIGHT
BEGIN:STANDARD
TZOFFSETFROM:-0500
TZOFFSETTO:-0600
TZNAME:CST
DTSTART:20271107T070000
END:STANDARD
END:VTIMEZONE
BEGIN:VEVENT
DTSTART;VALUE=DATE:20260619
DTEND;VALUE=DATE:20260621
DTSTAMP:20260421T031959
CREATED:20260220T165513Z
LAST-MODIFIED:20260415T182420Z
UID:10010015-1781838000-1781924399@www.blackrivercountry.net
SUMMARY:Jackson County Interfaith Volunteer Caregivers' Annual Golf FUNdraiser
DESCRIPTION:Thinking warm summer days and GOLF!\nSave the Date for Interfaith’s Annual Golf FUNdraiser — June 19th!\nOur committee is already rolling\, and we’re excited to team up with our amazing partner CCU to make this year’s event unforgettable.\nWe will be looking for:\n Volunteers\n Golf teams\n Raffle item donors\nIf you’d like to jump in and support the fun\, give us a call at 715‑284‑7058 and let us know how you’d like to help.\n\nGolf Fundraiser Brochure 2026
URL:https://www.blackrivercountry.net/event/jackson-county-interfaith-volunteer-caregivers-annual-golf-fundraiser/
LOCATION:Skyline Golf Course\, United States
ATTACH;FMTTYPE=application/pdf:https://www.blackrivercountry.net/wp-content/uploads/Doc1.pdf
END:VEVENT
END:VCALENDAR